Workbook
Name Excel_BuiltIn_Print_Area: '1. Personale-Mobilità'!$A$1:$J$16

Sheet Overview costi
A1: Allegato B
A2: COMPILARE SOLO LE PARTI IN ROSSO
A3: PROGETTO DI MOBILITA´: TITOLO
A5: PROPONENTE: NOME DELL´ENTE
F7: TOTALE
B8: A | C8: Spese personale | F8: ='1. Personale-Mobilità'!J8 -> 0
B9: B | C9: Spese di viaggio e mobilità | F9: ='1. Personale-Mobilità'!J11 -> 0
B10: C | C10: Famiglia | F10: ='1. Personale-Mobilità'!J13 -> 0
B11: D | C11: Costi del progetto | F11: ='2. Costi del progetto'!F25 -> 0
B12: E | C12: Costi di gestione | F12: ='3. Costi di gestione'!F20 -> 0
A13: TOTALE | F13: =SUM(F8:F12) -> 0
A15: NOTE

Sheet 1. Personale-Mobilità
A1: 1. PERSONALE
A2: COMPILARE LE PARTI IN ROSSO
A7: Cognome e Nome della ricercatrice/ del ricercatore | B7: Inquadramento | C7: Il ricercatore/la ricercatrice riceve giá un compenso dall´ente cui proviene? Se SI, indicare il compenso lordo mensile:* | D7: Numero di mesi* | E7: Full time/part time | F7: Luogo di svolgimento dell'attività | G7: Contributo mensile richiesto al netto di altri compensi ** | H7: Numero di ore/mese *** | I7: contributo/ora | J7: Totale Euro | K7: min 60% Mobilitá
D8: 0 | E8: 1 | F8: estero/presso ente ospitante | G8: 0 | H8: =(1744/12) -> 145.33333 | I8: =G8/H8 -> 0 | J8: =IF(I8>0,I8*H8*(D8+D9),0) -> 0
D9: 0 | F9: mobilità virtuale
D10: 0 | F10: propria sede | K10: =(D8+D9)/D15 -> #DIV/0!
C11: Supplemento Mobilità | D11: =D8 -> 0 | F11: estero/presso ente ospitante | G11: 0 | J11: =G11*D11 -> 0
C13: Trasferimento famiglia (inserire il numero di mesi al netto della mobilitá virtuale) | D13: 0 | F13: estero/presso ente ospitante | G13: 0 | J13: =D13*G13 -> 0
D15: =D8+D9+D10 -> 0 | J15: =SUM(J8:J14) -> 0
J16: Totale personale
A18: * Distinguere l´attività e i mesi svolti in propria sede e quelli svolti presso l'ente ospitante. L´attvità fuori sede presso l´ente ospitante non puó essere inferiore al 60% della durata del progetto: tale calcolo non considera un eventuale periodo di mobilità virtuale (max 2 mesi se la mobilitá (D8) è superiore a 12 mesi)
A19: ** G8: Max 5500 € /mese - C8 Altri compensi; il massimale puó essere aumentato a 8.000 € / mese in casi specifici (vedi bando); G11: max 2000/mese+ eventualmente G13: max 500 €/mese solo per periodo di mobilità (mobilitá virtuale esclusa). Nelle spese per i periodo fuori sede sono da comprendere anche le spese di mobilità (es. affitti per la casa) e viaggio Le quote massime si riferiscono a ricercatori e ricercatrici assunti a tempo pieno per il progetto e sono al netto del compenso già ricevuto dal ricercatore o dalla ricercatrice dall'ente ospitante o da cui proviene, salvo casi approvati
A20: *** FTE: 1744/12

Sheet 2. Costi del progetto
A1: 2. COSTI DEL PROGETTO
A3: Costo massimo ammissibile* | F3: =650*'1. Personale-Mobilità'!D15 -> 0
A6: Tipologia | B6: Unità | C6: Costo unitario | D6: Descrizione | E6: WP: numero e denominazione | F6: Importo (IVA inclusa se non deducibile)
A7: Spese per macchinari e attrezzature
B8: 1 | C8: 0 | F8: =B8*C8 -> 0
B9: 1 | C9: 0 | F9: =B9*C9 -> 0
B10: 1 | C10: 0 | F10: =B10*C10 -> 0
B11: 1 | C11: 0 | F11: =B11*C11 -> 0
B12: 1 | C12: 0 | F12: =B12*C12 -> 0
A13: Spese materiali e consumabili
B14: 1 | C14: 0 | F14: =B14*C14 -> 0
B15: 1 | C15: 0 | F15: =B15*C15 -> 0
B16: 1 | C16: 0 | F16: =B16*C16 -> 0
B17: 1 | C17: 0 | F17: =B17*C17 -> 0
B18: 1 | C18: 0 | F18: =B18*C18 -> 0
A19: Servizi esterni
B20: 1 | C20: 0 | F20: =B20*C20 -> 0
B21: 1 | C21: 0 | F21: =B21*C21 -> 0
B22: 1 | C22: 0 | F22: =B22*C22 -> 0
B23: 1 | C23: 0 | F23: =B23*C23 -> 0
B24: 1 | C24: 0 | F24: =B24*C24 -> 0
A25: TOTALE | F25: =SUM(F7:F24) -> 0
A28: NOTE
A30: * I costi del progetto non possono superare l´importo massimo complessivo riportato in cima al foglio.
A32: Per aggiungere altre righe inserire solo celle interne

Sheet 3. Costi di gestione
A1: 3. COSTI GENERALI
A3: Costo massimo ammissibile* | F3: =400*'1. Personale-Mobilità'!D15 -> 0
A6: Tipologia | B6: Unità/ore | C6: Costo unitario/costo orario | D6: Descrizione | E6: WP: numero e denominazione | F6: Importo (IVA inclusa se non deducibile)
A7: Spese per personale amministrativo
B8: 1 | C8: 0 | F8: =B8*C8 -> 0
B9: 1 | C9: 0 | F9: =B9*C9 -> 0
A10: Spese per tutor e/o supervisore
B11: 1 | C11: 0 | F11: =B11*C11 -> 0
B12: 1 | C12: 0 | F12: =B12*C12 -> 0
A13: Materiale di consumo
B14: 1 | C14: 0 | F14: =B14*C14 -> 0
B15: 1 | C15: 0 | F15: =B15*C15 -> 0
A16: Pubblicazioni
B17: 1 | C17: 0 | F17: =B17*C17 -> 0
B18: 1 | C18: 0 | F18: =B18*C18 -> 0
A19: Affitti
A20: TOTALE | F20: =SUM(F7:F19) -> 0
A22: NOTE
A23: * I costi del progetto non possono superare l´importo massimo complessivo riportato in cima al foglio.
A25: Per aggiungere altre righe, inserire solo celle interne
