Workbook
Name dd_com_desc: OFFSET(#REF!,0,0,COUNTA(#REF!),1)
Name dd_com_desc_max: #REF!
Name dd_desc_approv: #REF!
Name dd_kita_desc: OFFSET(#REF!,0,0,COUNTA(#REF!),1)
Name dd_kita_desc_max: #REF!
Name dd_lst_mod: #REF!

Sheet Domanda POM
A1: Allegato parte integrante della domanda di contributo per iniziative di assistenza e accompagnamento integrative per bambini e ragazzi | I1: Riservato all'Agenzia per la famiglia | AC1: DomandaPOM
A3: Richiedente: | D3: Anno | I3: Numero progressivo domanda | J3: Stato domanda | L3: Rich_Check
D4: 2026/2027 | L4: =IFERROR(VLOOKUP(A4,Enti!A2:B357,2,0),0) -> 0
A6: Nuovo richiedente:
A8: (da compilare qualora non si trova la denominazione nel menu del campo "Richiedente")
A11: Contributo totale richiesto
A12: =IF(SUM(E41,E45,J41,J46,E95,E99,J95,J100,E149,E153,J149,J154)-SUM(C54,C108,C163)<(((E41*80%)+((E45+J41+J46)*67%))+((E95*80%)+((E99+J95+J100)*67%))+((E149*80%)+((E153+J149+J154)*67%))), SUM(E41,E45,J41,J46,E95,E99,J95,J100,E149,E153,J149,J154)-SUM(C54,C108,C163),(((E41*80%)+((E45+J41+J46)*67%))+((E95*80%)+((E99+J95+J100)*67%))+((E149*80%)+((E153+J149+J154)*67%))))+IF((E186+E209-C192-C215)<((E186+E209)*85%), (E186+E209-C192-C215),((E186+E209)*85%)) -> 0
A15: Denominazione progetto 1: | E15: Comune/Comunità comprensoriale che emette il visto per il progetto: | I15: Amministrazione scolastica/asilo nido che emette il visto | L15: Visto_Code
L16: =IFERROR(VLOOKUP(E16,Visto!B2:C124,2,0),"") | M16: Visto: nur eine oder auch mehrere
A18: Indirizzo (Via/Piazza): | C18: numero civico | D18: Luogo di svolgimento | L18: Luogo_Code
L19: =IFERROR(VLOOKUP(D19,Luogo!B2:C119,2,0),"")
A21: Periodo di svolgimento: | B21: dal | C21: al | D21: tot. n. settimane
A24: Giorni settimanali in cui il progetto ha luogo | B24: lunedi | C24: martedi | D24: mercoledi | E24: giovedi | F24: venerdi | G24: Totale giorni a settimana
G25: =COUNTIF(B25:F25,"si") -> 0
A27: Durata giornaliera del progetto: | B27: dalle ore | C27: alle ore | D27: n. ore al giorno | F27: Pausa Pranzo
D28: =C28-B28 -> 0
A30: Totale bambini e giovani iscritti:
A31: di cui residenti in Alto Adige
A34: Numero dei partecipanti previsti: | B34: media dei partecipanti assistiti in contemporanea per settimana
A35: bambini/settimana in età prescolare
A36: bambini/settimana in età scolare
A39: Previsione delle spese del personale | C39: numero complessivo | D39: ore complessive | E39: spesa complessiva preventivata Euro | G39: Previsione spese di gestione ed altre spese | J39: spesa complessiva preventivata Euro
A40: Totali | G40: Totali
A41: A1) Spese del personale: | C41: =SUM(C42:C44) -> 1 | D41: =SUM(D42:D44) -> 0 | E41: =SUM(E42:E44) -> 0 | G41: B) Spese di gestione: | J41: =SUM(J42:J45) -> 0
A42: Responsabile pedagogica/o (1 persona per progetto) | C42: 1 | G42: Affitto (locazione)
A43: Personale con formazione pedagogica | G43: Costi accessori (locazione)
A44: Personale di assistenza | G44: Materiale di consumo | I44: =IF(OR(ISBLANK(F44),ISBLANK(H44)), "",H44*F44)
A45: A2) Spese del personale: | C45: =SUM(C46:C47) -> 0 | D45: =SUM(D46:D47) -> 0 | E45: =SUM(E46:E47) -> 0 | G45: Spese amministrative
A46: Personale amministrativo | G46: C) Spese connesse alle attività dell'ente gestore del progetto: | J46: =J47 -> 0
A47: Personale con altra qualifica/mansione | G47: Altre spese minori, per l'organizzazione e la realizzazione dei progetti, fino a un valore massimo di 1.000,00 euro per progetto
A52: Previsione delle entrate | C52: entrate complessiva preventivata Euro | F52: Indicazione del tipo di collaborazione/sostegno forniti da Comuni o Comunità comprensoriali, scuole dell’infanzia, scuole, organizzazioni, gruppi di interesse o altro, con le relative denominazioni (per es. uso strutture, palestre ecc.)
A53: Totali
A54: D) Entrate per il progetto: | C54: =SUM(C55:C60) -> 0
A55: Mezzi propri
A56: Sponsorizzazioni
A57: Totale quote di partecipazione a carico delle famiglie
A58: Contributo del Comune/Comunità comprensoriale
A59: Contributi da datori di lavoro per i figli dei propri dipendenti
A60: Eventuali altre entrate
A62: Quota di partecipazione per bambino a settimana
...

Sheet Visto
A1: Com_Desc_D | B1: Com_Desc_I | C1: Visto_Code
A2: Aldein | B2: Aldino | C2: 001
A3: Andrian | B3: Andriano | C3: 002
A4: Altrei | B4: Anterivo | C4: 003
A5: Eppan an der Weinstraße | B5: Appiano s. S. d. V. | C5: 004
A6: Hafling | B6: Avelengo | C6: 005
A7: Abtei | B7: Badia | C7: 006
A8: Barbian | B8: Barbiano | C8: 007
A9: Bozen | B9: Bolzano | C9: 008
A10: Prags | B10: Braies | C10: 009
A11: Brenner | B11: Brennero | C11: 010
A12: Brixen | B12: Bressanone | C12: 011
... A124: Bezirksgemeinschaft Wipptal | B124: Comunità comprensoriale Wipptal | C124: 805

Sheet Luogo
A1: Com_Desc_D | B1: Com_Desc_I | C1: Luogo_Code
A2: Aldein | B2: Aldino | C2: 001
A3: Andrian | B3: Andriano | C3: 002
A4: Altrei | B4: Anterivo | C4: 003
A5: Eppan an der Weinstraße | B5: Appiano s. S. d. V. | C5: 004
A6: Hafling | B6: Avelengo | C6: 005
A7: Abtei | B7: Badia | C7: 006
A8: Barbian | B8: Barbiano | C8: 007
A9: Bozen | B9: Bolzano | C9: 008
A10: Prags | B10: Braies | C10: 009
A11: Brenner | B11: Brennero | C11: 010
A12: Brixen | B12: Bressanone | C12: 011
... A119: Sterzing | B119: Vipiteno | C119: 115

Sheet Enti
A1: Title | B1: ID
A2: A.S. Merano sez. Arti Marziali | B2: 28
A3: A.S.D. Dalive - Keep Moving | B3: 29
A4: AFC Eppan | B4: 32
A5: AFC Obermais | B5: 33
A6: AFC Ulten | B6: 34
A7: AHC Eppan | B7: 35
A8: AHC Neumarkt | B8: 36
A9: AHC Toblach | B9: 37
A10: AKADEMIA Centro ricerca e formazione cooperativa sociale | B10: 39
A11: Algunder Jugendtreff Iduna EO | B11: 40
A12: Alpenverein Südtirol | B12: 407
A13: Alpha & Beta Genossenschaft | B13: 41
... A357: Zentrum Narrativ Genossenschaft | B357: 367

Sheet Parameters
A1: si
A2: no
A78: Giorni settimanali in cui il progetto ha luogo
A132: Giorni settimanali in cui il progetto ha luogo
