Workbook

Sheet Gesamtsummen
B2: EGTC IRP - Total project costs and comparative cost overview of project parts
B8: Cost category | C8: Consortium member South Tirol - requested funds (in EUR) | E8: Consortium member Trentino - requested funds (in EUR) | G8: Consortium member Tyrol - requested funds (in EUR) | I8: TOTAL PROJECT- requested funds (in EUR)
B9: Personnel | C9: ='Research Institution SouthTyrol'!J9 -> 0 | E9: ='Research Institution Trentino '!J9 -> 0 | G9: ='Research Institution Tyrol'!J9 -> 0 | I9: =SUM(C9:G9) -> 0
B10: Equipment | C10: ='Research Institution SouthTyrol'!J17 -> 0 | E10: ='Research Institution Trentino '!J17 -> 0 | G10: ='Research Institution Tyrol'!J17 -> 0 | I10: =SUM(C10:G10) -> 0
B11: Material Costs | C11: ='Research Institution SouthTyrol'!J19 -> 0 | E11: ='Research Institution Trentino '!J19 -> 0 | G11: ='Research Institution Tyrol'!J19 -> 0 | I11: =SUM(C11+E11+G11) -> 0
B12: Travel Costs | C12: ='Research Institution SouthTyrol'!J20 -> 0 | E12: ='Research Institution Trentino '!J20 -> 0 | G12: ='Research Institution Tyrol'!J20 -> 0 | I12: =SUM(C12+E12+G12) -> 0
B13: Other Costs | C13: ='Research Institution SouthTyrol'!J21+'Research Institution SouthTyrol'!J25 -> 0 | E13: ='Research Institution Trentino '!J21+'Research Institution Trentino '!J25 -> 0 | G13: ='Research Institution Tyrol'!J21+'Research Institution Tyrol'!J25 -> 0 | I13: =SUM(C13+E13+G13) -> 0
B14: 5 % General Costs | C14: =SUM(C9:C13)*0.05 -> 0 | E14: =SUM(E9:E13)*0.05 -> 0 | G14: =SUM(G9:G13)*0.05 -> 0 | I14: =SUM(C14+E14+G14) -> 0
B17: SUM (in EUR) | C17: =SUM(C9:C14) -> 0 | E17: =SUM(E9:E14) -> 0 | G17: =SUM(G9:G16) -> 0 | I17: =SUM(C17:G17) -> 0
B18: share in % | C18: =C17*100/(C17+E17+G17) -> #DIV/0! | E18: =E17*100/(E17+G17+C17) -> #DIV/0! | G18: =G17*100/(G17+C17+E17) -> #DIV/0! | I18: =I17*100/(C17+E17+G17) -> #DIV/0!
B20: Note: If the spread between the highest subtotal and the lowest subtotal of the three individual project parts exceeds the threshold value of 10% of the overall total costs and / or an amount within the category "Other costs" for South Tyrolean or Trentino project parts exceeds the threshold value of 30% of the respective subtotal of the South Tyrolean or Trentino project part, then cells are highlighted in red. This is only an indication, not a legally binding approval.
B22: EGTC Euregio Science Fund 5th call for IN - Form total project costs and comparative cost overview - 04/2024

Sheet Research Institution SouthTyrol
A1: Name of Consortium member
A3: Personal | B3: Position | C3: Projektmitarbeiter:in | F3: Ausmaß % | G3: 1.Jahr | H3: 2.Jahr | I3: 3.Jahr | J3: Summe
A4: (Personnel) | B4: (item) | C4: (project collaborator) | F4: (contribution) | G4: 1st year | H4: 2nd year | I4: 3rd year | J4: (sum)
B5: 01
B6: 02
B7: 03
B8: 04
F9: Zwischensumme Personal (subtotal personnel) | G9: =SUM(G5:G8) -> 0 | H9: =SUM(H5:H8) -> 0 | I9: =SUM(I5:I8) -> 0 | J9: =SUM(G9:I9) -> 0
A11: Geräte | B11: Position | C11: Bezeichnung | G11: 1.Jahr | H11: 2.Jahr | I11: 3.Jahr
A12: (Equipment) | B12: (item) | C12: (designation) | G12: 1st year | H12: 2nd year | I12: 3rd year
B13: 01
B14: 02
B15: 03
B16: 04
F17: Zwischensumme Geräte (subtotal equipment) | G17: =SUM(G13:G16) -> 0 | H17: =SUM(H13:H16) -> 0 | I17: =SUM(I13:I16) -> 0 | J17: =SUM(G17:I17) -> 0
A19: Materialkosten (Costs for supplies & expendables) | J19: =SUM(G19:I19) -> 0
A20: Reisekosten (travel costs) | J20: =SUM(G20:I20) -> 0
A21: Sonstige Kosten (other costs) | J21: =SUM(G21:I21) -> 0
A22: Werkverträge (Contracts for work & services) | C22: WV 01
C23: WV 02
C24: WV 03
E25: Zwischensumme Werkverträge (subtotal contracts) | G25: =SUM(G22:G24) -> 0 | H25: =SUM(H22:H24) -> 0 | I25: =SUM(I22:I24) -> 0 | J25: =SUM(G25:I25) -> 0
F26: Zwischensumme EUR (Interim Total) | G26: =G9+G17+G19+G20+G21+G25 -> 0 | H26: =H9+H17+H19+H20+H21+H25 -> 0 | I26: =I9+I17+I19+I20+I21+I25 -> 0 | J26: =SUM(G26:I26) -> 0
E27: ALLGEMEINE PROJEKTKOSTEN EUR (obligatorisch 5% der Zwischensumme) GENERAL COSTS (compulsory - 5% of the interim total) | G27: =J26*0.05 -> 0
E28: GESAMTSUMME EUR (TOTAL SUM) | F28: =J26+G27 -> 0
C41: ="-" -> -
C42: DV
C43: GB
C44: FS
C49: ="-" -> -
C50: männlich
C51: weiblich

Sheet Research Institution Trentino 
A1: Name of Consortium member
A3: Personal | B3: Position | C3: Projektmitarbeiter:in | F3: Ausmaß % | G3: 1.Jahr | H3: 2.Jahr | I3: 3.Jahr | J3: Summe
A4: (Personnel) | B4: (item) | C4: (project collaborator) | F4: (contribution) | G4: 1st year | H4: 2nd year | I4: 3rd year | J4: (sum)
B5: 01
B6: 02
B7: 03
B8: 04
F9: Zwischensumme Personal (subtotal personnel) | G9: =SUM(G5:G8) -> 0 | H9: =SUM(H5:H8) -> 0 | I9: =SUM(I5:I8) -> 0 | J9: =SUM(G9:I9) -> 0
A11: Geräte | B11: Position | C11: Bezeichnung | G11: 1.Jahr | H11: 2.Jahr | I11: 3.Jahr
A12: (Equipment) | B12: (item) | C12: (designation) | G12: 1st year | H12: 2nd year | I12: 3rd year
B13: 01
B14: 02
B15: 03
B16: 04
F17: Zwischensumme Geräte (subtotal equipment) | G17: =SUM(G13:G16) -> 0 | H17: =SUM(H13:H16) -> 0 | I17: =SUM(I13:I16) -> 0 | J17: =SUM(G17:I17) -> 0
A19: Materialkosten (Costs for supplies & expendables) | J19: =SUM(G19:I19) -> 0
A20: Reisekosten (travel costs) | J20: =SUM(G20:I20) -> 0
A21: Sonstige Kosten (other costs) | J21: =SUM(G21:I21) -> 0
A22: Werkverträge (Contracts for work & services) | C22: WV 01
C23: WV 02
C24: WV 03
E25: Zwischensumme Werkverträge (subtotal contracts) | G25: =SUM(G22:G24) -> 0 | H25: =SUM(H22:H24) -> 0 | I25: =SUM(I22:I24) -> 0 | J25: =SUM(G25:I25) -> 0
F26: Zwischensumme EUR (Interim Total) | G26: =G9+G17+G19+G20+G21+G25 -> 0 | H26: =H9+H17+H19+H20+H21+H25 -> 0 | I26: =I9+I17+I19+I20+I21+I25 -> 0 | J26: =SUM(G26:I26) -> 0
E27: ALLGEMEINE PROJEKTKOSTEN EUR (obligatorisch 5% der Zwischensumme) GENERAL COSTS (compulsory - 5% of the interim total) | G27: =J26*0.05 -> 0
E28: GESAMTSUMME EUR (TOTAL SUM) | F28: =J26+G27 -> 0
C43: ="-" -> -
C44: DV
C45: GB
C46: FS
C51: ="-" -> -
C52: männlich
C53: weiblich

Sheet Research Institution Tyrol
A1: Name of Consortium member
A3: Personal | B3: Position | C3: Projektmitarbeiter:in | F3: Ausmaß % | G3: 1.Jahr | H3: 2.Jahr | I3: 3.Jahr | J3: Summe
A4: (Personnel) | B4: (item) | C4: (project collaborator) | F4: (contribution) | G4: 1st year | H4: 2nd year | I4: 3rd year | J4: (sum)
B5: 01
B6: 02
B7: 03
B8: 04
F9: Zwischensumme Personal (subtotal personnel) | G9: =SUM(G5:G8) -> 0 | H9: =SUM(H5:H8) -> 0 | I9: =SUM(I5:I8) -> 0 | J9: =SUM(G9:I9) -> 0
A11: Geräte | B11: Position | C11: Bezeichnung | G11: 1.Jahr | H11: 2.Jahr | I11: 3.Jahr
A12: (Equipment) | B12: (item) | C12: (designation) | G12: 1st year | H12: 2nd year | I12: 3rd year
B13: 01
B14: 02
B15: 03
B16: 04
F17: Zwischensumme Geräte (subtotal equipment) | G17: =SUM(G13:G16) -> 0 | H17: =SUM(H13:H16) -> 0 | I17: =SUM(I13:I16) -> 0 | J17: =SUM(G17:I17) -> 0
A19: Materialkosten (Costs for supplies & expendables) | J19: =SUM(G19:I19) -> 0
A20: Reisekosten (travel costs) | J20: =SUM(G20:I20) -> 0
A21: Sonstige Kosten (other costs) | J21: =SUM(G21:I21) -> 0
A22: Werkverträge (Contracts for work & services) | C22: WV 01
C23: WV 02
C24: WV 03
E25: Zwischensumme Werkverträge (subtotal contracts) | G25: =SUM(G22:G24) -> 0 | H25: =SUM(H22:H24) -> 0 | I25: =SUM(I22:I24) -> 0 | J25: =SUM(G25:I25) -> 0
F26: Zwischensumme EUR (Interim Total) | G26: =G9+G17+G19+G20+G21+G25 -> 0 | H26: =H9+H17+H19+H20+H21+H25 -> 0 | I26: =I9+I17+I19+I20+I21+I25 -> 0 | J26: =SUM(G26:I26) -> 0
E27: ALLGEMEINE PROJEKTKOSTEN EUR (obligatorisch 5% der Zwischensumme) GENERAL COSTS (compulsory - 5% of the interim total) | G27: =J26*0.05 -> 0
E28: GESAMTSUMME EUR (TOTAL SUM) | F28: =J26+G27 -> 0
C40: ="-" -> -
C41: DV
C42: GB
C43: FS
C48: ="-" -> -
C49: männlich
C50: weiblich
