Workbook
Name dd_com_desc: OFFSET(LK_Comuni!$A$2,0,0,COUNTA(LK_Comuni!$A:$A),1)
Name dd_com_desc: OFFSET([1]LK_Comuni!$A$2,0,0,COUNTA([1]LK_Comuni!$A:$A),1)
Name dd_com_desc: OFFSET(#REF!,0,0,COUNTA(#REF!),1)
Name dd_com_desc_max: [2]LK_Comuni!$A$2:$A$64991
Name dd_comAN_desc: OFFSET(LK_Comuni!$F$2,0,0,COUNTA(LK_Comuni!$F:$F),1)
Name dd_comAN_desc: OFFSET([1]LK_Comuni!$F$2,0,0,COUNTA([1]LK_Comuni!$F:$F),1)
Name dd_comAN_desc: OFFSET(#REF!,0,0,COUNTA(#REF!),1)
Name dd_kh_BX_desc: [1]LK_Kinderhorte!$L$14
Name dd_kh_BX_desc: LK_Kinderhorte!$L$14
Name dd_kh_BX_desc: #REF!
Name dd_kh_BZ_desc: [1]LK_Kinderhorte!$L$2:$L$11
Name dd_kh_BZ_desc: LK_Kinderhorte!$L$2:$L$11
Name dd_kh_BZ_desc: #REF!
Name dd_kh_desc: OFFSET([1]LK_Kinderhorte!$K$2,0,0,COUNTA([1]LK_Kinderhorte!$K:$K),1)
Name dd_kh_desc: OFFSET(LK_Kinderhorte!$K$2,0,0,COUNTA(LK_Kinderhorte!$K:$K),1)
Name dd_kh_desc: OFFSET(#REF!,0,0,COUNTA(#REF!),1)
Name dd_kh_LV_desc: [1]LK_Kinderhorte!$L$15
Name dd_kh_LV_desc: LK_Kinderhorte!$L$15
Name dd_kh_LV_desc: #REF!
Name dd_kh_ME_desc: [1]LK_Kinderhorte!$L$12:$L$13
Name dd_kh_ME_desc: LK_Kinderhorte!$L$12:$L$13
Name dd_kh_ME_desc: #REF!
Name dd_kh_null: [1]LK_Kinderhorte!$L$99
Name dd_kh_null: LK_Kinderhorte!$L$99
Name dd_kh_null: #REF!
Name dd_lst_mod: [1]Parameters!$A$7:$A$8
Name dd_lst_mod: [1]Parameters!$A$7:$A$8
Name dd_lst_mod: Parameters!$A$7:$A$8

Sheet Domanda attività ordinaria
A1: Anlage Auflistung der bestrittenen Ausgaben - Abrechnung Projekte | I1: Anlage 2) | V1: DomandaKH
A3: Antragsteller: | D3: Projekt: | H3: Zeitraum:
A6: Der/die Unterfertigte erklärt gemäß Artikel 46 und 47 des D.P.R. vom 28.12.2000, Nr. 445, dass die nachstehend aufgelisteten Belege dem einheitlichen
A7: Projektcode (CUP) | E7: zuzuordnen sind und nicht für weitere Beitragsansuchen verwendet wurden.
A9: N.B.: Jeder Beleg muss laufend nummeriert und einzeln mit dem entsprechenden Betrag aufgelistet werden. Falls notwendig, Zeilen und NICHT Spalten einfügen
A10: 1. Personalausgaben
A11: Angestelltes Personal, Referenten/Referentinnen, Spesenrückvergütung - in Bezug auf den Ausgaben- und Finanzierungsplan des Beitragsansuchens Die Kosten für das angestellte Personal werden maximal in der Höhe der Bruttogehälter des Landespersonals anerkannt, Vergütungen für Referenten und Reisespesen werden maximal in der Höhe der geltenden Landestarife anerkannt
A12: Nr. | B12: Art (Lohnstreifen, Rechnungen, Honorarnoten, F24) | C12: Beleg Nr. und Datum | D12: ausgestellt von | E12: Beschreibung | F12: Betrag | G12: Datum Zahlungs-bestätigung | H12: Zahlungsmodalität (Überweisung, Homebanking) | I12: Dem Amt vorbehalten
F13: 0
F14: 0
F15: 0
F16: 0
F17: 0
F18: 0
F19: 0
F20: 0
F21: 0
F22: 0
F23: 0
F24: 0
... F28: 0
A29: Gesamt | F29: =SUM(F13:F28) -> 0
A32: 2. Verwaltungs- und Führungskosten - in Bezug auf den Ausgaben- und Finanzierungsplan des Beitragsansuchens
A33: Nr. | B33: Art (Rechnung, Ausgabenbelege) | C33: Beleg Nr. und Datum | D33: ausgestellt von | E33: Beschreibung | F33: Betrag | G33: Datum Zahlungs-bestätigung | H33: Zahlungsmodalität (Überweisung, Homebanking) | I33: Dem Amt vorbehalten
F34: 0
F35: 0
F36: 0
F37: 0
F38: 0
F39: 0
F40: 0
F41: 0
F42: 0
F43: 0
F44: 0
F45: 0
... F50: 0
A51: Gesamt | F51: =SUM(F34:F50) -> 0
A54: 3. Nachweislich Geleistete Ehrenamtsstunden der Mitglieder (im Ausmaß von max. 25% der Ausgaben (Höchstausmaß von 25.000 Euro)
A55: Nr. | B55: Vor- und Nachname | F55: Gesamtstunden pro Person (20 Euro/Std.) | H55: Betrag | I55: Dem Amt vorbehalten
...

Sheet LK_Comuni
A1: Com_Desc | B1: COM_CODE | C1: Com_Desc_D | D1: Com_Desc_I | E1: COM_DESC_BIL | F1: ComAN_Desc | G1: ComAN_CODE | H1: ComAN_Desc_D | I1: ComAN_Desc_I
A2: =IF('[1]Domanda Asilo Nido'!$I$1="I",LK_Comuni!D2,LK_Comuni!C2) -> Aldino | B2: 001 | C2: Aldein | D2: Aldino | E2: Aldein / Aldino | F2: Bolzano | G2: 008 | H2: Bozen | I2: Bolzano
A3: =IF('[1]Domanda Asilo Nido'!$I$1="I",LK_Comuni!D3,LK_Comuni!C3) -> Andriano | B3: 002 | C3: Andrian | D3: Andriano | E3: Andrian / Andriano | F3: Bressanone | G3: 011 | H3: Brixen | I3: Bressanone
A4: =IF('[1]Domanda Asilo Nido'!$I$1="I",LK_Comuni!D4,LK_Comuni!C4) -> Anterivo | B4: 003 | C4: Altrei | D4: Anterivo | E4: Altrei / Anterivo | F4: =IF('[1]Domanda Asilo Nido'!$I$1="I",LK_Comuni!I4,LK_Comuni!H4) -> Laives | G4: 040 | H4: Leifers | I4: Laives
A5: =IF('[1]Domanda Asilo Nido'!$I$1="I",LK_Comuni!D5,LK_Comuni!C5) -> Appiano s.s.d.v. | B5: 004 | C5: Eppan a.d. Weinstr. | D5: Appiano s.s.d.v. | E5: Eppan a.d. Weinstr. / Appiano s.s.d.v. | F5: =IF('[1]Domanda Asilo Nido'!$I$1="I",LK_Comuni!I5,LK_Comuni!H5) -> Merano | G5: 051 | H5: Meran | I5: Merano
A6: =IF('[1]Domanda Asilo Nido'!$I$1="I",LK_Comuni!D6,LK_Comuni!C6) -> Avelengo | B6: 005 | C6: Hafling | D6: Avelengo | E6: Hafling / Avelengo
A7: =IF('[1]Domanda Asilo Nido'!$I$1="I",LK_Comuni!D7,LK_Comuni!C7) -> Badia | B7: 006 | C7: Abtei | D7: Badia | E7: Abtei / Badia
A8: =IF('[1]Domanda Asilo Nido'!$I$1="I",LK_Comuni!D8,LK_Comuni!C8) -> Barbiano | B8: 007 | C8: Barbian | D8: Barbiano | E8: Barbian / Barbiano
A9: =IF('[1]Domanda Asilo Nido'!$I$1="I",LK_Comuni!D9,LK_Comuni!C9) -> Bolzano | B9: 008 | C9: Bozen | D9: Bolzano | E9: Bozen / Bolzano
A10: =IF('[1]Domanda Asilo Nido'!$I$1="I",LK_Comuni!D10,LK_Comuni!C10) -> Braies | B10: 009 | C10: Prags | D10: Braies | E10: Prags / Braies
A11: =IF('[1]Domanda Asilo Nido'!$I$1="I",LK_Comuni!D11,LK_Comuni!C11) -> Brennero | B11: 010 | C11: Brenner | D11: Brennero | E11: Brenner / Brennero
A12: =IF('[1]Domanda Asilo Nido'!$I$1="I",LK_Comuni!D12,LK_Comuni!C12) -> Bressanone | B12: 011 | C12: Brixen | D12: Bressanone | E12: Brixen / Bressanone
A13: =IF('[1]Domanda Asilo Nido'!$I$1="I",LK_Comuni!D13,LK_Comuni!C13) -> Bronzolo | B13: 012 | C13: Branzoll | D13: Bronzolo | E13: Branzoll / Bronzolo
A14: =IF('[1]Domanda Asilo Nido'!$I$1="I",LK_Comuni!D14,LK_Comuni!C14) -> Brunico | B14: 013 | C14: Bruneck | D14: Brunico | E14: Bruneck / Brunico
A15: =IF('[1]Domanda Asilo Nido'!$I$1="I",LK_Comuni!D15,LK_Comuni!C15) -> Caines | B15: 014 | C15: Kuens | D15: Caines | E15: Kuens / Caines
A16: =IF('[1]Domanda Asilo Nido'!$I$1="I",LK_Comuni!D16,LK_Comuni!C16) -> Caldaro s.s.d.v. | B16: 015 | C16: Kaltern a.d. Weinstr. | D16: Caldaro s.s.d.v. | E16: Kaltern a.d. Weinstr. / Caldaro s.s.d.v.
A17: =IF('[1]Domanda Asilo Nido'!$I$1="I",LK_Comuni!D17,LK_Comuni!C17) -> Campo di Trens | B17: 016 | C17: Freienfeld | D17: Campo di Trens | E17: Freienfeld / Campo di Trens
... A117: =IF('[1]Domanda Asilo Nido'!$I$1="I",LK_Comuni!D117,LK_Comuni!C117) -> Vipiteno | B117: 115 | C117: Sterzing | D117: Vipiteno | E117: Sterzing / Vipiteno

Sheet LK_Kinderhorte
A1: DescKinderhortD | B1: DescKinderhortI | C1: DescComD | D1: DescComI | E1: DescIndD | F1: DescIndI | G1: CapCom | H1: DescLuogoD | I1: DescLuogoI | J1: KinderhortFullNameD | K1: KinderhortFullNameI | L1: KinderhortFullName | M1: KinderhortCode
A2: Die Sonne | B2: Il Sole | C2: Bozen | D2: Bolzano | E2: Mailandstraße 131 | F2: via Milano 131 | G2: 39100 | H2: Bozen | I2: Bolzano | J2: =IF(ISBLANK(A2),"",CONCATENATE(A2,", ",E2,", ",C2)) -> Die Sonne, Mailandstraße 131, Bozen | K2: =IF(ISBLANK(B2),"",CONCATENATE(B2,", ",F2,", ",D2)) -> Il Sole, via Milano 131, Bolzano | L2: =IF('[1]Domanda Asilo Nido'!$I$1="I",K2,J2) -> Il Sole, via Milano 131, Bolzano | M2: 008_01
A3: Das Segelschiff | B3: Il Veliero | C3: Bozen | D3: Bolzano | E3: Venedigerstraße 49 | F3: viale Venezia 49 | G3: 39100 | H3: Bozen | I3: Bolzano | J3: =IF(ISBLANK(A3),"",CONCATENATE(A3,", ",E3,", ",C3)) -> Das Segelschiff, Venedigerstraße 49, Bozen | K3: =IF(ISBLANK(B3),"",CONCATENATE(B3,", ",F3,", ",D3)) -> Il Veliero, viale Venezia 49, Bolzano | L3: =IF('[1]Domanda Asilo Nido'!$I$1="I",K3,J3) -> Il Veliero, viale Venezia 49, Bolzano | M3: 008_02
A4: Das Aquarium | B4: L'Acquario | C4: Bozen | D4: Bolzano | E4: Parmastraße 10 | F4: via Parma 10 | G4: 39100 | H4: Bozen | I4: Bolzano | J4: =IF(ISBLANK(A4),"",CONCATENATE(A4,", ",E4,", ",C4)) -> Das Aquarium , Parmastraße 10 , Bozen | K4: =IF(ISBLANK(B4),"",CONCATENATE(B4,", ",F4,", ",D4)) -> L'Acquario, via Parma 10 , Bolzano | L4: =IF('[1]Domanda Asilo Nido'!$I$1="I",K4,J4) -> L'Acquario, via Parma 10 , Bolzano | M4: 008_03
A5: Die Grille | B5: Il Grillo | C5: Bozen | D5: Bolzano | E5: Genuastraße 94 | F5: via Genova 94 | G5: 39100 | H5: Bozen | I5: Bolzano | J5: =IF(ISBLANK(A5),"",CONCATENATE(A5,", ",E5,", ",C5)) -> Die Grille, Genuastraße 94, Bozen | K5: =IF(ISBLANK(B5),"",CONCATENATE(B5,", ",F5,", ",D5)) -> Il Grillo, via Genova 94 , Bolzano | L5: =IF('[1]Domanda Asilo Nido'!$I$1="I",K5,J5) -> Il Grillo, via Genova 94 , Bolzano | M5: 008_04
A6: Die Wolke | B6: La Nuvola | C6: Bozen | D6: Bolzano | E6: Lagederweg 11 | F6: vicolo Lageder | G6: 39100 | H6: Bozen | I6: Bolzano | J6: =IF(ISBLANK(A6),"",CONCATENATE(A6,", ",E6,", ",C6)) -> Die Wolke, Lagederweg 11, Bozen | K6: =IF(ISBLANK(B6),"",CONCATENATE(B6,", ",F6,", ",D6)) -> La Nuvola, vicolo Lageder , Bolzano | L6: =IF('[1]Domanda Asilo Nido'!$I$1="I",K6,J6) -> La Nuvola, vicolo Lageder , Bolzano | M6: 008_05
A7: Der Pandabär | B7: Il Panda | C7: Bozen | D7: Bolzano | E7: Gaismairstraße 4 | F7: via Gaismair 4 | G7: 39100 | H7: Bozen | I7: Bolzano | J7: =IF(ISBLANK(A7),"",CONCATENATE(A7,", ",E7,", ",C7)) -> Der Pandabär, Gaismairstraße 4, Bozen | K7: =IF(ISBLANK(B7),"",CONCATENATE(B7,", ",F7,", ",D7)) -> Il Panda, via Gaismair 4 , Bolzano | L7: =IF('[1]Domanda Asilo Nido'!$I$1="I",K7,J7) -> Il Panda, via Gaismair 4 , Bolzano | M7: 008_06
A8: Der Schmetterling | B8: La Farfalla | C8: Bozen | D8: Bolzano | E8: St. Johann-Gasse 23/a | F8: vicolo S.Giovanni 23/a | G8: 39100 | H8: Bozen | I8: Bolzano | J8: =IF(ISBLANK(A8),"",CONCATENATE(A8,", ",E8,", ",C8)) -> Der Schmetterling, St. Johann-Gasse 23/a, Bozen | K8: =IF(ISBLANK(B8),"",CONCATENATE(B8,", ",F8,", ",D8)) -> La Farfalla, vicolo S.Giovanni 23/a , Bolzano | L8: =IF('[1]Domanda Asilo Nido'!$I$1="I",K8,J8) -> La Farfalla, vicolo S.Giovanni 23/a , Bolzano | M8: 008_07
A9: Der Vierklee | B9: Il Quadrifoglio | C9: Bozen | D9: Bolzano | E9: Angela-Nikoletti-Platz 9 | F9: piazza Angela Nikoletti 9 | G9: 39100 | H9: Bozen | I9: Bolzano | J9: =IF(ISBLANK(A9),"",CONCATENATE(A9,", ",E9,", ",C9)) -> Der Vierklee, Angela-Nikoletti-Platz 9 , Bozen | K9: =IF(ISBLANK(B9),"",CONCATENATE(B9,", ",F9,", ",D9)) -> Il Quadrifoglio, piazza Angela Nikoletti 9 , Bolzano | L9: =IF('[1]Domanda Asilo Nido'!$I$1="I",K9,J9) -> Il Quadrifoglio, piazza Angela Nikoletti 9 , Bolzano | M9: 008_08
A10: Casanova | B10: Casanova | C10: Bozen | D10: Bolzano | E10: Ortlesstraße 48 | F10: via Ortles 48 | G10: 39100 | H10: Bozen | I10: Bolzano | J10: =IF(ISBLANK(A10),"",CONCATENATE(A10,", ",E10,", ",C10)) -> Casanova, Ortlesstraße 48, Bozen | K10: =IF(ISBLANK(B10),"",CONCATENATE(B10,", ",F10,", ",D10)) -> Casanova, via Ortles 48, Bolzano | L10: =IF('[1]Domanda Asilo Nido'!$I$1="I",K10,J10) -> Casanova, via Ortles 48, Bolzano | M10: 008_09
A11: Firmian | B11: Firmian | C11: Bozen | D11: Bolzano | E11: M-Montessori-Platz 12 | F11: p.zza Montessori 12 | G11: 39100 | H11: Bozen | I11: Bolzano | J11: =IF(ISBLANK(A11),"",CONCATENATE(A11,", ",E11,", ",C11)) -> Firmian, M-Montessori-Platz 12, Bozen | K11: =IF(ISBLANK(B11),"",CONCATENATE(B11,", ",F11,", ",D11)) -> Firmian, p.zza Montessori 12, Bolzano | L11: =IF('[1]Domanda Asilo Nido'!$I$1="I",K11,J11) -> Firmian, p.zza Montessori 12, Bolzano | M11: 008_10
A12: Yosyag | B12: Yosyag | C12: Meran | D12: Merano | E12: Goethestraße 40/C | F12: via Goethe 40/C | G12: 39012 | H12: Meran | I12: Merano | J12: =IF(ISBLANK(A12),"",CONCATENATE(A12,", ",E12,", ",C12)) -> Yosyag, Goethestraße 40/C, Meran | K12: =IF(ISBLANK(B12),"",CONCATENATE(B12,", ",F12,", ",D12)) -> Yosyag, via Goethe 40/C, Merano | L12: =IF('[1]Domanda Asilo Nido'!$I$1="I",K12,J12) -> Yosyag, via Goethe 40/C, Merano | M12: 051_01
A13: Maia | B13: Maia | C13: Meran | D13: Merano | E13: Maiastraße 1 | F13: via Maia 1 | G13: 39012 | H13: Meran | I13: Merano | J13: =IF(ISBLANK(A13),"",CONCATENATE(A13,", ",E13,", ",C13)) -> Maia, Maiastraße 1, Meran | K13: =IF(ISBLANK(B13),"",CONCATENATE(B13,", ",F13,", ",D13)) -> Maia, via Maia 1, Merano | L13: =IF('[1]Domanda Asilo Nido'!$I$1="I",K13,J13) -> Maia, via Maia 1, Merano | M13: 051_02
... A15: Gemeinde Kinderhort | B15: Asilo nido Comunale | C15: Leifers | D15: Laives | E15: Schuldurchgang 28 | F15: Passaggio zona scolastica 28 | G15: 39055 | H15: Leifers | I15: Laives | J15: =IF(ISBLANK(A15),"",CONCATENATE(A15,", ",E15,", ",C15)) -> Gemeinde Kinderhort , Schuldurchgang 28, Leifers | K15: =IF(ISBLANK(B15),"",CONCATENATE(B15,", ",F15,", ",D15)) -> Asilo nido Comunale, Passaggio zona scolastica 28, Laives | L15: =IF('[1]Domanda Asilo Nido'!$I$1="I",K15,J15) -> Asilo nido Comunale, Passaggio zona scolastica 28, Laives | M15: 040_01

Sheet Parameters
A1: PAR_ID | B1: PAR_VALUE
A2: MinTarOrario | B2: 0.9
A3: MaxTarOra | B3: 3.65
A7: Originale | B7: Original | C7: Originale
A8: Da parte dell'Agenzia | B8: Von Amts wegen | C8: Da parte dell'Agenzia
