Workbook
Name dd_com_desc: OFFSET(LK_Comuni!$A$2,0,0,COUNTA(LK_Comuni!$A:$A),1)
Name dd_comAN_desc: OFFSET(LK_Comuni!$F$2,0,0,COUNTA(LK_Comuni!$F:$F),1)
Name dd_kh_BX_desc: LK_Kinderhorte!$L$14
Name dd_kh_BZ_desc: LK_Kinderhorte!$L$2:$L$11
Name dd_kh_desc: OFFSET(LK_Kinderhorte!$K$2,0,0,COUNTA(LK_Kinderhorte!$K:$K),1)
Name dd_kh_LV_desc: LK_Kinderhorte!$L$15
Name dd_kh_ME_desc: LK_Kinderhorte!$L$12:$L$13
Name dd_kh_null: LK_Kinderhorte!$L$99
Name dd_lst_mod: Parameters!$A$7:$A$8

Sheet Rendiconto Handicap Asilo Nido
A1: Allegato parte integrante alla domanda di liquidazione del finanziamento del personale qualificato per l'assistenza individuale a bambini con disabilità | F1: Riservato all'Agenzia per la famiglia | I1: I | Z1: DomandaKH
A3: Comune di: | B3: Anno | F3: Numero domanda | G3: Stato domanda | I3: Com_Code
B4: 2026 | I4: =IFERROR(VLOOKUP(A4,LK_Comuni!$A:$B,2,0),"")
A7: ASILO NIDO | B7: data della seduta del gruppo di valutazione | C7: periodo effettivo di assistenza al bambino | E7: totale ore di assistenza effettivamente prestate nel periodo indicato | F7: nome e cognome dell'assistente | G7: Totale spesa effettiva per l'assistente individuale nell'anno 2026
C8: dalla data | D8: alla data | I8: Com_Code_util
A9: Totale | G9: =SUM(G10:G32) -> 0
I10: =IFERROR(VLOOKUP(A10,LK_Comuni!$A:$B,2,0),"")
I11: =IFERROR(VLOOKUP(A11,LK_Comuni!$A:$B,2,0),"")
I12: =IFERROR(VLOOKUP(A12,LK_Comuni!$A:$B,2,0),"")
I13: =IFERROR(VLOOKUP(A13,LK_Comuni!$A:$B,2,0),"")
I14: =IFERROR(VLOOKUP(A14,LK_Comuni!$A:$B,2,0),"")
I15: =IFERROR(VLOOKUP(A15,LK_Comuni!$A:$B,2,0),"")
I16: =IFERROR(VLOOKUP(A16,LK_Comuni!$A:$B,2,0),"")
I17: =IFERROR(VLOOKUP(A17,LK_Comuni!$A:$B,2,0),"")
I18: =IFERROR(VLOOKUP(A18,LK_Comuni!$A:$B,2,0),"")
I19: =IFERROR(VLOOKUP(A19,LK_Comuni!$A:$B,2,0),"")
I20: =IFERROR(VLOOKUP(A20,LK_Comuni!$A:$B,2,0),"")
I21: =IFERROR(VLOOKUP(A21,LK_Comuni!$A:$B,2,0),"")
... I32: =IFERROR(VLOOKUP(A32,LK_Comuni!$A:$B,2,0),"")
A34: INDICAZIONI PER LA COMPILAZIONE
A35: Per ogni bambino disabile deve essere compilato una riga, qualora una cella non venga compilata, l'errore verrà evidenziato in rosso.

Sheet LK_Comuni
A1: Com_Desc | B1: COM_CODE | C1: Com_Desc_D | D1: Com_Desc_I | E1: COM_DESC_BIL | F1: ComAN_Desc | G1: ComAN_CODE | H1: ComAN_Desc_D | I1: ComAN_Desc_I
A2: =IF('Rendiconto Handicap Asilo Nido'!$I$1="I",LK_Comuni!D2,LK_Comuni!C2) -> Aldino | B2: 001 | C2: Aldein | D2: Aldino | E2: Aldein / Aldino | F2: Bolzano | G2: 008 | H2: Bozen | I2: Bolzano
A3: =IF('Rendiconto Handicap Asilo Nido'!$I$1="I",LK_Comuni!D3,LK_Comuni!C3) -> Andriano | B3: 002 | C3: Andrian | D3: Andriano | E3: Andrian / Andriano | F3: Bressanone | G3: 011 | H3: Brixen | I3: Bressanone
A4: =IF('Rendiconto Handicap Asilo Nido'!$I$1="I",LK_Comuni!D4,LK_Comuni!C4) -> Anterivo | B4: 003 | C4: Altrei | D4: Anterivo | E4: Altrei / Anterivo | F4: =IF('Rendiconto Handicap Asilo Nido'!$I$1="I",LK_Comuni!I4,LK_Comuni!H4) -> Laives | G4: 040 | H4: Leifers | I4: Laives
A5: =IF('Rendiconto Handicap Asilo Nido'!$I$1="I",LK_Comuni!D5,LK_Comuni!C5) -> Appiano s.s.d.v. | B5: 004 | C5: Eppan a.d. Weinstr. | D5: Appiano s.s.d.v. | E5: Eppan a.d. Weinstr. / Appiano s.s.d.v. | F5: =IF('Rendiconto Handicap Asilo Nido'!$I$1="I",LK_Comuni!I5,LK_Comuni!H5) -> Merano | G5: 051 | H5: Meran | I5: Merano
A6: =IF('Rendiconto Handicap Asilo Nido'!$I$1="I",LK_Comuni!D6,LK_Comuni!C6) -> Avelengo | B6: 005 | C6: Hafling | D6: Avelengo | E6: Hafling / Avelengo
A7: =IF('Rendiconto Handicap Asilo Nido'!$I$1="I",LK_Comuni!D7,LK_Comuni!C7) -> Badia | B7: 006 | C7: Abtei | D7: Badia | E7: Abtei / Badia
A8: =IF('Rendiconto Handicap Asilo Nido'!$I$1="I",LK_Comuni!D8,LK_Comuni!C8) -> Barbiano | B8: 007 | C8: Barbian | D8: Barbiano | E8: Barbian / Barbiano
A9: =IF('Rendiconto Handicap Asilo Nido'!$I$1="I",LK_Comuni!D9,LK_Comuni!C9) -> Bolzano | B9: 008 | C9: Bozen | D9: Bolzano | E9: Bozen / Bolzano
A10: =IF('Rendiconto Handicap Asilo Nido'!$I$1="I",LK_Comuni!D10,LK_Comuni!C10) -> Braies | B10: 009 | C10: Prags | D10: Braies | E10: Prags / Braies
A11: =IF('Rendiconto Handicap Asilo Nido'!$I$1="I",LK_Comuni!D11,LK_Comuni!C11) -> Brennero | B11: 010 | C11: Brenner | D11: Brennero | E11: Brenner / Brennero
A12: =IF('Rendiconto Handicap Asilo Nido'!$I$1="I",LK_Comuni!D12,LK_Comuni!C12) -> Bressanone | B12: 011 | C12: Brixen | D12: Bressanone | E12: Brixen / Bressanone
A13: =IF('Rendiconto Handicap Asilo Nido'!$I$1="I",LK_Comuni!D13,LK_Comuni!C13) -> Bronzolo | B13: 012 | C13: Branzoll | D13: Bronzolo | E13: Branzoll / Bronzolo
A14: =IF('Rendiconto Handicap Asilo Nido'!$I$1="I",LK_Comuni!D14,LK_Comuni!C14) -> Brunico | B14: 013 | C14: Bruneck | D14: Brunico | E14: Bruneck / Brunico
A15: =IF('Rendiconto Handicap Asilo Nido'!$I$1="I",LK_Comuni!D15,LK_Comuni!C15) -> Caines | B15: 014 | C15: Kuens | D15: Caines | E15: Kuens / Caines
A16: =IF('Rendiconto Handicap Asilo Nido'!$I$1="I",LK_Comuni!D16,LK_Comuni!C16) -> Caldaro s.s.d.v. | B16: 015 | C16: Kaltern a.d. Weinstr. | D16: Caldaro s.s.d.v. | E16: Kaltern a.d. Weinstr. / Caldaro s.s.d.v.
A17: =IF('Rendiconto Handicap Asilo Nido'!$I$1="I",LK_Comuni!D17,LK_Comuni!C17) -> Campo di Trens | B17: 016 | C17: Freienfeld | D17: Campo di Trens | E17: Freienfeld / Campo di Trens
... A117: =IF('Rendiconto Handicap Asilo Nido'!$I$1="I",LK_Comuni!D117,LK_Comuni!C117) -> Vipiteno | B117: 115 | C117: Sterzing | D117: Vipiteno | E117: Sterzing / Vipiteno

Sheet LK_Kinderhorte
A1: DescKinderhortD | B1: DescKinderhortI | C1: DescComD | D1: DescComI | E1: DescIndD | F1: DescIndI | G1: CapCom | H1: DescLuogoD | I1: DescLuogoI | J1: KinderhortFullNameD | K1: KinderhortFullNameI | L1: KinderhortFullName | M1: KinderhortCode
A2: Gemeinde Kinderhort | B2: Asilo nido Comunale | C2: Leifers | D2: Laives | E2: Schuldurchgang 28 | F2: Passaggio zona scolastica 28 | G2: 39055 | H2: Leifers | I2: Laives | J2: =IF(ISBLANK(A2),"",CONCATENATE(A2,", ",E2,", ",C2)) -> Gemeinde Kinderhort , Schuldurchgang 28, Leifers | K2: =IF(ISBLANK(B2),"",CONCATENATE(B2,", ",F2,", ",D2)) -> Asilo nido Comunale, Passaggio zona scolastica 28, Laives | L2: =IF('Rendiconto Handicap Asilo Nido'!$I$1="I",K2,J2) -> Asilo nido Comunale, Passaggio zona scolastica 28, Laives | M2: 040_01
A3: Casanova | B3: Casanova | C3: Bozen | D3: Bolzano | E3: Ortlesstraße 48 | F3: via Ortles 48 | G3: 39100 | H3: Bozen | I3: Bolzano | J3: =IF(ISBLANK(A3),"",CONCATENATE(A3,", ",E3,", ",C3)) -> Casanova, Ortlesstraße 48, Bozen | K3: =IF(ISBLANK(B3),"",CONCATENATE(B3,", ",F3,", ",D3)) -> Casanova, via Ortles 48, Bolzano | L3: =IF('Rendiconto Handicap Asilo Nido'!$I$1="I",K3,J3) -> Casanova, via Ortles 48, Bolzano | M3: 008_09
A4: Firmian | B4: Firmian | C4: Bozen | D4: Bolzano | E4: M-Montessori-Platz 12 | F4: p.zza Montessori 12 | G4: 39100 | H4: Bozen | I4: Bolzano | J4: =IF(ISBLANK(A4),"",CONCATENATE(A4,", ",E4,", ",C4)) -> Firmian, M-Montessori-Platz 12, Bozen | K4: =IF(ISBLANK(B4),"",CONCATENATE(B4,", ",F4,", ",D4)) -> Firmian, p.zza Montessori 12, Bolzano | L4: =IF('Rendiconto Handicap Asilo Nido'!$I$1="I",K4,J4) -> Firmian, p.zza Montessori 12, Bolzano | M4: 008_10
A5: Die Grille | B5: Il Grillo | C5: Bozen | D5: Bolzano | E5: Genuastraße 94 | F5: via Genova 94 | G5: 39100 | H5: Bozen | I5: Bolzano | J5: =IF(ISBLANK(A5),"",CONCATENATE(A5,", ",E5,", ",C5)) -> Die Grille, Genuastraße 94, Bozen | K5: =IF(ISBLANK(B5),"",CONCATENATE(B5,", ",F5,", ",D5)) -> Il Grillo, via Genova 94 , Bolzano | L5: =IF('Rendiconto Handicap Asilo Nido'!$I$1="I",K5,J5) -> Il Grillo, via Genova 94 , Bolzano | M5: 008_04
A6: Der Pandabär | B6: Il Panda | C6: Bozen | D6: Bolzano | E6: Gaismairstraße 4 | F6: via Gaismair 4 | G6: 39100 | H6: Bozen | I6: Bolzano | J6: =IF(ISBLANK(A6),"",CONCATENATE(A6,", ",E6,", ",C6)) -> Der Pandabär, Gaismairstraße 4, Bozen | K6: =IF(ISBLANK(B6),"",CONCATENATE(B6,", ",F6,", ",D6)) -> Il Panda, via Gaismair 4 , Bolzano | L6: =IF('Rendiconto Handicap Asilo Nido'!$I$1="I",K6,J6) -> Il Panda, via Gaismair 4 , Bolzano | M6: 008_06
A7: Der Vierklee | B7: Il Quadrifoglio | C7: Bozen | D7: Bolzano | E7: Angela-Nikoletti-Platz 9 | F7: piazza Angela Nikoletti 9 | G7: 39100 | H7: Bozen | I7: Bolzano | J7: =IF(ISBLANK(A7),"",CONCATENATE(A7,", ",E7,", ",C7)) -> Der Vierklee, Angela-Nikoletti-Platz 9 , Bozen | K7: =IF(ISBLANK(B7),"",CONCATENATE(B7,", ",F7,", ",D7)) -> Il Quadrifoglio, piazza Angela Nikoletti 9 , Bolzano | L7: =IF('Rendiconto Handicap Asilo Nido'!$I$1="I",K7,J7) -> Il Quadrifoglio, piazza Angela Nikoletti 9 , Bolzano | M7: 008_08
A8: Die Sonne | B8: Il Sole | C8: Bozen | D8: Bolzano | E8: Mailandstraße 131 | F8: via Milano 131 | G8: 39100 | H8: Bozen | I8: Bolzano | J8: =IF(ISBLANK(A8),"",CONCATENATE(A8,", ",E8,", ",C8)) -> Die Sonne, Mailandstraße 131, Bozen | K8: =IF(ISBLANK(B8),"",CONCATENATE(B8,", ",F8,", ",D8)) -> Il Sole, via Milano 131, Bolzano | L8: =IF('Rendiconto Handicap Asilo Nido'!$I$1="I",K8,J8) -> Il Sole, via Milano 131, Bolzano | M8: 008_01
A9: Das Segelschiff | B9: Il Veliero | C9: Bozen | D9: Bolzano | E9: Venedigerstraße 49 | F9: viale Venezia 49 | G9: 39100 | H9: Bozen | I9: Bolzano | J9: =IF(ISBLANK(A9),"",CONCATENATE(A9,", ",E9,", ",C9)) -> Das Segelschiff, Venedigerstraße 49, Bozen | K9: =IF(ISBLANK(B9),"",CONCATENATE(B9,", ",F9,", ",D9)) -> Il Veliero, viale Venezia 49, Bolzano | L9: =IF('Rendiconto Handicap Asilo Nido'!$I$1="I",K9,J9) -> Il Veliero, viale Venezia 49, Bolzano | M9: 008_02
A10: Der Schmetterling | B10: La Farfalla | C10: Bozen | D10: Bolzano | E10: St. Johann-Gasse 23/a | F10: vicolo S.Giovanni 23/a | G10: 39100 | H10: Bozen | I10: Bolzano | J10: =IF(ISBLANK(A10),"",CONCATENATE(A10,", ",E10,", ",C10)) -> Der Schmetterling, St. Johann-Gasse 23/a, Bozen | K10: =IF(ISBLANK(B10),"",CONCATENATE(B10,", ",F10,", ",D10)) -> La Farfalla, vicolo S.Giovanni 23/a , Bolzano | L10: =IF('Rendiconto Handicap Asilo Nido'!$I$1="I",K10,J10) -> La Farfalla, vicolo S.Giovanni 23/a , Bolzano | M10: 008_07
A11: Die Wolke | B11: La Nuvola | C11: Bozen | D11: Bolzano | E11: Lagederweg 11 | F11: vicolo Lageder | G11: 39100 | H11: Bozen | I11: Bolzano | J11: =IF(ISBLANK(A11),"",CONCATENATE(A11,", ",E11,", ",C11)) -> Die Wolke, Lagederweg 11, Bozen | K11: =IF(ISBLANK(B11),"",CONCATENATE(B11,", ",F11,", ",D11)) -> La Nuvola, vicolo Lageder , Bolzano | L11: =IF('Rendiconto Handicap Asilo Nido'!$I$1="I",K11,J11) -> La Nuvola, vicolo Lageder , Bolzano | M11: 008_05
A12: Das Aquarium | B12: L'Acquario | C12: Bozen | D12: Bolzano | E12: Parmastraße 10 | F12: via Parma 10 | G12: 39100 | H12: Bozen | I12: Bolzano | J12: =IF(ISBLANK(A12),"",CONCATENATE(A12,", ",E12,", ",C12)) -> Das Aquarium , Parmastraße 10 , Bozen | K12: =IF(ISBLANK(B12),"",CONCATENATE(B12,", ",F12,", ",D12)) -> L'Acquario, via Parma 10 , Bolzano | L12: =IF('Rendiconto Handicap Asilo Nido'!$I$1="I",K12,J12) -> L'Acquario, via Parma 10 , Bolzano | M12: 008_03
A13: Maia | B13: Maia | C13: Meran | D13: Merano | E13: Maiastraße 1 | F13: via Maia 1 | G13: 39012 | H13: Meran | I13: Merano | J13: =IF(ISBLANK(A13),"",CONCATENATE(A13,", ",E13,", ",C13)) -> Maia, Maiastraße 1, Meran | K13: =IF(ISBLANK(B13),"",CONCATENATE(B13,", ",F13,", ",D13)) -> Maia, via Maia 1, Merano | L13: =IF('Rendiconto Handicap Asilo Nido'!$I$1="I",K13,J13) -> Maia, via Maia 1, Merano | M13: 051_02
... A15: Yosyag | B15: Yosyag | C15: Meran | D15: Merano | E15: Goethestraße 40/C | F15: via Goethe 40/C | G15: 39012 | H15: Meran | I15: Merano | J15: =IF(ISBLANK(A15),"",CONCATENATE(A15,", ",E15,", ",C15)) -> Yosyag, Goethestraße 40/C, Meran | K15: =IF(ISBLANK(B15),"",CONCATENATE(B15,", ",F15,", ",D15)) -> Yosyag, via Goethe 40/C, Merano | L15: =IF('Rendiconto Handicap Asilo Nido'!$I$1="I",K15,J15) -> Yosyag, via Goethe 40/C, Merano | M15: 051_01

Sheet Parameters
A1: PAR_ID | B1: PAR_VALUE
A2: MinTarOrario | B2: 0.9
A3: MaxTarOra | B3: 3.65
A7: Originale | B7: Original | C7: Originale
A8: Corretto d'ufficio | B8: Von Amts wegen | C8: Corretto d'ufficio
A10: contratto
A11: tempo determinato
A12: tempo indeterminato
