Workbook
Name dd_com_desc: OFFSET([1]LK_Comuni!$B$2,0,0,COUNTA([1]LK_Comuni!$B:$B),1)
Name dd_com_desc: OFFSET(LK_Comuni!$A$2,0,0,COUNTA(LK_Comuni!$A:$A),1)
Name dd_comAN_desc: OFFSET(LK_Comuni!$F$2,0,0,COUNTA(LK_Comuni!$F:$F),1)
Name dd_desc_approv: #REF!
Name dd_kh_BX_desc: #REF!
Name dd_kh_BZ_desc: #REF!
Name dd_kh_desc: OFFSET(#REF!,0,0,COUNTA(#REF!),1)
Name dd_kh_LV_desc: #REF!
Name dd_kh_ME_desc: #REF!
Name dd_kh_null: #REF!
Name dd_kita_desc: OFFSET(#REF!,0,0,COUNTA(#REF!),1)
Name dd_kita_desc_max: #REF!
Name dd_lst_mod: Parameters!$A$7:$A$8

Sheet Abrechnung Handicap Kita
A1: Anlage wesentlicher Bestandteil für die Auszahlung der Finanzierung des Fachpersonals für die individuelle Betreuung von Kindern mit Behinderung | F1: Der Familienagentur vorbehalten | I1: I | Z1: DomandaKH
A3: Antragsteller: | B3: Anno | F3: Fortschreitende Anzahl Gesuch | G3: Status Gesuch | I3: Com_Code
B4: 2026 | I4: =IFERROR(VLOOKUP(A4,LK_Comuni!$A:$B,2,0),"")
A7: KINDERTAGESTÄTTE | B7: Datum der Sitzung des Prüfteams | C7: effektiver Zeitraum der Betreuung des Kleinkindes | E7: Gesamtzahl effektiv erbrachte Betreuungs-stunden im genannten Zeitraum | F7: Vor- und Zuname Betreuungspersonal | G7: effektive Gesamtausgaben für das individuelle Betreuungspersonal im Jahr 2026
C8: ab Datum | D8: bis Datum | I8: Com_Code_util
A9: Gesamt | G9: =SUM(G10:G32) -> 0
I10: =IFERROR(VLOOKUP(A10,LK_Comuni!$A:$B,2,0),"")
I11: =IFERROR(VLOOKUP(A11,LK_Comuni!$A:$B,2,0),"")
I12: =IFERROR(VLOOKUP(A12,LK_Comuni!$A:$B,2,0),"")
I13: =IFERROR(VLOOKUP(A13,LK_Comuni!$A:$B,2,0),"")
I14: =IFERROR(VLOOKUP(A14,LK_Comuni!$A:$B,2,0),"")
I15: =IFERROR(VLOOKUP(A15,LK_Comuni!$A:$B,2,0),"")
I16: =IFERROR(VLOOKUP(A16,LK_Comuni!$A:$B,2,0),"")
I17: =IFERROR(VLOOKUP(A17,LK_Comuni!$A:$B,2,0),"")
I18: =IFERROR(VLOOKUP(A18,LK_Comuni!$A:$B,2,0),"")
I19: =IFERROR(VLOOKUP(A19,LK_Comuni!$A:$B,2,0),"")
I20: =IFERROR(VLOOKUP(A20,LK_Comuni!$A:$B,2,0),"")
I21: =IFERROR(VLOOKUP(A21,LK_Comuni!$A:$B,2,0),"")
... I32: =IFERROR(VLOOKUP(A32,LK_Comuni!$A:$B,2,0),"")
A34: HINWEISE ZUM AUSFÜLLEN
A35: Pro betreutes Kleinkind mit Behinderung ist eine Zeile auszufüllen, nicht ausgefüllte Felder werden als Fehler gewertet und in roter Farbe markiert.

Sheet LK_Comuni
A1: Com_Desc | B1: COM_CODE | C1: Com_Desc_D | D1: Com_Desc_I | E1: COM_DESC_BIL | F1: ComAN_Desc | G1: ComAN_CODE | H1: ComAN_Desc_D | I1: ComAN_Desc_I
A2: =IF('Abrechnung Handicap Kita'!$I$1="I",LK_Comuni!D2,LK_Comuni!C2) -> Aldino | B2: 001 | C2: Aldein | D2: Aldino | E2: Aldein / Aldino | F2: Bolzano | G2: 008 | H2: Bozen | I2: Bolzano
A3: =IF('Abrechnung Handicap Kita'!$I$1="I",LK_Comuni!D3,LK_Comuni!C3) -> Andriano | B3: 002 | C3: Andrian | D3: Andriano | E3: Andrian / Andriano | F3: Bressanone | G3: 011 | H3: Brixen | I3: Bressanone
A4: =IF('Abrechnung Handicap Kita'!$I$1="I",LK_Comuni!D4,LK_Comuni!C4) -> Anterivo | B4: 003 | C4: Altrei | D4: Anterivo | E4: Altrei / Anterivo | F4: =IF('Abrechnung Handicap Kita'!$I$1="I",LK_Comuni!I4,LK_Comuni!H4) -> Laives | G4: 040 | H4: Leifers | I4: Laives
A5: =IF('Abrechnung Handicap Kita'!$I$1="I",LK_Comuni!D5,LK_Comuni!C5) -> Appiano s.s.d.v. | B5: 004 | C5: Eppan a.d. Weinstr. | D5: Appiano s.s.d.v. | E5: Eppan a.d. Weinstr. / Appiano s.s.d.v. | F5: =IF('Abrechnung Handicap Kita'!$I$1="I",LK_Comuni!I5,LK_Comuni!H5) -> Merano | G5: 051 | H5: Meran | I5: Merano
A6: =IF('Abrechnung Handicap Kita'!$I$1="I",LK_Comuni!D6,LK_Comuni!C6) -> Avelengo | B6: 005 | C6: Hafling | D6: Avelengo | E6: Hafling / Avelengo
A7: =IF('Abrechnung Handicap Kita'!$I$1="I",LK_Comuni!D7,LK_Comuni!C7) -> Badia | B7: 006 | C7: Abtei | D7: Badia | E7: Abtei / Badia
A8: =IF('Abrechnung Handicap Kita'!$I$1="I",LK_Comuni!D8,LK_Comuni!C8) -> Barbiano | B8: 007 | C8: Barbian | D8: Barbiano | E8: Barbian / Barbiano
A9: =IF('Abrechnung Handicap Kita'!$I$1="I",LK_Comuni!D9,LK_Comuni!C9) -> Bolzano | B9: 008 | C9: Bozen | D9: Bolzano | E9: Bozen / Bolzano
A10: =IF('Abrechnung Handicap Kita'!$I$1="I",LK_Comuni!D10,LK_Comuni!C10) -> Braies | B10: 009 | C10: Prags | D10: Braies | E10: Prags / Braies
A11: =IF('Abrechnung Handicap Kita'!$I$1="I",LK_Comuni!D11,LK_Comuni!C11) -> Brennero | B11: 010 | C11: Brenner | D11: Brennero | E11: Brenner / Brennero
A12: =IF('Abrechnung Handicap Kita'!$I$1="I",LK_Comuni!D12,LK_Comuni!C12) -> Bressanone | B12: 011 | C12: Brixen | D12: Bressanone | E12: Brixen / Bressanone
A13: =IF('Abrechnung Handicap Kita'!$I$1="I",LK_Comuni!D13,LK_Comuni!C13) -> Bronzolo | B13: 012 | C13: Branzoll | D13: Bronzolo | E13: Branzoll / Bronzolo
A14: =IF('Abrechnung Handicap Kita'!$I$1="I",LK_Comuni!D14,LK_Comuni!C14) -> Brunico | B14: 013 | C14: Bruneck | D14: Brunico | E14: Bruneck / Brunico
A15: =IF('Abrechnung Handicap Kita'!$I$1="I",LK_Comuni!D15,LK_Comuni!C15) -> Caines | B15: 014 | C15: Kuens | D15: Caines | E15: Kuens / Caines
A16: =IF('Abrechnung Handicap Kita'!$I$1="I",LK_Comuni!D16,LK_Comuni!C16) -> Caldaro s.s.d.v. | B16: 015 | C16: Kaltern a.d. Weinstr. | D16: Caldaro s.s.d.v. | E16: Kaltern a.d. Weinstr. / Caldaro s.s.d.v.
A17: =IF('Abrechnung Handicap Kita'!$I$1="I",LK_Comuni!D17,LK_Comuni!C17) -> Campo di Trens | B17: 016 | C17: Freienfeld | D17: Campo di Trens | E17: Freienfeld / Campo di Trens
... A117: =IF('Abrechnung Handicap Kita'!$I$1="I",LK_Comuni!D117,LK_Comuni!C117) -> Vipiteno | B117: 115 | C117: Sterzing | D117: Vipiteno | E117: Sterzing / Vipiteno

Sheet LK_Kita
A1: KITA_COM_CODE | B1: KITA_COM_DESC_I | C1: KITA_COM_DESC_D | D1: ENTE_CODE | E1: KITA_ENTE_DESC_I | F1: KITA_ENTE_DESC_D | G1: KITA_INDIRIZZO_I | H1: KITA_INDIRIZZO_D | I1: KITA_LOCALITA_I | J1: KITA_LOCALITA_D | K1: KITA_TYPE_I | L1: KITA_TYPE_D | M1: KITA_POSTI | N1: KITA_FULL_NAME | O1: KITA_CODE | P1: KITA_FULL_NAME_I | Q1: KITA_FULL_NAME_D | R1: KITA_FLAG_ACTIVE | S1: KITA_INIZIO_VAL | T1: KITA_FINE_VAL | U1: D
A2: 006 | B2: Badia | C2: Abtei | D2: COOP_001 | E2: Casa Bimbo | F2: Casa Bimbo | G2: Via S. Linert, 14 | H2: St.-Linert-Straße, 14 | M2: 20 | N2: =IF($U$1="I",P2,Q2) -> Abtei, St.-Linert-Straße, 14, Casa Bimbo | O2: COOP_001_01 | P2: =IF(ISBLANK(B2),"",CONCATENATE(B2,IF(ISBLANK(I2),""," - " & I2),", ", G2,", ",E2,IF(ISBLANK(K2),""," ("&K2&")"))) -> Badia, Via S. Linert, 14, Casa Bimbo | Q2: =IF(ISBLANK(C2),"",CONCATENATE(C2,IF(ISBLANK(J2),""," - " & J2),", ", H2,", ",F2,IF(ISBLANK(L2),""," ("&L2&")"))) -> Abtei, St.-Linert-Straße, 14, Casa Bimbo | R2: 1 | S2: 1 | T2: 401768
A3: 108 | B3: Valle Aurina | C3: Ahrntal | D3: COOP_004 | E3: Tagesmütter | F3: Tagesmütter | G3: S. Giovanni-Ahrn, 30 | H3: St. Johann-Ahrn, 30 | M3: 10 | N3: =IF($U$1="I",P3,Q3) -> Ahrntal, St. Johann-Ahrn, 30, Tagesmütter | O3: COOP_004_22 | P3: =IF(ISBLANK(B3),"",CONCATENATE(B3,IF(ISBLANK(I3),""," - " & I3),", ", G3,", ",E3,IF(ISBLANK(K3),""," ("&K3&")"))) -> Valle Aurina, S. Giovanni-Ahrn, 30, Tagesmütter | Q3: =IF(ISBLANK(C3),"",CONCATENATE(C3,IF(ISBLANK(J3),""," - " & J3),", ", H3,", ",F3,IF(ISBLANK(L3),""," ("&L3&")"))) -> Ahrntal, St. Johann-Ahrn, 30, Tagesmütter | R3: 1 | S3: 1 | T3: 401768
A4: 001 | B4: Aldino | C4: Aldein | D4: COOP_004 | E4: Tagesmütter | F4: Tagesmütter | G4: Paese, 41/2 | H4: Dorf, 41/2 | M4: 10 | N4: =IF($U$1="I",P4,Q4) -> Aldein, Dorf, 41/2, Tagesmütter | O4: COOP_004_36 | P4: =IF(ISBLANK(B4),"",CONCATENATE(B4,IF(ISBLANK(I4),""," - " & I4),", ", G4,", ",E4,IF(ISBLANK(K4),""," ("&K4&")"))) -> Aldino, Paese, 41/2, Tagesmütter | Q4: =IF(ISBLANK(C4),"",CONCATENATE(C4,IF(ISBLANK(J4),""," - " & J4),", ", H4,", ",F4,IF(ISBLANK(L4),""," ("&L4&")"))) -> Aldein, Dorf, 41/2, Tagesmütter | R4: 1 | S4: 45145 | T4: 401768
A5: 002 | B5: Andriano | C5: Andrian | D5: COOP_013 | E5: Paideias | F5: Paideias | G5: Via del Sole, 10 | H5: Sonnenstraße, 10 | M5: 25 | N5: =IF($U$1="I",P5,Q5) -> Andrian, Sonnenstraße, 10, Paideias | O5: COOP_013_06 | P5: =IF(ISBLANK(B5),"",CONCATENATE(B5,IF(ISBLANK(I5),""," - " & I5),", ", G5,", ",E5,IF(ISBLANK(K5),""," ("&K5&")"))) -> Andriano, Via del Sole, 10, Paideias | Q5: =IF(ISBLANK(C5),"",CONCATENATE(C5,IF(ISBLANK(J5),""," - " & J5),", ", H5,", ",F5,IF(ISBLANK(L5),""," ("&L5&")"))) -> Andrian, Sonnenstraße, 10, Paideias | R5: 1 | S5: 44835 | T5: 401768
A6: 060 | B6: Ora | C6: Auer | D6: COOP_004 | E6: Tagesmütter | F6: Tagesmütter | G6: Via Nazionale, 23/A | H6: Nationalstraße, 23/A | M6: 15 | N6: =IF($U$1="I",P6,Q6) -> Auer, Nationalstraße, 23/A, Tagesmütter | O6: COOP_004_17 | P6: =IF(ISBLANK(B6),"",CONCATENATE(B6,IF(ISBLANK(I6),""," - " & I6),", ", G6,", ",E6,IF(ISBLANK(K6),""," ("&K6&")"))) -> Ora, Via Nazionale, 23/A, Tagesmütter | Q6: =IF(ISBLANK(C6),"",CONCATENATE(C6,IF(ISBLANK(J6),""," - " & J6),", ", H6,", ",F6,IF(ISBLANK(L6),""," ("&L6&")"))) -> Auer, Nationalstraße, 23/A, Tagesmütter | R6: 1 | S6: 1 | T6: 401768
A7: 007 | B7: Barbiano | C7: Barbian | D7: COOP_004 | E7: Tagesmütter | F7: Tagesmütter | G7: Paese, 13 | H7: Dorf, 13 | N7: =IF($U$1="I",P7,Q7) -> Barbian, Dorf, 13, Tagesmütter | O7: COOP_004_27 | P7: =IF(ISBLANK(B7),"",CONCATENATE(B7,IF(ISBLANK(I7),""," - " & I7),", ", G7,", ",E7,IF(ISBLANK(K7),""," ("&K7&")"))) -> Barbiano, Paese, 13, Tagesmütter | Q7: =IF(ISBLANK(C7),"",CONCATENATE(C7,IF(ISBLANK(J7),""," - " & J7),", ", H7,", ",F7,IF(ISBLANK(L7),""," ("&L7&")"))) -> Barbian, Dorf, 13, Tagesmütter | R7: 1 | S7: 43368 | T7: 401768
A8: 008 | B8: Bolzano | C8: Bozen | D8: COOP_006 | E8: Babycoop | F8: Babycoop | G8: Piazzetta Anne Frank, 17 | H8: Anne-Frank-Platz, 17 | M8: 14 | N8: =IF($U$1="I",P8,Q8) -> Bozen, Anne-Frank-Platz, 17, Babycoop | O8: COOP_006_02 | P8: =IF(ISBLANK(B8),"",CONCATENATE(B8,IF(ISBLANK(I8),""," - " & I8),", ", G8,", ",E8,IF(ISBLANK(K8),""," ("&K8&")"))) -> Bolzano, Piazzetta Anne Frank, 17, Babycoop | Q8: =IF(ISBLANK(C8),"",CONCATENATE(C8,IF(ISBLANK(J8),""," - " & J8),", ", H8,", ",F8,IF(ISBLANK(L8),""," ("&L8&")"))) -> Bozen, Anne-Frank-Platz, 17, Babycoop | R8: 1 | S8: 1 | T8: 401768
A9: 008 | B9: Bolzano | C9: Bozen | D9: COOP_002 | E9: Coccinella | F9: Coccinella | G9: Via Armando Diaz, 57 | H9: Armando Diaz Straße, 57 | K9: aziendale | L9: betriebliche | M9: 29 | N9: =IF($U$1="I",P9,Q9) -> Bozen, Armando Diaz Straße, 57, Coccinella (betriebliche) | O9: COOP_002_21 | P9: =IF(ISBLANK(B9),"",CONCATENATE(B9,IF(ISBLANK(I9),""," - " & I9),", ", G9,", ",E9,IF(ISBLANK(K9),""," ("&K9&")"))) -> Bolzano, Via Armando Diaz, 57, Coccinella (aziendale) | Q9: =IF(ISBLANK(C9),"",CONCATENATE(C9,IF(ISBLANK(J9),""," - " & J9),", ", H9,", ",F9,IF(ISBLANK(L9),""," ("&L9&")"))) -> Bozen, Armando Diaz Straße, 57, Coccinella (betriebliche) | R9: 1 | S9: 44963 | T9: 401768
A10: 008 | B10: Bolzano | C10: Bozen | D10: COOP_009 | E10: Xenia | F10: Xenia | G10: Via Buozzi,14 | H10: Buozzistraße, 14 | K10: aziendale | L10: betriebliche | N10: =IF($U$1="I",P10,Q10) -> Bozen, Buozzistraße, 14, Xenia (betriebliche) | O10: COOP_009_02 | P10: =IF(ISBLANK(B10),"",CONCATENATE(B10,IF(ISBLANK(I10),""," - " & I10),", ", G10,", ",E10,IF(ISBLANK(K10),""," ("&K10&")"))) -> Bolzano, Via Buozzi,14, Xenia (aziendale) | Q10: =IF(ISBLANK(C10),"",CONCATENATE(C10,IF(ISBLANK(J10),""," - " & J10),", ", H10,", ",F10,IF(ISBLANK(L10),""," ("&L10&")"))) -> Bozen, Buozzistraße, 14, Xenia (betriebliche) | R10: 1 | S10: 44440 | T10: 401768
A11: 008 | B11: Bolzano | C11: Bozen | D11: COOP_017 | E11: Baobab | F11: Baobab | G11: Piazza Cristo Re, 7 | H11: Christkönigsplatz, 7 | K11: aziendale | L11: betriebliche | M11: 10 | N11: =IF($U$1="I",P11,Q11) -> Bozen, Christkönigsplatz, 7, Baobab (betriebliche) | O11: COOP_017_01 | P11: =IF(ISBLANK(B11),"",CONCATENATE(B11,IF(ISBLANK(I11),""," - " & I11),", ", G11,", ",E11,IF(ISBLANK(K11),""," ("&K11&")"))) -> Bolzano, Piazza Cristo Re, 7, Baobab (aziendale) | Q11: =IF(ISBLANK(C11),"",CONCATENATE(C11,IF(ISBLANK(J11),""," - " & J11),", ", H11,", ",F11,IF(ISBLANK(L11),""," ("&L11&")"))) -> Bozen, Christkönigsplatz, 7, Baobab (betriebliche) | R11: 1 | S11: 44077 | T11: 401768
A12: 008 | B12: Bolzano | C12: Bozen | D12: COOP_001 | E12: Casa Bimbo | F12: Casa Bimbo | G12: Via Claudia Augusta, 48/B | H12: Claudia-Augusta-Straße, 48/B | M12: 18 | N12: =IF($U$1="I",P12,Q12) -> Bozen, Claudia-Augusta-Straße, 48/B, Casa Bimbo | O12: COOP_001_02 | P12: =IF(ISBLANK(B12),"",CONCATENATE(B12,IF(ISBLANK(I12),""," - " & I12),", ", G12,", ",E12,IF(ISBLANK(K12),""," ("&K12&")"))) -> Bolzano, Via Claudia Augusta, 48/B, Casa Bimbo | Q12: =IF(ISBLANK(C12),"",CONCATENATE(C12,IF(ISBLANK(J12),""," - " & J12),", ", H12,", ",F12,IF(ISBLANK(L12),""," ("&L12&")"))) -> Bozen, Claudia-Augusta-Straße, 48/B, Casa Bimbo | R12: 1 | S12: 1 | T12: 401768
A13: 008 | B13: Bolzano | C13: Bozen | D13: COOP_001 | E13: Casa Bimbo | F13: Casa Bimbo | G13: Via Claudia Augusta, 66/68 | H13: Claudia-Augusta-Straße, 66/68 | M13: 18 | N13: =IF($U$1="I",P13,Q13) -> Bozen, Claudia-Augusta-Straße, 66/68, Casa Bimbo | O13: COOP_001_03 | P13: =IF(ISBLANK(B13),"",CONCATENATE(B13,IF(ISBLANK(I13),""," - " & I13),", ", G13,", ",E13,IF(ISBLANK(K13),""," ("&K13&")"))) -> Bolzano, Via Claudia Augusta, 66/68, Casa Bimbo | Q13: =IF(ISBLANK(C13),"",CONCATENATE(C13,IF(ISBLANK(J13),""," - " & J13),", ", H13,", ",F13,IF(ISBLANK(L13),""," ("&L13&")"))) -> Bozen, Claudia-Augusta-Straße, 66/68, Casa Bimbo | R13: 1 | S13: 1 | T13: 401768
A14: 008 | B14: Bolzano | C14: Bozen | D14: COOP_001 | E14: Casa Bimbo | F14: Casa Bimbo | G14: Via Crispi, 40 | H14: Crispistraße, 40 | K14: aziendale | L14: betriebliche | M14: 17 | N14: =IF($U$1="I",P14,Q14) -> Bozen, Crispistraße, 40, Casa Bimbo (betriebliche) | O14: COOP_001_04 | P14: =IF(ISBLANK(B14),"",CONCATENATE(B14,IF(ISBLANK(I14),""," - " & I14),", ", G14,", ",E14,IF(ISBLANK(K14),""," ("&K14&")"))) -> Bolzano, Via Crispi, 40, Casa Bimbo (aziendale) | Q14: =IF(ISBLANK(C14),"",CONCATENATE(C14,IF(ISBLANK(J14),""," - " & J14),", ", H14,", ",F14,IF(ISBLANK(L14),""," ("&L14&")"))) -> Bozen, Crispistraße, 40, Casa Bimbo (betriebliche) | R14: 1 | S14: 1 | T14: 401768
A15: 008 | B15: Bolzano | C15: Bozen | D15: COOP_006 | E15: Babycoop | F15: Babycoop | G15: Piazza Don Bosco, 13 | H15: Don-Bosco-Platz, 13 | M15: 20 | N15: =IF($U$1="I",P15,Q15) -> Bozen, Don-Bosco-Platz, 13, Babycoop | O15: COOP_006_01 | P15: =IF(ISBLANK(B15),"",CONCATENATE(B15,IF(ISBLANK(I15),""," - " & I15),", ", G15,", ",E15,IF(ISBLANK(K15),""," ("&K15&")"))) -> Bolzano, Piazza Don Bosco, 13, Babycoop | Q15: =IF(ISBLANK(C15),"",CONCATENATE(C15,IF(ISBLANK(J15),""," - " & J15),", ", H15,", ",F15,IF(ISBLANK(L15),""," ("&L15&")"))) -> Bozen, Don-Bosco-Platz, 13, Babycoop | R15: 1 | S15: 1 | T15: 401768
A16: 008 | B16: Bolzano | C16: Bozen | D16: COOP_005 | E16: Primi Passi | F16: Primi Passi | G16: Via Druso, 339/E | H16: Drususstraße, 339/E | K16: aziendale | L16: betriebliche | M16: 14 | N16: =IF($U$1="I",P16,Q16) -> Bozen, Drususstraße, 339/E, Primi Passi (betriebliche) | O16: COOP_005_01 | P16: =IF(ISBLANK(B16),"",CONCATENATE(B16,IF(ISBLANK(I16),""," - " & I16),", ", G16,", ",E16,IF(ISBLANK(K16),""," ("&K16&")"))) -> Bolzano, Via Druso, 339/E, Primi Passi (aziendale) | Q16: =IF(ISBLANK(C16),"",CONCATENATE(C16,IF(ISBLANK(J16),""," - " & J16),", ", H16,", ",F16,IF(ISBLANK(L16),""," ("&L16&")"))) -> Bozen, Drususstraße, 339/E, Primi Passi (betriebliche) | R16: 1 | S16: 1 | T16: 401768
A17: 008 | B17: Bolzano | C17: Bozen | D17: COOP_006 | E17: Babycoop | F17: Babycoop | G17: Viale Europa, 43 | H17: Europaallee, 43 | M17: 20 | N17: =IF($U$1="I",P17,Q17) -> Bozen, Europaallee, 43, Babycoop | O17: COOP_006_05 | P17: =IF(ISBLANK(B17),"",CONCATENATE(B17,IF(ISBLANK(I17),""," - " & I17),", ", G17,", ",E17,IF(ISBLANK(K17),""," ("&K17&")"))) -> Bolzano, Viale Europa, 43, Babycoop | Q17: =IF(ISBLANK(C17),"",CONCATENATE(C17,IF(ISBLANK(J17),""," - " & J17),", ", H17,", ",F17,IF(ISBLANK(L17),""," ("&L17&")"))) -> Bozen, Europaallee, 43, Babycoop | R17: 1 | S17: 1 | T17: 401768
A18: 008 | B18: Bolzano | C18: Bozen | D18: COOP_002 | E18: Coccinella | F18: Coccinella | G18: Via Combattenti, 4 | H18: Frontkämpferstraße, 4 | M18: 17 | N18: =IF($U$1="I",P18,Q18) -> Bozen, Frontkämpferstraße, 4, Coccinella | O18: COOP_002_11 | P18: =IF(ISBLANK(B18),"",CONCATENATE(B18,IF(ISBLANK(I18),""," - " & I18),", ", G18,", ",E18,IF(ISBLANK(K18),""," ("&K18&")"))) -> Bolzano, Via Combattenti, 4, Coccinella | Q18: =IF(ISBLANK(C18),"",CONCATENATE(C18,IF(ISBLANK(J18),""," - " & J18),", ", H18,", ",F18,IF(ISBLANK(L18),""," ("&L18&")"))) -> Bozen, Frontkämpferstraße, 4, Coccinella | R18: 1 | S18: 44950 | T18: 401768
A19: 008 | B19: Bolzano | C19: Bozen | D19: COOP_001 | E19: Casa Bimbo | F19: Casa Bimbo | G19: Via Galilei, 2/C | H19: G.-Galilei-Straße, 2/C | K19: aziendale | L19: betriebliche | M19: 20 | N19: =IF($U$1="I",P19,Q19) -> Bozen, G.-Galilei-Straße, 2/C, Casa Bimbo (betriebliche) | O19: COOP_001_05 | P19: =IF(ISBLANK(B19),"",CONCATENATE(B19,IF(ISBLANK(I19),""," - " & I19),", ", G19,", ",E19,IF(ISBLANK(K19),""," ("&K19&")"))) -> Bolzano, Via Galilei, 2/C, Casa Bimbo (aziendale) | Q19: =IF(ISBLANK(C19),"",CONCATENATE(C19,IF(ISBLANK(J19),""," - " & J19),", ", H19,", ",F19,IF(ISBLANK(L19),""," ("&L19&")"))) -> Bozen, G.-Galilei-Straße, 2/C, Casa Bimbo (betriebliche) | R19: 1 | S19: 44927 | T19: 401768
A20: 008 | B20: Bolzano | C20: Bozen | D20: COOP_014 | E20: Montessori | F20: Montessori | G20: Via Cologna, 1 | H20: Glaningerweg, 1 | K20: aziendale | L20: betriebliche | M20: 20 | N20: =IF($U$1="I",P20,Q20) -> Bozen, Glaningerweg, 1, Montessori (betriebliche) | O20: COOP_014_01 | P20: =IF(ISBLANK(B20),"",CONCATENATE(B20,IF(ISBLANK(I20),""," - " & I20),", ", G20,", ",E20,IF(ISBLANK(K20),""," ("&K20&")"))) -> Bolzano, Via Cologna, 1, Montessori (aziendale) | Q20: =IF(ISBLANK(C20),"",CONCATENATE(C20,IF(ISBLANK(J20),""," - " & J20),", ", H20,", ",F20,IF(ISBLANK(L20),""," ("&L20&")"))) -> Bozen, Glaningerweg, 1, Montessori (betriebliche) | R20: 1 | S20: 1 | T20: 401768
A21: 008 | B21: Bolzano | C21: Bozen | D21: COOP_004 | E21: Tagesmütter | F21: Tagesmütter | G21: Via Goethe, 34/a | H21: Goethestraße, 34/a | K21: aziendale | L21: betriebliche | M21: 20 | N21: =IF($U$1="I",P21,Q21) -> Bozen, Goethestraße, 34/a, Tagesmütter (betriebliche) | O21: COOP_004_33 | P21: =IF(ISBLANK(B21),"",CONCATENATE(B21,IF(ISBLANK(I21),""," - " & I21),", ", G21,", ",E21,IF(ISBLANK(K21),""," ("&K21&")"))) -> Bolzano, Via Goethe, 34/a, Tagesmütter (aziendale) | Q21: =IF(ISBLANK(C21),"",CONCATENATE(C21,IF(ISBLANK(J21),""," - " & J21),", ", H21,", ",F21,IF(ISBLANK(L21),""," ("&L21&")"))) -> Bozen, Goethestraße, 34/a, Tagesmütter (betriebliche) | R21: 1 | S21: 44851 | T21: 401768
A22: 008 | B22: Bolzano | C22: Bozen | D22: COOP_006 | E22: Babycoop | F22: Babycoop | G22: Via Michael Gaismair, 18 | H22: Michael-Gaismair-Straße, 18 | M22: 15 | N22: =IF($U$1="I",P22,Q22) -> Bozen, Michael-Gaismair-Straße, 18, Babycoop | O22: COOP_006_06 | P22: =IF(ISBLANK(B22),"",CONCATENATE(B22,IF(ISBLANK(I22),""," - " & I22),", ", G22,", ",E22,IF(ISBLANK(K22),""," ("&K22&")"))) -> Bolzano, Via Michael Gaismair, 18, Babycoop | Q22: =IF(ISBLANK(C22),"",CONCATENATE(C22,IF(ISBLANK(J22),""," - " & J22),", ", H22,", ",F22,IF(ISBLANK(L22),""," ("&L22&")"))) -> Bozen, Michael-Gaismair-Straße, 18, Babycoop | R22: 1 | S22: 1 | T22: 401768
A23: 008 | B23: Bolzano | C23: Bozen | D23: COOP_002 | E23: Coccinella | F23: Coccinella | G23: Lungo Talvera S. Quirino, 10 | H23: Quireiner Wassermauer, 10 | M23: 20 | N23: =IF($U$1="I",P23,Q23) -> Bozen, Quireiner Wassermauer, 10, Coccinella | O23: COOP_002_01 | P23: =IF(ISBLANK(B23),"",CONCATENATE(B23,IF(ISBLANK(I23),""," - " & I23),", ", G23,", ",E23,IF(ISBLANK(K23),""," ("&K23&")"))) -> Bolzano, Lungo Talvera S. Quirino, 10, Coccinella | Q23: =IF(ISBLANK(C23),"",CONCATENATE(C23,IF(ISBLANK(J23),""," - " & J23),", ", H23,", ",F23,IF(ISBLANK(L23),""," ("&L23&")"))) -> Bozen, Quireiner Wassermauer, 10, Coccinella | R23: 1 | S23: 1 | T23: 401768
A24: 008 | B24: Bolzano | C24: Bozen | D24: COOP_002 | E24: Coccinella | F24: Coccinella | G24: Lungo Talvera S. Quirino, 10 | H24: Quireiner Wassermauer, 10 | K24: aziendale | L24: betriebliche | M24: 13 | N24: =IF($U$1="I",P24,Q24) -> Bozen, Quireiner Wassermauer, 10, Coccinella (betriebliche) | O24: COOP_002_02 | P24: =IF(ISBLANK(B24),"",CONCATENATE(B24,IF(ISBLANK(I24),""," - " & I24),", ", G24,", ",E24,IF(ISBLANK(K24),""," ("&K24&")"))) -> Bolzano, Lungo Talvera S. Quirino, 10, Coccinella (aziendale) | Q24: =IF(ISBLANK(C24),"",CONCATENATE(C24,IF(ISBLANK(J24),""," - " & J24),", ", H24,", ",F24,IF(ISBLANK(L24),""," ("&L24&")"))) -> Bozen, Quireiner Wassermauer, 10, Coccinella (betriebliche) | R24: 1 | S24: 1 | T24: 401768
A25: 008 | B25: Bolzano | C25: Bozen | D25: COOP_006 | E25: Babycoop | F25: Babycoop | G25: Via Rosmini, 44 | H25: Rosministraße, 44 | M25: 15 | N25: =IF($U$1="I",P25,Q25) -> Bozen, Rosministraße, 44, Babycoop | O25: COOP_006_04 | P25: =IF(ISBLANK(B25),"",CONCATENATE(B25,IF(ISBLANK(I25),""," - " & I25),", ", G25,", ",E25,IF(ISBLANK(K25),""," ("&K25&")"))) -> Bolzano, Via Rosmini, 44, Babycoop | Q25: =IF(ISBLANK(C25),"",CONCATENATE(C25,IF(ISBLANK(J25),""," - " & J25),", ", H25,", ",F25,IF(ISBLANK(L25),""," ("&L25&")"))) -> Bozen, Rosministraße, 44, Babycoop | R25: 1 | S25: 1 | T25: 401768
A26: 008 | B26: Bolzano | C26: Bozen | D26: COOP_002 | E26: Coccinella | F26: Coccinella | G26: Via Macello, 55 | H26: Schlachthofstraße, 55 | K26: aziendale | L26: betriebliche | M26: 20 | N26: =IF($U$1="I",P26,Q26) -> Bozen, Schlachthofstraße, 55, Coccinella (betriebliche) | O26: COOP_002_26 | P26: =IF(ISBLANK(B26),"",CONCATENATE(B26,IF(ISBLANK(I26),""," - " & I26),", ", G26,", ",E26,IF(ISBLANK(K26),""," ("&K26&")"))) -> Bolzano, Via Macello, 55, Coccinella (aziendale) | Q26: =IF(ISBLANK(C26),"",CONCATENATE(C26,IF(ISBLANK(J26),""," - " & J26),", ", H26,", ",F26,IF(ISBLANK(L26),""," ("&L26&")"))) -> Bozen, Schlachthofstraße, 55, Coccinella (betriebliche) | R26: 1 | S26: 45292 | T26: 401768
A27: 008 | B27: Bolzano | C27: Bozen | D27: COOP_004 | E27: Tagesmütter | F27: Tagesmütter | G27: Via Macello, 55 | H27: Schlachthofstraße, 55 | K27: aziendale | L27: betriebliche | M27: 20 | N27: =IF($U$1="I",P27,Q27) -> Bozen, Schlachthofstraße, 55, Tagesmütter (betriebliche) | O27: COOP_004_03 | P27: =IF(ISBLANK(B27),"",CONCATENATE(B27,IF(ISBLANK(I27),""," - " & I27),", ", G27,", ",E27,IF(ISBLANK(K27),""," ("&K27&")"))) -> Bolzano, Via Macello, 55, Tagesmütter (aziendale) | Q27: =IF(ISBLANK(C27),"",CONCATENATE(C27,IF(ISBLANK(J27),""," - " & J27),", ", H27,", ",F27,IF(ISBLANK(L27),""," ("&L27&")"))) -> Bozen, Schlachthofstraße, 55, Tagesmütter (betriebliche) | R27: 1 | S27: 1 | T27: 45291
A28: 008 | B28: Bolzano | C28: Bozen | D28: COOP_001 | E28: Casa Bimbo | F28: Casa Bimbo | G28: Via Volta, 11 (NOI TechPark) | H28: Voltastraße, 11 (NOI TechPark) | K28: aziendale | L28: betriebliche | M28: 30 | N28: =IF($U$1="I",P28,Q28) -> Bozen, Voltastraße, 11 (NOI TechPark), Casa Bimbo (betriebliche) | O28: COOP_001_25 | P28: =IF(ISBLANK(B28),"",CONCATENATE(B28,IF(ISBLANK(I28),""," - " & I28),", ", G28,", ",E28,IF(ISBLANK(K28),""," ("&K28&")"))) -> Bolzano, Via Volta, 11 (NOI TechPark), Casa Bimbo (aziendale) | Q28: =IF(ISBLANK(C28),"",CONCATENATE(C28,IF(ISBLANK(J28),""," - " & J28),", ", H28,", ",F28,IF(ISBLANK(L28),""," ("&L28&")"))) -> Bozen, Voltastraße, 11 (NOI TechPark), Casa Bimbo (betriebliche) | R28: 1 | S28: 43709 | T28: 401768
A29: 008 | B29: Bolzano | C29: Bozen | D29: COOP_004 | E29: Tagesmütter | F29: Tagesmütter | G29: Via Waltraud Gebert Deeg, 4 | H29: Waltraud-Gebert-Deeg-Straße, 4 | K29: aziendale | L29: betriebliche | M29: 15 | N29: =IF($U$1="I",P29,Q29) -> Bozen, Waltraud-Gebert-Deeg-Straße, 4, Tagesmütter (betriebliche) | O29: COOP_004_04 | P29: =IF(ISBLANK(B29),"",CONCATENATE(B29,IF(ISBLANK(I29),""," - " & I29),", ", G29,", ",E29,IF(ISBLANK(K29),""," ("&K29&")"))) -> Bolzano, Via Waltraud Gebert Deeg, 4, Tagesmütter (aziendale) | Q29: =IF(ISBLANK(C29),"",CONCATENATE(C29,IF(ISBLANK(J29),""," - " & J29),", ", H29,", ",F29,IF(ISBLANK(L29),""," ("&L29&")"))) -> Bozen, Waltraud-Gebert-Deeg-Straße, 4, Tagesmütter (betriebliche) | R29: 1 | S29: 1 | T29: 401768
A30: 008 | B30: Bolzano | C30: Bozen | D30: COOP_001 | E30: Casa Bimbo | F30: Casa Bimbo | G30: Via Vanga, 85 | H30: Wangergasse, 85 | M30: 18 | N30: =IF($U$1="I",P30,Q30) -> Bozen, Wangergasse, 85, Casa Bimbo | O30: COOP_001_21 | P30: =IF(ISBLANK(B30),"",CONCATENATE(B30,IF(ISBLANK(I30),""," - " & I30),", ", G30,", ",E30,IF(ISBLANK(K30),""," ("&K30&")"))) -> Bolzano, Via Vanga, 85, Casa Bimbo | Q30: =IF(ISBLANK(C30),"",CONCATENATE(C30,IF(ISBLANK(J30),""," - " & J30),", ", H30,", ",F30,IF(ISBLANK(L30),""," ("&L30&")"))) -> Bozen, Wangergasse, 85, Casa Bimbo | R30: 1 | S30: 1 | T30: 401768
A31: 012 | B31: Bronzolo | C31: Branzoll | D31: COOP_001 | E31: Casa Bimbo | F31: Casa Bimbo | G31: Via Aquila Nera, 18/A | H31: Schwarz-Adler-Straße, 18/A | M31: 16 | N31: =IF($U$1="I",P31,Q31) -> Branzoll, Schwarz-Adler-Straße, 18/A, Casa Bimbo | O31: COOP_001_07 | P31: =IF(ISBLANK(B31),"",CONCATENATE(B31,IF(ISBLANK(I31),""," - " & I31),", ", G31,", ",E31,IF(ISBLANK(K31),""," ("&K31&")"))) -> Bronzolo, Via Aquila Nera, 18/A, Casa Bimbo | Q31: =IF(ISBLANK(C31),"",CONCATENATE(C31,IF(ISBLANK(J31),""," - " & J31),", ", H31,", ",F31,IF(ISBLANK(L31),""," ("&L31&")"))) -> Branzoll, Schwarz-Adler-Straße, 18/A, Casa Bimbo | R31: 1 | S31: 1 | T31: 401768
A32: 011 | B32: Bressanone | C32: Brixen | D32: COOP_002 | E32: Coccinella | F32: Coccinella | G32: Via Vintler, 5 | H32: Vintlerweg, 5 | I32: Millan | J32: Milland | M32: 20 | N32: =IF($U$1="I",P32,Q32) -> Brixen - Milland, Vintlerweg, 5, Coccinella | O32: COOP_002_06 | P32: =IF(ISBLANK(B32),"",CONCATENATE(B32,IF(ISBLANK(I32),""," - " & I32),", ", G32,", ",E32,IF(ISBLANK(K32),""," ("&K32&")"))) -> Bressanone - Millan, Via Vintler, 5, Coccinella | Q32: =IF(ISBLANK(C32),"",CONCATENATE(C32,IF(ISBLANK(J32),""," - " & J32),", ", H32,", ",F32,IF(ISBLANK(L32),""," ("&L32&")"))) -> Brixen - Milland, Vintlerweg, 5, Coccinella | R32: 1 | S32: 44425 | T32: 45030
A33: 011 | B33: Bressanone | C33: Brixen | D33: COOP_002 | E33: Coccinella | F33: Coccinella | G33: Via Stazione, 29 | H33: Bahnhofstraße, 29 | M33: 10 | N33: =IF($U$1="I",P33,Q33) -> Brixen, Bahnhofstraße, 29, Coccinella | O33: COOP_002_07 | P33: =IF(ISBLANK(B33),"",CONCATENATE(B33,IF(ISBLANK(I33),""," - " & I33),", ", G33,", ",E33,IF(ISBLANK(K33),""," ("&K33&")"))) -> Bressanone, Via Stazione, 29, Coccinella | Q33: =IF(ISBLANK(C33),"",CONCATENATE(C33,IF(ISBLANK(J33),""," - " & J33),", ", H33,", ",F33,IF(ISBLANK(L33),""," ("&L33&")"))) -> Brixen, Bahnhofstraße, 29, Coccinella | R33: 1 | S33: 43101 | T33: 45032
A34: 011 | B34: Bressanone | C34: Brixen | D34: COOP_002 | E34: Coccinella | F34: Coccinella | G34: Via Stazione, 29 | H34: Bahnhofstraße, 29 | K34: aziendale | L34: betriebliche | M34: 10 | N34: =IF($U$1="I",P34,Q34) -> Brixen, Bahnhofstraße, 29, Coccinella (betriebliche) | O34: COOP_002_25 | P34: =IF(ISBLANK(B34),"",CONCATENATE(B34,IF(ISBLANK(I34),""," - " & I34),", ", G34,", ",E34,IF(ISBLANK(K34),""," ("&K34&")"))) -> Bressanone, Via Stazione, 29, Coccinella (aziendale) | Q34: =IF(ISBLANK(C34),"",CONCATENATE(C34,IF(ISBLANK(J34),""," - " & J34),", ", H34,", ",F34,IF(ISBLANK(L34),""," ("&L34&")"))) -> Brixen, Bahnhofstraße, 29, Coccinella (betriebliche) | R34: 1 | S34: 45033 | T34: 401768
A35: 011 | B35: Bressanone | C35: Brixen | D35: COOP_002 | E35: Coccinella | F35: Coccinella | G35: Via Brennero, 13 | H35: Brennerstraße, 13 | M35: 24 | N35: =IF($U$1="I",P35,Q35) -> Brixen, Brennerstraße, 13, Coccinella | O35: COOP_002_23 | P35: =IF(ISBLANK(B35),"",CONCATENATE(B35,IF(ISBLANK(I35),""," - " & I35),", ", G35,", ",E35,IF(ISBLANK(K35),""," ("&K35&")"))) -> Bressanone, Via Brennero, 13, Coccinella | Q35: =IF(ISBLANK(C35),"",CONCATENATE(C35,IF(ISBLANK(J35),""," - " & J35),", ", H35,", ",F35,IF(ISBLANK(L35),""," ("&L35&")"))) -> Brixen, Brennerstraße, 13, Coccinella | R35: 1 | S35: 45033 | T35: 401768
A36: 011 | B36: Bressanone | C36: Brixen | D36: COOP_002 | E36: Coccinella | F36: Coccinella | G36: Via Brennero, 13 | H36: Brennerstraße, 13 | K36: aziendale | L36: betriebliche | M36: 24 | N36: =IF($U$1="I",P36,Q36) -> Brixen, Brennerstraße, 13, Coccinella (betriebliche) | O36: COOP_002_24 | P36: =IF(ISBLANK(B36),"",CONCATENATE(B36,IF(ISBLANK(I36),""," - " & I36),", ", G36,", ",E36,IF(ISBLANK(K36),""," ("&K36&")"))) -> Bressanone, Via Brennero, 13, Coccinella (aziendale) | Q36: =IF(ISBLANK(C36),"",CONCATENATE(C36,IF(ISBLANK(J36),""," - " & J36),", ", H36,", ",F36,IF(ISBLANK(L36),""," ("&L36&")"))) -> Brixen, Brennerstraße, 13, Coccinella (betriebliche) | R36: 1 | S36: 45033 | T36: 401768
A37: 011 | B37: Bressanone | C37: Brixen | D37: COOP_002 | E37: Coccinella | F37: Coccinella | G37: S. Andrea, 26 | H37: St. Andrä, 26 | K37: aziendale | L37: betriebliche | M37: 20 | N37: =IF($U$1="I",P37,Q37) -> Brixen, St. Andrä, 26, Coccinella (betriebliche) | O37: COOP_002_22 | P37: =IF(ISBLANK(B37),"",CONCATENATE(B37,IF(ISBLANK(I37),""," - " & I37),", ", G37,", ",E37,IF(ISBLANK(K37),""," ("&K37&")"))) -> Bressanone, S. Andrea, 26, Coccinella (aziendale) | Q37: =IF(ISBLANK(C37),"",CONCATENATE(C37,IF(ISBLANK(J37),""," - " & J37),", ", H37,", ",F37,IF(ISBLANK(L37),""," ("&L37&")"))) -> Brixen, St. Andrä, 26, Coccinella (betriebliche) | R37: 1 | S37: 44998 | T37: 401768
A38: 013 | B38: Brunico | C38: Bruneck | D38: COOP_007 | E38: Die Kinderfreunde Südtirol | F38: Die Kinderfreunde Südtirol | G38: Via H.T. Niederbacher, 4 | H38: H. T. Niederbacher-Straße, 4 | I38: Riscone | J38: Reischach | M38: 10 | N38: =IF($U$1="I",P38,Q38) -> Bruneck - Reischach, H. T. Niederbacher-Straße, 4, Die Kinderfreunde Südtirol | O38: COOP_007_03 | P38: =IF(ISBLANK(B38),"",CONCATENATE(B38,IF(ISBLANK(I38),""," - " & I38),", ", G38,", ",E38,IF(ISBLANK(K38),""," ("&K38&")"))) -> Brunico - Riscone, Via H.T. Niederbacher, 4, Die Kinderfreunde Südtirol | Q38: =IF(ISBLANK(C38),"",CONCATENATE(C38,IF(ISBLANK(J38),""," - " & J38),", ", H38,", ",F38,IF(ISBLANK(L38),""," ("&L38&")"))) -> Bruneck - Reischach, H. T. Niederbacher-Straße, 4, Die Kinderfreunde Südtirol | R38: 1 | S38: 1 | T38: 401768
A39: 013 | B39: Brunico | C39: Bruneck | D39: COOP_007 | E39: Die Kinderfreunde Südtirol | F39: Die Kinderfreunde Südtirol | G39: Via Gremsen, 24 | H39: Gremsenstraße, 24 | I39: S. Giorgio | J39: St. Georgen | M39: 20 | N39: =IF($U$1="I",P39,Q39) -> Bruneck - St. Georgen, Gremsenstraße, 24, Die Kinderfreunde Südtirol | O39: COOP_007_15 | P39: =IF(ISBLANK(B39),"",CONCATENATE(B39,IF(ISBLANK(I39),""," - " & I39),", ", G39,", ",E39,IF(ISBLANK(K39),""," ("&K39&")"))) -> Brunico - S. Giorgio , Via Gremsen, 24, Die Kinderfreunde Südtirol | Q39: =IF(ISBLANK(C39),"",CONCATENATE(C39,IF(ISBLANK(J39),""," - " & J39),", ", H39,", ",F39,IF(ISBLANK(L39),""," ("&L39&")"))) -> Bruneck - St. Georgen, Gremsenstraße, 24, Die Kinderfreunde Südtirol | R39: 1 | S39: 1 | T39: 401768
A40: 013 | B40: Brunico | C40: Bruneck | D40: COOP_007 | E40: Die Kinderfreunde Südtirol | F40: Die Kinderfreunde Südtirol | G40: Via Bruder Willram, 4 | H40: B.-Willram-Strasse, 4 | M40: 20 | N40: =IF($U$1="I",P40,Q40) -> Bruneck, B.-Willram-Strasse, 4, Die Kinderfreunde Südtirol | O40: COOP_007_01 | P40: =IF(ISBLANK(B40),"",CONCATENATE(B40,IF(ISBLANK(I40),""," - " & I40),", ", G40,", ",E40,IF(ISBLANK(K40),""," ("&K40&")"))) -> Brunico, Via Bruder Willram, 4, Die Kinderfreunde Südtirol | Q40: =IF(ISBLANK(C40),"",CONCATENATE(C40,IF(ISBLANK(J40),""," - " & J40),", ", H40,", ",F40,IF(ISBLANK(L40),""," ("&L40&")"))) -> Bruneck, B.-Willram-Strasse, 4, Die Kinderfreunde Südtirol | R40: 1 | S40: 1 | T40: 401768
A41: 013 | B41: Brunico | C41: Bruneck | D41: COOP_007 | E41: Die Kinderfreunde Südtirol | F41: Die Kinderfreunde Südtirol | G41: Via Hermann Delago, 2 | H41: H.-Delago-Strasse, 2 | M41: 20 | N41: =IF($U$1="I",P41,Q41) -> Bruneck, H.-Delago-Strasse, 2, Die Kinderfreunde Südtirol | O41: COOP_007_04 | P41: =IF(ISBLANK(B41),"",CONCATENATE(B41,IF(ISBLANK(I41),""," - " & I41),", ", G41,", ",E41,IF(ISBLANK(K41),""," ("&K41&")"))) -> Brunico, Via Hermann Delago, 2, Die Kinderfreunde Südtirol | Q41: =IF(ISBLANK(C41),"",CONCATENATE(C41,IF(ISBLANK(J41),""," - " & J41),", ", H41,", ",F41,IF(ISBLANK(L41),""," ("&L41&")"))) -> Bruneck, H.-Delago-Strasse, 2, Die Kinderfreunde Südtirol | R41: 1 | S41: 1 | T41: 401768
A42: 013 | B42: Brunico | C42: Bruneck | D42: COOP_007 | E42: Die Kinderfreunde Südtirol | F42: Die Kinderfreunde Südtirol | G42: Via Campi della Rienza, 21 | H42: Rienzfeldweg, 21 | K42: aziendale | L42: betriebliche | M42: 20 | N42: =IF($U$1="I",P42,Q42) -> Bruneck, Rienzfeldweg, 21, Die Kinderfreunde Südtirol (betriebliche) | O42: COOP_007_02 | P42: =IF(ISBLANK(B42),"",CONCATENATE(B42,IF(ISBLANK(I42),""," - " & I42),", ", G42,", ",E42,IF(ISBLANK(K42),""," ("&K42&")"))) -> Brunico, Via Campi della Rienza, 21, Die Kinderfreunde Südtirol (aziendale) | Q42: =IF(ISBLANK(C42),"",CONCATENATE(C42,IF(ISBLANK(J42),""," - " & J42),", ", H42,", ",F42,IF(ISBLANK(L42),""," ("&L42&")"))) -> Bruneck, Rienzfeldweg, 21, Die Kinderfreunde Südtirol (betriebliche) | R42: 1 | S42: 1 | T42: 401768
A43: 066 | B43: Postal | C43: Burgstall | D43: COOP_004 | E43: Tagesmütter | F43: Tagesmütter | G43: Winkelau, 5 | H43: Winkelau, 5 | K43: aziendale | L43: betriebliche | M43: 10 | N43: =IF($U$1="I",P43,Q43) -> Burgstall, Winkelau, 5, Tagesmütter (betriebliche) | O43: COOP_004_18 | P43: =IF(ISBLANK(B43),"",CONCATENATE(B43,IF(ISBLANK(I43),""," - " & I43),", ", G43,", ",E43,IF(ISBLANK(K43),""," ("&K43&")"))) -> Postal, Winkelau, 5, Tagesmütter (aziendale) | Q43: =IF(ISBLANK(C43),"",CONCATENATE(C43,IF(ISBLANK(J43),""," - " & J43),", ", H43,", ",F43,IF(ISBLANK(L43),""," ("&L43&")"))) -> Burgstall, Winkelau, 5, Tagesmütter (betriebliche) | R43: 1 | S43: 1 | T43: 401768
A44: 026 | B44: Corvara | C44: Corvara | D44: COOP_001 | E44: Casa Bimbo | F44: Casa Bimbo | G44: Str.Col Pradat, 28 | H44: Col-Pradat-Straße, 28 | I44: Colfosco | J44: Kolfuschg | N44: =IF($U$1="I",P44,Q44) -> Corvara - Kolfuschg, Col-Pradat-Straße, 28 , Casa Bimbo | O44: COOP_001_26 | P44: =IF(ISBLANK(B44),"",CONCATENATE(B44,IF(ISBLANK(I44),""," - " & I44),", ", G44,", ",E44,IF(ISBLANK(K44),""," ("&K44&")"))) -> Corvara - Colfosco, Str.Col Pradat, 28 , Casa Bimbo | Q44: =IF(ISBLANK(C44),"",CONCATENATE(C44,IF(ISBLANK(J44),""," - " & J44),", ", H44,", ",F44,IF(ISBLANK(L44),""," ("&L44&")"))) -> Corvara - Kolfuschg, Col-Pradat-Straße, 28 , Casa Bimbo | R44: 1 | S44: 43709 | T44: 401768
A45: 059 | B45: Nova Ponente | C45: Deutschnofen | D45: COOP_004 | E45: Tagesmütter | F45: Tagesmütter | G45: Via Castello Thurn, 8 | H45: Schloss-Thurn-Straße, 8 | M45: 10 | N45: =IF($U$1="I",P45,Q45) -> Deutschnofen, Schloss-Thurn-Straße, 8, Tagesmütter | O45: COOP_004_16 | P45: =IF(ISBLANK(B45),"",CONCATENATE(B45,IF(ISBLANK(I45),""," - " & I45),", ", G45,", ",E45,IF(ISBLANK(K45),""," ("&K45&")"))) -> Nova Ponente, Via Castello Thurn, 8, Tagesmütter | Q45: =IF(ISBLANK(C45),"",CONCATENATE(C45,IF(ISBLANK(J45),""," - " & J45),", ", H45,", ",F45,IF(ISBLANK(L45),""," ("&L45&")"))) -> Deutschnofen, Schloss-Thurn-Straße, 8, Tagesmütter | R45: 1 | S45: 43285 | T45: 401768
A46: 047 | B46: Marebbe | C46: Enneberg | D46: COOP_001 | E46: Casa Bimbo | F46: Casa Bimbo | G46: Str. Plan de Corones, 34 | H46: Str. Plan de Corones, 34 | I46: S. Vigilio | J46: St. Vigil | M46: 30 | N46: =IF($U$1="I",P46,Q46) -> Enneberg - St. Vigil, Str. Plan de Corones, 34, Casa Bimbo | O46: COOP_001_27 | P46: =IF(ISBLANK(B46),"",CONCATENATE(B46,IF(ISBLANK(I46),""," - " & I46),", ", G46,", ",E46,IF(ISBLANK(K46),""," ("&K46&")"))) -> Marebbe - S. Vigilio, Str. Plan de Corones, 34, Casa Bimbo | Q46: =IF(ISBLANK(C46),"",CONCATENATE(C46,IF(ISBLANK(J46),""," - " & J46),", ", H46,", ",F46,IF(ISBLANK(L46),""," ("&L46&")"))) -> Enneberg - St. Vigil, Str. Plan de Corones, 34, Casa Bimbo | R46: 1 | S46: 1 | T46: 401768
A47: 004 | B47: Appiano s.s.d.v. | C47: Eppan | D47: COOP_004 | E47: Tagesmütter | F47: Tagesmütter | G47: Via Pillhof,53 | H47: Pillhofstraße, 53 | I47: Frangarto | J47: Frangart | M47: 18 | N47: =IF($U$1="I",P47,Q47) -> Eppan - Frangart, Pillhofstraße, 53, Tagesmütter | O47: COOP_004_02 | P47: =IF(ISBLANK(B47),"",CONCATENATE(B47,IF(ISBLANK(I47),""," - " & I47),", ", G47,", ",E47,IF(ISBLANK(K47),""," ("&K47&")"))) -> Appiano s.s.d.v. - Frangarto, Via Pillhof,53, Tagesmütter | Q47: =IF(ISBLANK(C47),"",CONCATENATE(C47,IF(ISBLANK(J47),""," - " & J47),", ", H47,", ",F47,IF(ISBLANK(L47),""," ("&L47&")"))) -> Eppan - Frangart, Pillhofstraße, 53, Tagesmütter | R47: 1 | S47: 1 | T47: 401768
A48: 004 | B48: Appiano s.s.d.v. | C48: Eppan | D48: COOP_009 | E48: Xenia | F48: Xenia | G48: Via Artigiani, 10 | H48: Handwerkerstraße, 10 | I48: S. Michele | J48: St. Michael | K48: aziendale | L48: betriebliche | M48: 17 | N48: =IF($U$1="I",P48,Q48) -> Eppan - St. Michael, Handwerkerstraße, 10, Xenia (betriebliche) | O48: COOP_009_01 | P48: =IF(ISBLANK(B48),"",CONCATENATE(B48,IF(ISBLANK(I48),""," - " & I48),", ", G48,", ",E48,IF(ISBLANK(K48),""," ("&K48&")"))) -> Appiano s.s.d.v. - S. Michele, Via Artigiani, 10, Xenia (aziendale) | Q48: =IF(ISBLANK(C48),"",CONCATENATE(C48,IF(ISBLANK(J48),""," - " & J48),", ", H48,", ",F48,IF(ISBLANK(L48),""," ("&L48&")"))) -> Eppan - St. Michael, Handwerkerstraße, 10, Xenia (betriebliche) | R48: 1 | S48: 1 | T48: 401768
A49: 004 | B49: Appiano s.s.d.v. | C49: Eppan | D49: COOP_013 | E49: Paideias | F49: Paideias | G49: Via Sill, 3 (Villa Panda) | H49: Sillweg, 3 (Villa Panda) | I49: S. Michele | J49: St. Michael | M49: 30 | N49: =IF($U$1="I",P49,Q49) -> Eppan - St. Michael, Sillweg, 3 (Villa Panda), Paideias | O49: COOP_013_07 | P49: =IF(ISBLANK(B49),"",CONCATENATE(B49,IF(ISBLANK(I49),""," - " & I49),", ", G49,", ",E49,IF(ISBLANK(K49),""," ("&K49&")"))) -> Appiano s.s.d.v. - S. Michele, Via Sill, 3 (Villa Panda), Paideias | Q49: =IF(ISBLANK(C49),"",CONCATENATE(C49,IF(ISBLANK(J49),""," - " & J49),", ", H49,", ",F49,IF(ISBLANK(L49),""," ("&L49&")"))) -> Eppan - St. Michael, Sillweg, 3 (Villa Panda), Paideias | R49: 1 | S49: 45230 | T49: 401768
A50: 004 | B50: Appiano s.s.d.v. | C50: Eppan | D50: COOP_013 | E50: Paideias | F50: Paideias | G50: Via Sill, 3 (Villa Panda) | H50: Sillweg, 3 (Villa Panda) | I50: S. Michele | J50: St. Michael | K50: aziendale | L50: betriebliche | M50: 16 | N50: =IF($U$1="I",P50,Q50) -> Eppan - St. Michael, Sillweg, 3 (Villa Panda), Paideias (betriebliche) | O50: COOP_013_02 | P50: =IF(ISBLANK(B50),"",CONCATENATE(B50,IF(ISBLANK(I50),""," - " & I50),", ", G50,", ",E50,IF(ISBLANK(K50),""," ("&K50&")"))) -> Appiano s.s.d.v. - S. Michele, Via Sill, 3 (Villa Panda), Paideias (aziendale) | Q50: =IF(ISBLANK(C50),"",CONCATENATE(C50,IF(ISBLANK(J50),""," - " & J50),", ", H50,", ",F50,IF(ISBLANK(L50),""," ("&L50&")"))) -> Eppan - St. Michael, Sillweg, 3 (Villa Panda), Paideias (betriebliche) | R50: 1 | S50: 43466 | T50: 45229
A51: 004 | B51: Appiano s.s.d.v. | C51: Eppan | D51: COOP_013 | E51: Paideias | F51: Paideias | G51: Via Sill, 3 (Villa Zebra) | H51: Sillweg, 3 (Villa Zebra) | I51: S. Michele | J51: St. Michael | K51: aziendale | L51: betriebliche | M51: 16 | N51: =IF($U$1="I",P51,Q51) -> Eppan - St. Michael, Sillweg, 3 (Villa Zebra), Paideias (betriebliche) | O51: COOP_013_01 | P51: =IF(ISBLANK(B51),"",CONCATENATE(B51,IF(ISBLANK(I51),""," - " & I51),", ", G51,", ",E51,IF(ISBLANK(K51),""," ("&K51&")"))) -> Appiano s.s.d.v. - S. Michele, Via Sill, 3 (Villa Zebra), Paideias (aziendale) | Q51: =IF(ISBLANK(C51),"",CONCATENATE(C51,IF(ISBLANK(J51),""," - " & J51),", ", H51,", ",F51,IF(ISBLANK(L51),""," ("&L51&")"))) -> Eppan - St. Michael, Sillweg, 3 (Villa Zebra), Paideias (betriebliche) | R51: 1 | S51: 43009 | T51: 401768
A52: 004 | B52: Appiano s.s.d.v. | C52: Eppan | D52: COOP_004 | E52: Tagesmütter | F52: Tagesmütter | G52: Piazza S. Michele, 7 | H52: St.-Michael-Platz, 7 | I52: S. Michele | J52: St. Michael | M52: 14 | N52: =IF($U$1="I",P52,Q52) -> Eppan - St. Michael, St.-Michael-Platz, 7, Tagesmütter | O52: COOP_004_01 | P52: =IF(ISBLANK(B52),"",CONCATENATE(B52,IF(ISBLANK(I52),""," - " & I52),", ", G52,", ",E52,IF(ISBLANK(K52),""," ("&K52&")"))) -> Appiano s.s.d.v. - S. Michele, Piazza S. Michele, 7, Tagesmütter | Q52: =IF(ISBLANK(C52),"",CONCATENATE(C52,IF(ISBLANK(J52),""," - " & J52),", ", H52,", ",F52,IF(ISBLANK(L52),""," ("&L52&")"))) -> Eppan - St. Michael, St.-Michael-Platz, 7, Tagesmütter | R52: 1 | S52: 1 | T52: 401768
A53: 004 | B53: Appiano s.s.d.v. | C53: Eppan | D53: COOP_013 | E53: Paideias | F53: Paideias | G53: Via della Scuola, 1 | H53: Schulweg, 1 | I53: S. Paolo | J53: St. Pauls | M53: 26 | N53: =IF($U$1="I",P53,Q53) -> Eppan - St. Pauls, Schulweg, 1, Paideias | O53: COOP_013_03 | P53: =IF(ISBLANK(B53),"",CONCATENATE(B53,IF(ISBLANK(I53),""," - " & I53),", ", G53,", ",E53,IF(ISBLANK(K53),""," ("&K53&")"))) -> Appiano s.s.d.v. - S. Paolo, Via della Scuola, 1, Paideias | Q53: =IF(ISBLANK(C53),"",CONCATENATE(C53,IF(ISBLANK(J53),""," - " & J53),", ", H53,", ",F53,IF(ISBLANK(L53),""," ("&L53&")"))) -> Eppan - St. Pauls, Schulweg, 1, Paideias | R53: 1 | S53: 43871 | T53: 401768
A54: 116 | B54: Velturno | C54: Feldthurns | D54: COOP_004 | E54: Tagesmütter | F54: Tagesmütter | G54: Piazza Magnago, 2 | H54: Magnagoplatz, 2 | M54: 20 | N54: =IF($U$1="I",P54,Q54) -> Feldthurns, Magnagoplatz, 2, Tagesmütter | O54: COOP_004_23 | P54: =IF(ISBLANK(B54),"",CONCATENATE(B54,IF(ISBLANK(I54),""," - " & I54),", ", G54,", ",E54,IF(ISBLANK(K54),""," ("&K54&")"))) -> Velturno, Piazza Magnago, 2, Tagesmütter | Q54: =IF(ISBLANK(C54),"",CONCATENATE(C54,IF(ISBLANK(J54),""," - " & J54),", ", H54,", ",F54,IF(ISBLANK(L54),""," ("&L54&")"))) -> Feldthurns, Magnagoplatz, 2, Tagesmütter | R54: 1 | S54: 44562 | T54: 401768
A55: 016 | B55: Campo di Trens | C55: Freienfeld | D55: COOP_001 | E55: Casa Bimbo | F55: Casa Bimbo | G55: Via Leiten, 4/A | H55: Leitenweg, 4/A | N55: =IF($U$1="I",P55,Q55) -> Freienfeld, Leitenweg, 4/A, Casa Bimbo | O55: COOP_001_08 | P55: =IF(ISBLANK(B55),"",CONCATENATE(B55,IF(ISBLANK(I55),""," - " & I55),", ", G55,", ",E55,IF(ISBLANK(K55),""," ("&K55&")"))) -> Campo di Trens, Via Leiten, 4/A, Casa Bimbo | Q55: =IF(ISBLANK(C55),"",CONCATENATE(C55,IF(ISBLANK(J55),""," - " & J55),", ", H55,", ",F55,IF(ISBLANK(L55),""," ("&L55&")"))) -> Freienfeld, Leitenweg, 4/A, Casa Bimbo | R55: 1 | S55: 1 | T55: 401768
A56: 034 | B56: Gais | C56: Gais | D56: COOP_002 | E56: Coccinella | F56: Coccinella | G56: Via Kehlburg, 1 | H56: Kehlburgstraße, 1 | M56: 18 | N56: =IF($U$1="I",P56,Q56) -> Gais, Kehlburgstraße, 1, Coccinella | O56: COOP_002_08 | P56: =IF(ISBLANK(B56),"",CONCATENATE(B56,IF(ISBLANK(I56),""," - " & I56),", ", G56,", ",E56,IF(ISBLANK(K56),""," ("&K56&")"))) -> Gais, Via Kehlburg, 1, Coccinella | Q56: =IF(ISBLANK(C56),"",CONCATENATE(C56,IF(ISBLANK(J56),""," - " & J56),", ", H56,", ",F56,IF(ISBLANK(L56),""," ("&L56&")"))) -> Gais, Kehlburgstraße, 1, Coccinella | R56: 1 | S56: 1 | T56: 401768
A57: 036 | B57: Glorenza | C57: Glurns | D57: COOP_018 | E57: LoLa | F57: LoLa | G57: Piazza Municipio, 9 | H57: Rathausplatz, 9 | M57: 15 | N57: =IF($U$1="I",P57,Q57) -> Glurns, Rathausplatz, 9, LoLa | O57: COOP_018_03 | P57: =IF(ISBLANK(B57),"",CONCATENATE(B57,IF(ISBLANK(I57),""," - " & I57),", ", G57,", ",E57,IF(ISBLANK(K57),""," ("&K57&")"))) -> Glorenza, Piazza Municipio, 9, LoLa | Q57: =IF(ISBLANK(C57),"",CONCATENATE(C57,IF(ISBLANK(J57),""," - " & J57),", ", H57,", ",F57,IF(ISBLANK(L57),""," ("&L57&")"))) -> Glurns, Rathausplatz, 9, LoLa | R57: 1 | S57: 45173 | T57: 401768
A58: 109 | B58: Valle di Casies | C58: Gsies | D58: COOP_007 | E58: Die Kinderfreunde Südtirol | F58: Die Kinderfreunde Südtirol | G58: San Martino, 12 | H58: St. Martin,12 | M58: 30 | N58: =IF($U$1="I",P58,Q58) -> Gsies, St. Martin,12, Die Kinderfreunde Südtirol | O58: COOP_007_12 | P58: =IF(ISBLANK(B58),"",CONCATENATE(B58,IF(ISBLANK(I58),""," - " & I58),", ", G58,", ",E58,IF(ISBLANK(K58),""," ("&K58&")"))) -> Valle di Casies, San Martino, 12, Die Kinderfreunde Südtirol | Q58: =IF(ISBLANK(C58),"",CONCATENATE(C58,IF(ISBLANK(J58),""," - " & J58),", ", H58,", ",F58,IF(ISBLANK(L58),""," ("&L58&")"))) -> Gsies, St. Martin,12, Die Kinderfreunde Südtirol | R58: 1 | S58: 44109 | T58: 401768
A59: 079 | B59: San Genesio Atesino | C59: Jenesien | D59: COOP_004 | E59: Tagesmütter | F59: Tagesmütter | G59: Schrann, 6 | H59: Schrann, 6 | M59: 14 | N59: =IF($U$1="I",P59,Q59) -> Jenesien, Schrann, 6, Tagesmütter | O59: COOP_004_24 | P59: =IF(ISBLANK(B59),"",CONCATENATE(B59,IF(ISBLANK(I59),""," - " & I59),", ", G59,", ",E59,IF(ISBLANK(K59),""," ("&K59&")"))) -> San Genesio Atesino, Schrann, 6, Tagesmütter | Q59: =IF(ISBLANK(C59),"",CONCATENATE(C59,IF(ISBLANK(J59),""," - " & J59),", ", H59,", ",F59,IF(ISBLANK(L59),""," ("&L59&")"))) -> Jenesien, Schrann, 6, Tagesmütter | R59: 1 | S59: 45200 | T59: 401768
A60: 015 | B60: Caldaro s.s.d.v | C60: Kaltern | D60: COOP_009 | E60: Xenia | F60: Xenia | G60: Via Stazione, 10 | H60: Bahnhofsstraße, 10 | M60: 14 | N60: =IF($U$1="I",P60,Q60) -> Kaltern, Bahnhofsstraße, 10, Xenia | O60: COOP_009_06 | P60: =IF(ISBLANK(B60),"",CONCATENATE(B60,IF(ISBLANK(I60),""," - " & I60),", ", G60,", ",E60,IF(ISBLANK(K60),""," ("&K60&")"))) -> Caldaro s.s.d.v, Via Stazione, 10, Xenia | Q60: =IF(ISBLANK(C60),"",CONCATENATE(C60,IF(ISBLANK(J60),""," - " & J60),", ", H60,", ",F60,IF(ISBLANK(L60),""," ("&L60&")"))) -> Kaltern, Bahnhofsstraße, 10, Xenia | R60: 1 | S60: 44813 | T60: 401768
A61: 015 | B61: Caldaro s.s.d.v | C61: Kaltern | D61: COOP_004 | E61: Tagesmütter | F61: Tagesmütter | G61: Via Maria Theresia, 4/C | H61: Maria Theresien-Straße, 4/C | M61: 20 | N61: =IF($U$1="I",P61,Q61) -> Kaltern, Maria Theresien-Straße, 4/C, Tagesmütter | O61: COOP_004_05 | P61: =IF(ISBLANK(B61),"",CONCATENATE(B61,IF(ISBLANK(I61),""," - " & I61),", ", G61,", ",E61,IF(ISBLANK(K61),""," ("&K61&")"))) -> Caldaro s.s.d.v, Via Maria Theresia, 4/C, Tagesmütter | Q61: =IF(ISBLANK(C61),"",CONCATENATE(C61,IF(ISBLANK(J61),""," - " & J61),", ", H61,", ",F61,IF(ISBLANK(L61),""," ("&L61&")"))) -> Kaltern, Maria Theresien-Straße, 4/C, Tagesmütter | R61: 1 | S61: 1 | T61: 401768
A62: 015 | B62: Caldaro s.s.d.v | C62: Kaltern | D62: COOP_004 | E62: Tagesmütter | F62: Tagesmütter | G62: Via Pozzo, 52/A | H62: Pfuss, 52/A | M62: 13 | N62: =IF($U$1="I",P62,Q62) -> Kaltern, Pfuss, 52/A, Tagesmütter | O62: COOP_004_32 | P62: =IF(ISBLANK(B62),"",CONCATENATE(B62,IF(ISBLANK(I62),""," - " & I62),", ", G62,", ",E62,IF(ISBLANK(K62),""," ("&K62&")"))) -> Caldaro s.s.d.v, Via Pozzo, 52/A, Tagesmütter | Q62: =IF(ISBLANK(C62),"",CONCATENATE(C62,IF(ISBLANK(J62),""," - " & J62),", ", H62,", ",F62,IF(ISBLANK(L62),""," ("&L62&")"))) -> Kaltern, Pfuss, 52/A, Tagesmütter | R62: 1 | S62: 44816 | T62: 401768
A63: 018 | B63: Castelbello-Ciardes | C63: Kastellbell-Tschars | D63: COOP_007 | E63: Die Kinderfreunde Südtirol | F63: Die Kinderfreunde Südtirol | G63: Via del Ponte, 5 | H63: Bruggweg, 5 | N63: =IF($U$1="I",P63,Q63) -> Kastellbell-Tschars, Bruggweg, 5 , Die Kinderfreunde Südtirol | O63: COOP_007_11 | P63: =IF(ISBLANK(B63),"",CONCATENATE(B63,IF(ISBLANK(I63),""," - " & I63),", ", G63,", ",E63,IF(ISBLANK(K63),""," ("&K63&")"))) -> Castelbello-Ciardes, Via del Ponte, 5, Die Kinderfreunde Südtirol | Q63: =IF(ISBLANK(C63),"",CONCATENATE(C63,IF(ISBLANK(J63),""," - " & J63),", ", H63,", ",F63,IF(ISBLANK(L63),""," ("&L63&")"))) -> Kastellbell-Tschars, Bruggweg, 5 , Die Kinderfreunde Südtirol | R63: 1 | S63: 43831 | T63: 401768
A64: 019 | B64: Castelrotto | C64: Kastelruth | D64: COOP_004 | E64: Tagesmütter | F64: Tagesmütter | G64: Via Panider, 9/3A | H64: Paniderstraße, 9/3A | M64: 20 | N64: =IF($U$1="I",P64,Q64) -> Kastelruth, Paniderstraße, 9/3A, Tagesmütter | O64: COOP_004_07 | P64: =IF(ISBLANK(B64),"",CONCATENATE(B64,IF(ISBLANK(I64),""," - " & I64),", ", G64,", ",E64,IF(ISBLANK(K64),""," ("&K64&")"))) -> Castelrotto, Via Panider, 9/3A, Tagesmütter | Q64: =IF(ISBLANK(C64),"",CONCATENATE(C64,IF(ISBLANK(J64),""," - " & J64),", ", H64,", ",F64,IF(ISBLANK(L64),""," ("&L64&")"))) -> Kastelruth, Paniderstraße, 9/3A, Tagesmütter | R64: 1 | S64: 1 | T64: 401768
A65: 022 | B65: Chiusa | C65: Klausen | D65: COOP_004 | E65: Tagesmütter | F65: Tagesmütter | G65: Via Langrain, 39 | H65: Langrain, 39 | M65: 18 | N65: =IF($U$1="I",P65,Q65) -> Klausen, Langrain, 39, Tagesmütter | O65: COOP_004_09 | P65: =IF(ISBLANK(B65),"",CONCATENATE(B65,IF(ISBLANK(I65),""," - " & I65),", ", G65,", ",E65,IF(ISBLANK(K65),""," ("&K65&")"))) -> Chiusa, Via Langrain, 39, Tagesmütter | Q65: =IF(ISBLANK(C65),"",CONCATENATE(C65,IF(ISBLANK(J65),""," - " & J65),", ", H65,", ",F65,IF(ISBLANK(L65),""," ("&L65&")"))) -> Klausen, Langrain, 39, Tagesmütter | R65: 1 | S65: 1 | T65: 401768
A66: 024 | B66: Cortaccia s.s.d.v. | C66: Kurtatsch | D66: COOP_004 | E66: Tagesmütter | F66: Tagesmütter | G66: Via Andreas Hofer, 7 | H66: Andreas Hofer-Straße, 7 | M66: 10 | N66: =IF($U$1="I",P66,Q66) -> Kurtatsch, Andreas Hofer-Straße, 7, Tagesmütter | O66: COOP_004_10 | P66: =IF(ISBLANK(B66),"",CONCATENATE(B66,IF(ISBLANK(I66),""," - " & I66),", ", G66,", ",E66,IF(ISBLANK(K66),""," ("&K66&")"))) -> Cortaccia s.s.d.v., Via Andreas Hofer, 7, Tagesmütter | Q66: =IF(ISBLANK(C66),"",CONCATENATE(C66,IF(ISBLANK(J66),""," - " & J66),", ", H66,", ",F66,IF(ISBLANK(L66),""," ("&L66&")"))) -> Kurtatsch, Andreas Hofer-Straße, 7, Tagesmütter | R66: 1 | S66: 1 | T66: 401768
A67: 042 | B67: Lasa | C67: Laas | D67: COOP_007 | E67: Die Kinderfreunde Südtirol | F67: Die Kinderfreunde Südtirol | G67: Via Scuola, 4 | H67: Schulweg, 4 | M67: 20 | N67: =IF($U$1="I",P67,Q67) -> Laas, Schulweg, 4, Die Kinderfreunde Südtirol | O67: COOP_007_16 | P67: =IF(ISBLANK(B67),"",CONCATENATE(B67,IF(ISBLANK(I67),""," - " & I67),", ", G67,", ",E67,IF(ISBLANK(K67),""," ("&K67&")"))) -> Lasa, Via Scuola, 4, Die Kinderfreunde Südtirol | Q67: =IF(ISBLANK(C67),"",CONCATENATE(C67,IF(ISBLANK(J67),""," - " & J67),", ", H67,", ",F67,IF(ISBLANK(L67),""," ("&L67&")"))) -> Laas, Schulweg, 4, Die Kinderfreunde Südtirol | R67: 1 | S67: 44621 | T67: 401768
A68: 039 | B68: Laion | C68: Lajen | D68: COOP_001 | E68: Casa Bimbo | F68: Casa Bimbo | G68: Via Mitterweg, 4/B | H68: Mitterweg, 4/B | M68: 14 | N68: =IF($U$1="I",P68,Q68) -> Lajen, Mitterweg, 4/B, Casa Bimbo | O68: COOP_001_22 | P68: =IF(ISBLANK(B68),"",CONCATENATE(B68,IF(ISBLANK(I68),""," - " & I68),", ", G68,", ",E68,IF(ISBLANK(K68),""," ("&K68&")"))) -> Laion, Via Mitterweg, 4/B, Casa Bimbo | Q68: =IF(ISBLANK(C68),"",CONCATENATE(C68,IF(ISBLANK(J68),""," - " & J68),", ", H68,", ",F68,IF(ISBLANK(L68),""," ("&L68&")"))) -> Lajen, Mitterweg, 4/B, Casa Bimbo | R68: 1 | S68: 44197 | T68: 401768
A69: 041 | B69: Lana | C69: Lana | D69: COOP_004 | E69: Tagesmütter | F69: Tagesmütter | G69: Via Arciduca Eugenio, 4 | H69: Erzherzog Eugen-Straße, 4 | M69: 16 | N69: =IF($U$1="I",P69,Q69) -> Lana, Erzherzog Eugen-Straße, 4, Tagesmütter | O69: COOP_004_13 | P69: =IF(ISBLANK(B69),"",CONCATENATE(B69,IF(ISBLANK(I69),""," - " & I69),", ", G69,", ",E69,IF(ISBLANK(K69),""," ("&K69&")"))) -> Lana, Via Arciduca Eugenio, 4, Tagesmütter | Q69: =IF(ISBLANK(C69),"",CONCATENATE(C69,IF(ISBLANK(J69),""," - " & J69),", ", H69,", ",F69,IF(ISBLANK(L69),""," ("&L69&")"))) -> Lana, Erzherzog Eugen-Straße, 4, Tagesmütter | R69: 1 | S69: 1 | T69: 401768
A70: 041 | B70: Lana | C70: Lana | D70: COOP_013 | E70: Paideias | F70: Paideias | G70: Via Goldegg, 2 | H70: Goldeggstraße, 2 | M70: 17 | N70: =IF($U$1="I",P70,Q70) -> Lana, Goldeggstraße, 2, Paideias | O70: COOP_013_05 | P70: =IF(ISBLANK(B70),"",CONCATENATE(B70,IF(ISBLANK(I70),""," - " & I70),", ", G70,", ",E70,IF(ISBLANK(K70),""," ("&K70&")"))) -> Lana, Via Goldegg, 2, Paideias | Q70: =IF(ISBLANK(C70),"",CONCATENATE(C70,IF(ISBLANK(J70),""," - " & J70),", ", H70,", ",F70,IF(ISBLANK(L70),""," ("&L70&")"))) -> Lana, Goldeggstraße, 2, Paideias | R70: 1 | S70: 44817 | T70: 401768
A71: 041 | B71: Lana | C71: Lana | D71: COOP_008 | E71: Popele | F71: Popele | G71: Via Industria, 1/5 | H71: Industriestraße, 1/5 | M71: 18 | N71: =IF($U$1="I",P71,Q71) -> Lana, Industriestraße, 1/5, Popele | O71: COOP_008_03 | P71: =IF(ISBLANK(B71),"",CONCATENATE(B71,IF(ISBLANK(I71),""," - " & I71),", ", G71,", ",E71,IF(ISBLANK(K71),""," ("&K71&")"))) -> Lana, Via Industria, 1/5, Popele | Q71: =IF(ISBLANK(C71),"",CONCATENATE(C71,IF(ISBLANK(J71),""," - " & J71),", ", H71,", ",F71,IF(ISBLANK(L71),""," ("&L71&")"))) -> Lana, Industriestraße, 1/5, Popele | R71: 1 | S71: 43101 | T71: 401768
A72: 037 | B72: Laces | C72: Latsch | D72: COOP_004 | E72: Tagesmütter | F72: Tagesmütter | G72: Via Principale, 55 | H72: Hauptstraße, 55 | M72: 20 | N72: =IF($U$1="I",P72,Q72) -> Latsch, Hauptstraße, 55, Tagesmütter | O72: COOP_004_12 | P72: =IF(ISBLANK(B72),"",CONCATENATE(B72,IF(ISBLANK(I72),""," - " & I72),", ", G72,", ",E72,IF(ISBLANK(K72),""," ("&K72&")"))) -> Laces, Via Principale, 55, Tagesmütter | Q72: =IF(ISBLANK(C72),"",CONCATENATE(C72,IF(ISBLANK(J72),""," - " & J72),", ", H72,", ",F72,IF(ISBLANK(L72),""," ("&L72&")"))) -> Latsch, Hauptstraße, 55, Tagesmütter | R72: 1 | S72: 1 | T72: 401768
A73: 040 | B73: Laives | C73: Leifers | D73: COOP_001 | E73: Casa Bimbo | F73: Casa Bimbo | G73: Via S. Giacomo, 16/S | H73: St. Jakobstraße, 16/S | M73: 20 | N73: =IF($U$1="I",P73,Q73) -> Leifers, St. Jakobstraße, 16/S, Casa Bimbo | O73: COOP_001_10 | P73: =IF(ISBLANK(B73),"",CONCATENATE(B73,IF(ISBLANK(I73),""," - " & I73),", ", G73,", ",E73,IF(ISBLANK(K73),""," ("&K73&")"))) -> Laives, Via S. Giacomo, 16/S, Casa Bimbo | Q73: =IF(ISBLANK(C73),"",CONCATENATE(C73,IF(ISBLANK(J73),""," - " & J73),", ", H73,", ",F73,IF(ISBLANK(L73),""," ("&L73&")"))) -> Leifers, St. Jakobstraße, 16/S, Casa Bimbo | R73: 1 | S73: 1 | T73: 401768
A74: 044 | B74: Luson | C74: Lüsen | D74: COOP_004 | E74: Tagesmütter | F74: Tagesmütter | G74: Vicolo Sankt Kilian, 2 | H74: Sankt Kilianweg, 2 | N74: =IF($U$1="I",P74,Q74) -> Lüsen, Sankt Kilianweg, 2, Tagesmütter | O74: COOP_004_28 | P74: =IF(ISBLANK(B74),"",CONCATENATE(B74,IF(ISBLANK(I74),""," - " & I74),", ", G74,", ",E74,IF(ISBLANK(K74),""," ("&K74&")"))) -> Luson, Vicolo Sankt Kilian, 2 , Tagesmütter | Q74: =IF(ISBLANK(C74),"",CONCATENATE(C74,IF(ISBLANK(J74),""," - " & J74),", ", H74,", ",F74,IF(ISBLANK(L74),""," ("&L74&")"))) -> Lüsen, Sankt Kilianweg, 2, Tagesmütter | R74: 1 | S74: 43556 | T74: 401768
A75: 046 | B75: Malles | C75: Mals | D75: COOP_007 | E75: Die Kinderfreunde Südtirol | F75: Die Kinderfreunde Südtirol | G75: Via Generale I. Verdross, 17 | H75: General I. Verdross-Straße, 17 | M75: 20 | N75: =IF($U$1="I",P75,Q75) -> Mals, General I. Verdross-Straße, 17, Die Kinderfreunde Südtirol | O75: COOP_007_06 | P75: =IF(ISBLANK(B75),"",CONCATENATE(B75,IF(ISBLANK(I75),""," - " & I75),", ", G75,", ",E75,IF(ISBLANK(K75),""," ("&K75&")"))) -> Malles, Via Generale I. Verdross, 17, Die Kinderfreunde Südtirol | Q75: =IF(ISBLANK(C75),"",CONCATENATE(C75,IF(ISBLANK(J75),""," - " & J75),", ", H75,", ",F75,IF(ISBLANK(L75),""," ("&L75&")"))) -> Mals, General I. Verdross-Straße, 17, Die Kinderfreunde Südtirol | R75: 1 | S75: 1 | T75: 401768
A76: 045 | B76: Magre' s.s.d.v. | C76: Margreid a.d. Weinstr. | D76: COOP_004 | E76: Tagesmütter | F76: Tagesmütter | G76: Via A. Nikoletti, 8 | H76: A. Nikoletti Straße, 8 | M76: 10 | N76: =IF($U$1="I",P76,Q76) -> Margreid a.d. Weinstr., A. Nikoletti Straße, 8, Tagesmütter | O76: COOP_004_37 | P76: =IF(ISBLANK(B76),"",CONCATENATE(B76,IF(ISBLANK(I76),""," - " & I76),", ", G76,", ",E76,IF(ISBLANK(K76),""," ("&K76&")"))) -> Magre' s.s.d.v., Via A. Nikoletti, 8, Tagesmütter | Q76: =IF(ISBLANK(C76),"",CONCATENATE(C76,IF(ISBLANK(J76),""," - " & J76),", ", H76,", ",F76,IF(ISBLANK(L76),""," ("&L76&")"))) -> Margreid a.d. Weinstr., A. Nikoletti Straße, 8, Tagesmütter | R76: 1 | S76: 45201 | T76: 401768
A77: 049 | B77: Martello | C77: Martell | D77: COOP_018 | E77: LoLa | F77: LoLa | G77: Maiern, 227 | H77: Maiern, 227 | N77: =IF($U$1="I",P77,Q77) -> Martell, Maiern, 227, LoLa | O77: COOP_018_01 | P77: =IF(ISBLANK(B77),"",CONCATENATE(B77,IF(ISBLANK(I77),""," - " & I77),", ", G77,", ",E77,IF(ISBLANK(K77),""," ("&K77&")"))) -> Martello, Maiern, 227, LoLa | Q77: =IF(ISBLANK(C77),"",CONCATENATE(C77,IF(ISBLANK(J77),""," - " & J77),", ", H77,", ",F77,IF(ISBLANK(L77),""," ("&L77&")"))) -> Martell, Maiern, 227, LoLa | R77: 1 | S77: 43709 | T77: 401768
A78: 051 | B78: Merano | C78: Meran | D78: COOP_008 | E78: Popele | F78: Popele | G78: Piazza Vittorio Veneto, 10 | H78: Vittorio Veneto-Platz, 10 | I78: Sinigo | J78: Sinich | M78: 20 | N78: =IF($U$1="I",P78,Q78) -> Meran - Sinich, Vittorio Veneto-Platz, 10, Popele | O78: COOP_008_02 | P78: =IF(ISBLANK(B78),"",CONCATENATE(B78,IF(ISBLANK(I78),""," - " & I78),", ", G78,", ",E78,IF(ISBLANK(K78),""," ("&K78&")"))) -> Merano - Sinigo, Piazza Vittorio Veneto, 10, Popele | Q78: =IF(ISBLANK(C78),"",CONCATENATE(C78,IF(ISBLANK(J78),""," - " & J78),", ", H78,", ",F78,IF(ISBLANK(L78),""," ("&L78&")"))) -> Meran - Sinich, Vittorio Veneto-Platz, 10, Popele | R78: 1 | S78: 1 | T78: 401768
A79: 051 | B79: Merano | C79: Meran | D79: COOP_001 | E79: Casa Bimbo | F79: Casa Bimbo | G79: Via Goethe, 15 | H79: Goethestraße, 15 | M79: 11 | N79: =IF($U$1="I",P79,Q79) -> Meran, Goethestraße, 15, Casa Bimbo | O79: COOP_001_11 | P79: =IF(ISBLANK(B79),"",CONCATENATE(B79,IF(ISBLANK(I79),""," - " & I79),", ", G79,", ",E79,IF(ISBLANK(K79),""," ("&K79&")"))) -> Merano, Via Goethe, 15, Casa Bimbo | Q79: =IF(ISBLANK(C79),"",CONCATENATE(C79,IF(ISBLANK(J79),""," - " & J79),", ", H79,", ",F79,IF(ISBLANK(L79),""," ("&L79&")"))) -> Meran, Goethestraße, 15, Casa Bimbo | R79: 1 | S79: 43454 | T79: 401768
A80: 051 | B80: Merano | C80: Meran | D80: COOP_002 | E80: Coccinella | F80: Coccinella | G80: Via Haller, 40 | H80: Hallerstraße, 40 | M80: 20 | N80: =IF($U$1="I",P80,Q80) -> Meran, Hallerstraße, 40, Coccinella | O80: COOP_002_09 | P80: =IF(ISBLANK(B80),"",CONCATENATE(B80,IF(ISBLANK(I80),""," - " & I80),", ", G80,", ",E80,IF(ISBLANK(K80),""," ("&K80&")"))) -> Merano, Via Haller, 40, Coccinella | Q80: =IF(ISBLANK(C80),"",CONCATENATE(C80,IF(ISBLANK(J80),""," - " & J80),", ", H80,", ",F80,IF(ISBLANK(L80),""," ("&L80&")"))) -> Meran, Hallerstraße, 40, Coccinella | R80: 1 | S80: 1 | T80: 401768
A81: 051 | B81: Merano | C81: Meran | D81: COOP_001 | E81: Casa Bimbo | F81: Casa Bimbo | G81: Via Marlengo, 61/A | H81: Marlingerstraße, 61/A | M81: 20 | N81: =IF($U$1="I",P81,Q81) -> Meran, Marlingerstraße, 61/A, Casa Bimbo | O81: COOP_001_12 | P81: =IF(ISBLANK(B81),"",CONCATENATE(B81,IF(ISBLANK(I81),""," - " & I81),", ", G81,", ",E81,IF(ISBLANK(K81),""," ("&K81&")"))) -> Merano, Via Marlengo, 61/A, Casa Bimbo | Q81: =IF(ISBLANK(C81),"",CONCATENATE(C81,IF(ISBLANK(J81),""," - " & J81),", ", H81,", ",F81,IF(ISBLANK(L81),""," ("&L81&")"))) -> Meran, Marlingerstraße, 61/A, Casa Bimbo | R81: 1 | S81: 1 | T81: 401768
A82: 051 | B82: Merano | C82: Meran | D82: COOP_001 | E82: Casa Bimbo | F82: Casa Bimbo | G82: Via Marlengo, 61/F | H82: Marlingerstraße, 61/F | K82: aziendale | L82: betriebliche | M82: 18 | N82: =IF($U$1="I",P82,Q82) -> Meran, Marlingerstraße, 61/F, Casa Bimbo (betriebliche) | O82: COOP_001_13 | P82: =IF(ISBLANK(B82),"",CONCATENATE(B82,IF(ISBLANK(I82),""," - " & I82),", ", G82,", ",E82,IF(ISBLANK(K82),""," ("&K82&")"))) -> Merano, Via Marlengo, 61/F, Casa Bimbo (aziendale) | Q82: =IF(ISBLANK(C82),"",CONCATENATE(C82,IF(ISBLANK(J82),""," - " & J82),", ", H82,", ",F82,IF(ISBLANK(L82),""," ("&L82&")"))) -> Meran, Marlingerstraße, 61/F, Casa Bimbo (betriebliche) | R82: 1 | S82: 1 | T82: 401768
A83: 053 | B83: Montagna | C83: Montan | D83: COOP_004 | E83: Tagesmütter | F83: Tagesmütter | G83: Via delle Scuole, 6 | H83: Schulhausstraße, 6 | I83: Fontanefredde | J83: Kaltenbrunn | M83: 10 | N83: =IF($U$1="I",P83,Q83) -> Montan - Kaltenbrunn, Schulhausstraße, 6, Tagesmütter | O83: COOP_004_31 | P83: =IF(ISBLANK(B83),"",CONCATENATE(B83,IF(ISBLANK(I83),""," - " & I83),", ", G83,", ",E83,IF(ISBLANK(K83),""," ("&K83&")"))) -> Montagna - Fontanefredde, Via delle Scuole, 6, Tagesmütter | Q83: =IF(ISBLANK(C83),"",CONCATENATE(C83,IF(ISBLANK(J83),""," - " & J83),", ", H83,", ",F83,IF(ISBLANK(L83),""," ("&L83&")"))) -> Montan - Kaltenbrunn, Schulhausstraße, 6, Tagesmütter | R83: 1 | S83: 44105 | T83: 401768
A84: 074 | B84: Rio di Pusteria | C84: Mühlbach | D84: COOP_007 | E84: Die Kinderfreunde Südtirol | F84: Die Kinderfreunde Südtirol | G84: Via Mathias Perger, 9 | H84: Mathias-Perger-Straße, 9 | M84: 13 | N84: =IF($U$1="I",P84,Q84) -> Mühlbach, Mathias-Perger-Straße, 9, Die Kinderfreunde Südtirol | O84: COOP_007_09 | P84: =IF(ISBLANK(B84),"",CONCATENATE(B84,IF(ISBLANK(I84),""," - " & I84),", ", G84,", ",E84,IF(ISBLANK(K84),""," ("&K84&")"))) -> Rio di Pusteria, Via Mathias Perger, 9, Die Kinderfreunde Südtirol | Q84: =IF(ISBLANK(C84),"",CONCATENATE(C84,IF(ISBLANK(J84),""," - " & J84),", ", H84,", ",F84,IF(ISBLANK(L84),""," ("&L84&")"))) -> Mühlbach, Mathias-Perger-Straße, 9, Die Kinderfreunde Südtirol | R84: 1 | S84: 43101 | T84: 401768
A85: 055 | B85: Nalles | C85: Nals | D85: COOP_011 | E85: S. Elisabetta | F85: St. Elisabeth | G85: Via Vilpiano, 27 | H85: Vilpianerstraße, 27 | M85: 10 | N85: =IF($U$1="I",P85,Q85) -> Nals, Vilpianerstraße, 27, St. Elisabeth | O85: COOP_011_01 | P85: =IF(ISBLANK(B85),"",CONCATENATE(B85,IF(ISBLANK(I85),""," - " & I85),", ", G85,", ",E85,IF(ISBLANK(K85),""," ("&K85&")"))) -> Nalles, Via Vilpiano, 27, S. Elisabetta | Q85: =IF(ISBLANK(C85),"",CONCATENATE(C85,IF(ISBLANK(J85),""," - " & J85),", ", H85,", ",F85,IF(ISBLANK(L85),""," ("&L85&")"))) -> Nals, Vilpianerstraße, 27, St. Elisabeth | R85: 1 | S85: 43831 | T85: 401768
A86: 056 | B86: Naturno | C86: Naturns | D86: COOP_004 | E86: Tagesmütter | F86: Tagesmütter | G86: Via Gustav Flora, 10 | H86: Gustav Flora-Straße, 10 | M86: 20 | N86: =IF($U$1="I",P86,Q86) -> Naturns, Gustav Flora-Straße, 10, Tagesmütter | O86: COOP_004_14 | P86: =IF(ISBLANK(B86),"",CONCATENATE(B86,IF(ISBLANK(I86),""," - " & I86),", ", G86,", ",E86,IF(ISBLANK(K86),""," ("&K86&")"))) -> Naturno, Via Gustav Flora, 10, Tagesmütter | Q86: =IF(ISBLANK(C86),"",CONCATENATE(C86,IF(ISBLANK(J86),""," - " & J86),", ", H86,", ",F86,IF(ISBLANK(L86),""," ("&L86&")"))) -> Naturns, Gustav Flora-Straße, 10, Tagesmütter | R86: 1 | S86: 1 | T86: 401768
A87: 056 | B87: Naturno | C87: Naturns | D87: COOP_004 | E87: Tagesmütter | F87: Tagesmütter | G87: Via dell'Industria, 11 | H87: Industriestraße, 11 | K87: aziendale | L87: betriebliche | M87: 19 | N87: =IF($U$1="I",P87,Q87) -> Naturns, Industriestraße, 11, Tagesmütter (betriebliche) | O87: COOP_004_34 | P87: =IF(ISBLANK(B87),"",CONCATENATE(B87,IF(ISBLANK(I87),""," - " & I87),", ", G87,", ",E87,IF(ISBLANK(K87),""," ("&K87&")"))) -> Naturno, Via dell'Industria, 11, Tagesmütter (aziendale) | Q87: =IF(ISBLANK(C87),"",CONCATENATE(C87,IF(ISBLANK(J87),""," - " & J87),", ", H87,", ",F87,IF(ISBLANK(L87),""," ("&L87&")"))) -> Naturns, Industriestraße, 11, Tagesmütter (betriebliche) | R87: 1 | S87: 44927 | T87: 401768
A88: 057 | B88: Naz-Sciaves | C88: Natz-Schabs | D88: COOP_002 | E88: Coccinella | F88: Coccinella | G88: Via Peter Kemenater, 9 | H88: Peter-Kemenater-Straße, 9 | M88: 20 | N88: =IF($U$1="I",P88,Q88) -> Natz-Schabs, Peter-Kemenater-Straße, 9, Coccinella | O88: COOP_002_13 | P88: =IF(ISBLANK(B88),"",CONCATENATE(B88,IF(ISBLANK(I88),""," - " & I88),", ", G88,", ",E88,IF(ISBLANK(K88),""," ("&K88&")"))) -> Naz-Sciaves, Via Peter Kemenater, 9, Coccinella | Q88: =IF(ISBLANK(C88),"",CONCATENATE(C88,IF(ISBLANK(J88),""," - " & J88),", ", H88,", ",F88,IF(ISBLANK(L88),""," ("&L88&")"))) -> Natz-Schabs, Peter-Kemenater-Straße, 9, Coccinella | R88: 1 | S88: 1 | T88: 401768
A89: 029 | B89: Egna | C89: Neumarkt | D89: COOP_001 | E89: Casa Bimbo | F89: Casa Bimbo | G89: Via Val di Fiemme, 41/1 | H89: Fleimstalerstraße, 41/1 | M89: 18 | N89: =IF($U$1="I",P89,Q89) -> Neumarkt, Fleimstalerstraße, 41/1, Casa Bimbo | O89: COOP_001_09 | P89: =IF(ISBLANK(B89),"",CONCATENATE(B89,IF(ISBLANK(I89),""," - " & I89),", ", G89,", ",E89,IF(ISBLANK(K89),""," ("&K89&")"))) -> Egna, Via Val di Fiemme, 41/1, Casa Bimbo | Q89: =IF(ISBLANK(C89),"",CONCATENATE(C89,IF(ISBLANK(J89),""," - " & J89),", ", H89,", ",F89,IF(ISBLANK(L89),""," ("&L89&")"))) -> Neumarkt, Fleimstalerstraße, 41/1, Casa Bimbo | R89: 1 | S89: 1 | T89: 401768
A90: 113 | B90: Villabassa | C90: Niederdorf | D90: COOP_007 | E90: Die Kinderfreunde Südtirol | F90: Die Kinderfreunde Südtirol | G90: Via Rienza, 41/A | H90: Rienzstraße, 41/A | M90: 12 | N90: =IF($U$1="I",P90,Q90) -> Niederdorf, Rienzstraße, 41/A, Die Kinderfreunde Südtirol | O90: COOP_007_13 | P90: =IF(ISBLANK(B90),"",CONCATENATE(B90,IF(ISBLANK(I90),""," - " & I90),", ", G90,", ",E90,IF(ISBLANK(K90),""," ("&K90&")"))) -> Villabassa, Via Rienza, 41/A, Die Kinderfreunde Südtirol | Q90: =IF(ISBLANK(C90),"",CONCATENATE(C90,IF(ISBLANK(J90),""," - " & J90),", ", H90,", ",F90,IF(ISBLANK(L90),""," ("&L90&")"))) -> Niederdorf, Rienzstraße, 41/A, Die Kinderfreunde Südtirol | R90: 1 | S90: 44319 | T90: 401768
A91: 030 | B91: Falzes | C91: Pfalzen | D91: COOP_004 | E91: Tagesmütter | F91: Tagesmütter | G91: Piazza della Chiesa, 2 | H91: Kirchplatz, 2 | N91: =IF($U$1="I",P91,Q91) -> Pfalzen, Kirchplatz, 2, Tagesmütter | O91: COOP_004_26 | P91: =IF(ISBLANK(B91),"",CONCATENATE(B91,IF(ISBLANK(I91),""," - " & I91),", ", G91,", ",E91,IF(ISBLANK(K91),""," ("&K91&")"))) -> Falzes, Piazza della Chiesa, 2, Tagesmütter | Q91: =IF(ISBLANK(C91),"",CONCATENATE(C91,IF(ISBLANK(J91),""," - " & J91),", ", H91,", ",F91,IF(ISBLANK(L91),""," ("&L91&")"))) -> Pfalzen, Kirchplatz, 2, Tagesmütter | R91: 1 | S91: 43357 | T91: 401768
A92: 105 | B92: Vadena | C92: Pfatten | D92: COOP_009 | E92: Xenia | F92: Xenia | G92: Centro, 2 | H92: Dorf, 2 | N92: =IF($U$1="I",P92,Q92) -> Pfatten, Dorf, 2, Xenia | O92: COOP_009_03 | P92: =IF(ISBLANK(B92),"",CONCATENATE(B92,IF(ISBLANK(I92),""," - " & I92),", ", G92,", ",E92,IF(ISBLANK(K92),""," ("&K92&")"))) -> Vadena, Centro, 2, Xenia | Q92: =IF(ISBLANK(C92),"",CONCATENATE(C92,IF(ISBLANK(J92),""," - " & J92),", ", H92,", ",F92,IF(ISBLANK(L92),""," ("&L92&")"))) -> Pfatten, Dorf, 2, Xenia | R92: 1 | S92: 43357 | T92: 401768
A93: 067 | B93: Prato allo Stelvio | C93: Prad am Stilfserjoch | D93: COOP_004 | E93: Tagesmütter | F93: Tagesmütter | G93: Via Nuova, 36 | H93: Reutweg, 36 | M93: 10 | N93: =IF($U$1="I",P93,Q93) -> Prad am Stilfserjoch, Reutweg, 36, Tagesmütter | O93: COOP_004_19 | P93: =IF(ISBLANK(B93),"",CONCATENATE(B93,IF(ISBLANK(I93),""," - " & I93),", ", G93,", ",E93,IF(ISBLANK(K93),""," ("&K93&")"))) -> Prato allo Stelvio, Via Nuova, 36, Tagesmütter | Q93: =IF(ISBLANK(C93),"",CONCATENATE(C93,IF(ISBLANK(J93),""," - " & J93),", ", H93,", ",F93,IF(ISBLANK(L93),""," ("&L93&")"))) -> Prad am Stilfserjoch, Reutweg, 36, Tagesmütter | R93: 1 | S93: 44440 | T93: 401768
A94: 071 | B94: Rasun-Anterselva | C94: Rasen-Antholz | D94: COOP_007 | E94: Die Kinderfreunde Südtirol | F94: Die Kinderfreunde Südtirol | G94: Via St. Andreas, 5/B | H94: St. Andreas Weg, 5/B | I94: Rasun di Sopra | J94: Oberrasen | M94: 20 | N94: =IF($U$1="I",P94,Q94) -> Rasen-Antholz - Oberrasen, St. Andreas Weg, 5/B, Die Kinderfreunde Südtirol | O94: COOP_007_14 | P94: =IF(ISBLANK(B94),"",CONCATENATE(B94,IF(ISBLANK(I94),""," - " & I94),", ", G94,", ",E94,IF(ISBLANK(K94),""," ("&K94&")"))) -> Rasun-Anterselva - Rasun di Sopra, Via St. Andreas, 5/B, Die Kinderfreunde Südtirol | Q94: =IF(ISBLANK(C94),"",CONCATENATE(C94,IF(ISBLANK(J94),""," - " & J94),", ", H94,", ",F94,IF(ISBLANK(L94),""," ("&L94&")"))) -> Rasen-Antholz - Oberrasen, St. Andreas Weg, 5/B, Die Kinderfreunde Südtirol | R94: 1 | S94: 1 | T94: 401768
A95: 070 | B95: Racines | C95: Ratschings | D95: COOP_001 | E95: Casa Bimbo | F95: Casa Bimbo | G95: Stanghe, 101 | H95: Stange, 101 | M95: 14 | N95: =IF($U$1="I",P95,Q95) -> Ratschings, Stange, 101, Casa Bimbo | O95: COOP_001_15 | P95: =IF(ISBLANK(B95),"",CONCATENATE(B95,IF(ISBLANK(I95),""," - " & I95),", ", G95,", ",E95,IF(ISBLANK(K95),""," ("&K95&")"))) -> Racines, Stanghe, 101, Casa Bimbo | Q95: =IF(ISBLANK(C95),"",CONCATENATE(C95,IF(ISBLANK(J95),""," - " & J95),", ", H95,", ",F95,IF(ISBLANK(L95),""," ("&L95&")"))) -> Ratschings, Stange, 101, Casa Bimbo | R95: 1 | S95: 1 | T95: 401768
A96: 072 | B96: Renon | C96: Ritten | D96: COOP_002 | E96: Coccinella | F96: Coccinella | G96: Via Santa Lucia, 8 | H96: St.-Luzia-Straße, 8 | I96: Auna di Sotto | J96: Unterinn | M96: 18 | N96: =IF($U$1="I",P96,Q96) -> Ritten - Unterinn, St.-Luzia-Straße, 8, Coccinella | O96: COOP_002_18 | P96: =IF(ISBLANK(B96),"",CONCATENATE(B96,IF(ISBLANK(I96),""," - " & I96),", ", G96,", ",E96,IF(ISBLANK(K96),""," ("&K96&")"))) -> Renon - Auna di Sotto, Via Santa Lucia, 8, Coccinella | Q96: =IF(ISBLANK(C96),"",CONCATENATE(C96,IF(ISBLANK(J96),""," - " & J96),", ", H96,", ",F96,IF(ISBLANK(L96),""," ("&L96&")"))) -> Ritten - Unterinn, St.-Luzia-Straße, 8, Coccinella | R96: 1 | S96: 44197 | T96: 401768
A97: 072 | B97: Renon | C97: Ritten | D97: COOP_002 | E97: Coccinella | F97: Coccinella | G97: Zona artigianale Collalbo, 13 | H97: Handwerkerzone Klobenstein, 13 | K97: aziendale | L97: betriebliche | M97: 15 | N97: =IF($U$1="I",P97,Q97) -> Ritten, Handwerkerzone Klobenstein, 13, Coccinella (betriebliche) | O97: COOP_002_16 | P97: =IF(ISBLANK(B97),"",CONCATENATE(B97,IF(ISBLANK(I97),""," - " & I97),", ", G97,", ",E97,IF(ISBLANK(K97),""," ("&K97&")"))) -> Renon, Zona artigianale Collalbo, 13, Coccinella (aziendale) | Q97: =IF(ISBLANK(C97),"",CONCATENATE(C97,IF(ISBLANK(J97),""," - " & J97),", ", H97,", ",F97,IF(ISBLANK(L97),""," ("&L97&")"))) -> Ritten, Handwerkerzone Klobenstein, 13, Coccinella (betriebliche) | R97: 1 | S97: 43709 | T97: 401768
A98: 076 | B98: Salorno | C98: Salurn | D98: COOP_009 | E98: Xenia | F98: Xenia | G98: Via Asilo, 6 | H98: Kindergartenstraße, 6 | N98: =IF($U$1="I",P98,Q98) -> Salurn, Kindergartenstraße, 6, Xenia | O98: COOP_009_04 | P98: =IF(ISBLANK(B98),"",CONCATENATE(B98,IF(ISBLANK(I98),""," - " & I98),", ", G98,", ",E98,IF(ISBLANK(K98),""," ("&K98&")"))) -> Salorno, Via Asilo, 6, Xenia | Q98: =IF(ISBLANK(C98),"",CONCATENATE(C98,IF(ISBLANK(J98),""," - " & J98),", ", H98,", ",F98,IF(ISBLANK(L98),""," ("&L98&")"))) -> Salurn, Kindergartenstraße, 6, Xenia | R98: 1 | S98: 1 | T98: 401768
A99: 017 | B99: Campo Tures | C99: Sand in Taufers | D99: COOP_004 | E99: Tagesmütter | F99: Tagesmütter | G99: Via Josef Jungmann, 6 | H99: Josef-Jungmann-Straße, 6 | M99: 20 | N99: =IF($U$1="I",P99,Q99) -> Sand in Taufers, Josef-Jungmann-Straße, 6, Tagesmütter | O99: COOP_004_06 | P99: =IF(ISBLANK(B99),"",CONCATENATE(B99,IF(ISBLANK(I99),""," - " & I99),", ", G99,", ",E99,IF(ISBLANK(K99),""," ("&K99&")"))) -> Campo Tures, Via Josef Jungmann, 6, Tagesmütter | Q99: =IF(ISBLANK(C99),"",CONCATENATE(C99,IF(ISBLANK(J99),""," - " & J99),", ", H99,", ",F99,IF(ISBLANK(L99),""," ("&L99&")"))) -> Sand in Taufers, Josef-Jungmann-Straße, 6, Tagesmütter | R99: 1 | S99: 1 | T99: 401768
A100: 086 | B100: Sarentino | C100: Sarntal | D100: COOP_004 | E100: Tagesmütter | F100: Tagesmütter | G100: Campolasta, 28 | H100: Astfeld, 28 | I100: Campolasta | J100: Astfeld | M100: 19 | N100: =IF($U$1="I",P100,Q100) -> Sarntal - Astfeld, Astfeld, 28, Tagesmütter | O100: COOP_004_35 | P100: =IF(ISBLANK(B100),"",CONCATENATE(B100,IF(ISBLANK(I100),""," - " & I100),", ", G100,", ",E100,IF(ISBLANK(K100),""," ("&K100&")"))) -> Sarentino - Campolasta, Campolasta, 28, Tagesmütter | Q100: =IF(ISBLANK(C100),"",CONCATENATE(C100,IF(ISBLANK(J100),""," - " & J100),", ", H100,", ",F100,IF(ISBLANK(L100),""," ("&L100&")"))) -> Sarntal - Astfeld, Astfeld, 28, Tagesmütter | R100: 1 | S100: 44927 | T100: 401768
...

Sheet Parameters
A1: PAR_ID | B1: PAR_VALUE
A2: MinTarOrario | B2: 0.9
A3: MaxTarOra | B3: 3.65
A7: Originale | B7: Original | C7: Originale
A8: Corretto d'ufficio | B8: Von Amts wegen | C8: Corretto d'ufficio
A10: contratto
A11: tempo determinato
A12: tempo indeterminato
