Workbook
Name dd_com_desc: OFFSET([1]LK_Comuni!$B$2,0,0,COUNTA([1]LK_Comuni!$B:$B),1)
Name dd_com_desc: OFFSET(LK_Comuni!$A$2,0,0,COUNTA(LK_Comuni!$A:$A),1)
Name dd_comAN_desc: OFFSET(LK_Comuni!$F$2,0,0,COUNTA(LK_Comuni!$F:$F),1)
Name dd_desc_approv: #REF!
Name dd_kh_BX_desc: #REF!
Name dd_kh_BZ_desc: #REF!
Name dd_kh_desc: OFFSET(#REF!,0,0,COUNTA(#REF!),1)
Name dd_kh_LV_desc: #REF!
Name dd_kh_ME_desc: #REF!
Name dd_kh_null: #REF!
Name dd_kita_desc: OFFSET(#REF!,0,0,COUNTA(#REF!),1)
Name dd_kita_desc_max: #REF!
Name dd_lst_mod: Parameters!$A$7:$A$8

Sheet Abrechnung Handicap Kita
A1: Anlage wesentlicher Bestandteil für die Auszahlung der Finanzierung des Fachpersonals für die individuelle Betreuung von Kindern mit Behinderung | F1: Der Familienagentur vorbehalten | I1: I | Z1: DomandaKH
A3: Antragsteller: | B3: Anno | F3: Fortschreitende Anzahl Gesuch | G3: Status Gesuch | I3: Com_Code
B4: 2026 | I4: =IFERROR(VLOOKUP(A4,LK_Comuni!$A:$B,2,0),"")
A7: KINDERTAGESTÄTTE | B7: Datum der Sitzung des Prüfteams | C7: effektiver Zeitraum der Betreuung des Kleinkindes | E7: Gesamtzahl effektiv erbrachte Betreuungs-stunden im genannten Zeitraum | F7: Vor- und Zuname Betreuungspersonal | G7: effektive Gesamtausgaben für das individuelle Betreuungspersonal im Jahr 2026
C8: ab Datum | D8: bis Datum | I8: Com_Code_util
A9: Gesamt | G9: =SUM(G10:G32) -> 0
I10: =IFERROR(VLOOKUP(A10,LK_Comuni!$A:$B,2,0),"")
I11: =IFERROR(VLOOKUP(A11,LK_Comuni!$A:$B,2,0),"")
I12: =IFERROR(VLOOKUP(A12,LK_Comuni!$A:$B,2,0),"")
I13: =IFERROR(VLOOKUP(A13,LK_Comuni!$A:$B,2,0),"")
I14: =IFERROR(VLOOKUP(A14,LK_Comuni!$A:$B,2,0),"")
I15: =IFERROR(VLOOKUP(A15,LK_Comuni!$A:$B,2,0),"")
I16: =IFERROR(VLOOKUP(A16,LK_Comuni!$A:$B,2,0),"")
I17: =IFERROR(VLOOKUP(A17,LK_Comuni!$A:$B,2,0),"")
I18: =IFERROR(VLOOKUP(A18,LK_Comuni!$A:$B,2,0),"")
I19: =IFERROR(VLOOKUP(A19,LK_Comuni!$A:$B,2,0),"")
I20: =IFERROR(VLOOKUP(A20,LK_Comuni!$A:$B,2,0),"")
I21: =IFERROR(VLOOKUP(A21,LK_Comuni!$A:$B,2,0),"")
... I32: =IFERROR(VLOOKUP(A32,LK_Comuni!$A:$B,2,0),"")
A34: HINWEISE ZUM AUSFÜLLEN
A35: Pro betreutes Kleinkind mit Behinderung ist eine Zeile auszufüllen, nicht ausgefüllte Felder werden als Fehler gewertet und in roter Farbe markiert.

Sheet LK_Comuni
A1: Com_Desc | B1: COM_CODE | C1: Com_Desc_D | D1: Com_Desc_I | E1: COM_DESC_BIL | F1: ComAN_Desc | G1: ComAN_CODE | H1: ComAN_Desc_D | I1: ComAN_Desc_I
A2: =IF('Abrechnung Handicap Kita'!$I$1="I",LK_Comuni!D2,LK_Comuni!C2) -> Aldino | B2: 001 | C2: Aldein | D2: Aldino | E2: Aldein / Aldino | F2: Bolzano | G2: 008 | H2: Bozen | I2: Bolzano
A3: =IF('Abrechnung Handicap Kita'!$I$1="I",LK_Comuni!D3,LK_Comuni!C3) -> Andriano | B3: 002 | C3: Andrian | D3: Andriano | E3: Andrian / Andriano | F3: Bressanone | G3: 011 | H3: Brixen | I3: Bressanone
A4: =IF('Abrechnung Handicap Kita'!$I$1="I",LK_Comuni!D4,LK_Comuni!C4) -> Anterivo | B4: 003 | C4: Altrei | D4: Anterivo | E4: Altrei / Anterivo | F4: =IF('Abrechnung Handicap Kita'!$I$1="I",LK_Comuni!I4,LK_Comuni!H4) -> Laives | G4: 040 | H4: Leifers | I4: Laives
A5: =IF('Abrechnung Handicap Kita'!$I$1="I",LK_Comuni!D5,LK_Comuni!C5) -> Appiano s.s.d.v. | B5: 004 | C5: Eppan a.d. Weinstr. | D5: Appiano s.s.d.v. | E5: Eppan a.d. Weinstr. / Appiano s.s.d.v. | F5: =IF('Abrechnung Handicap Kita'!$I$1="I",LK_Comuni!I5,LK_Comuni!H5) -> Merano | G5: 051 | H5: Meran | I5: Merano
A6: =IF('Abrechnung Handicap Kita'!$I$1="I",LK_Comuni!D6,LK_Comuni!C6) -> Avelengo | B6: 005 | C6: Hafling | D6: Avelengo | E6: Hafling / Avelengo
A7: =IF('Abrechnung Handicap Kita'!$I$1="I",LK_Comuni!D7,LK_Comuni!C7) -> Badia | B7: 006 | C7: Abtei | D7: Badia | E7: Abtei / Badia
A8: =IF('Abrechnung Handicap Kita'!$I$1="I",LK_Comuni!D8,LK_Comuni!C8) -> Barbiano | B8: 007 | C8: Barbian | D8: Barbiano | E8: Barbian / Barbiano
A9: =IF('Abrechnung Handicap Kita'!$I$1="I",LK_Comuni!D9,LK_Comuni!C9) -> Bolzano | B9: 008 | C9: Bozen | D9: Bolzano | E9: Bozen / Bolzano
A10: =IF('Abrechnung Handicap Kita'!$I$1="I",LK_Comuni!D10,LK_Comuni!C10) -> Braies | B10: 009 | C10: Prags | D10: Braies | E10: Prags / Braies
A11: =IF('Abrechnung Handicap Kita'!$I$1="I",LK_Comuni!D11,LK_Comuni!C11) -> Brennero | B11: 010 | C11: Brenner | D11: Brennero | E11: Brenner / Brennero
A12: =IF('Abrechnung Handicap Kita'!$I$1="I",LK_Comuni!D12,LK_Comuni!C12) -> Bressanone | B12: 011 | C12: Brixen | D12: Bressanone | E12: Brixen / Bressanone
A13: =IF('Abrechnung Handicap Kita'!$I$1="I",LK_Comuni!D13,LK_Comuni!C13) -> Bronzolo | B13: 012 | C13: Branzoll | D13: Bronzolo | E13: Branzoll / Bronzolo
A14: =IF('Abrechnung Handicap Kita'!$I$1="I",LK_Comuni!D14,LK_Comuni!C14) -> Brunico | B14: 013 | C14: Bruneck | D14: Brunico | E14: Bruneck / Brunico
A15: =IF('Abrechnung Handicap Kita'!$I$1="I",LK_Comuni!D15,LK_Comuni!C15) -> Caines | B15: 014 | C15: Kuens | D15: Caines | E15: Kuens / Caines
A16: =IF('Abrechnung Handicap Kita'!$I$1="I",LK_Comuni!D16,LK_Comuni!C16) -> Caldaro s.s.d.v. | B16: 015 | C16: Kaltern a.d. Weinstr. | D16: Caldaro s.s.d.v. | E16: Kaltern a.d. Weinstr. / Caldaro s.s.d.v.
A17: =IF('Abrechnung Handicap Kita'!$I$1="I",LK_Comuni!D17,LK_Comuni!C17) -> Campo di Trens | B17: 016 | C17: Freienfeld | D17: Campo di Trens | E17: Freienfeld / Campo di Trens
... A117: =IF('Abrechnung Handicap Kita'!$I$1="I",LK_Comuni!D117,LK_Comuni!C117) -> Vipiteno | B117: 115 | C117: Sterzing | D117: Vipiteno | E117: Sterzing / Vipiteno

Sheet LK_Kita
A1: KITA_COM_CODE | B1: KITA_COM_DESC_I | C1: KITA_COM_DESC_D | D1: ENTE_CODE | E1: KITA_ENTE_DESC_I | F1: KITA_ENTE_DESC_D | G1: KITA_INDIRIZZO_I | H1: KITA_INDIRIZZO_D | I1: KITA_LOCALITA_I | J1: KITA_LOCALITA_D | K1: KITA_TYPE_I | L1: KITA_TYPE_D | M1: KITA_POSTI | N1: KITA_FULL_NAME | O1: KITA_CODE | P1: KITA_FULL_NAME_I | Q1: KITA_FULL_NAME_D | R1: KITA_FLAG_ACTIVE | S1: KITA_INIZIO_VAL | T1: KITA_FINE_VAL | U1: D
A2: 006 | B2: Badia | C2: Abtei | D2: COOP_001 | E2: Casa Bimbo | F2: Casa Bimbo | G2: Via S. Linert, 14 | H2: St.-Linert-Straße, 14 | M2: 20 | N2: =IF($U$1="I",P2,Q2) -> Abtei, St.-Linert-Straße, 14, Casa Bimbo | O2: COOP_001_01 | P2: =IF(ISBLANK(B2),"",CONCATENATE(B2,IF(ISBLANK(I2),""," - " & I2),", ", G2,", ",E2,IF(ISBLANK(K2),""," ("&K2&")"))) -> Badia, Via S. Linert, 14, Casa Bimbo | Q2: =IF(ISBLANK(C2),"",CONCATENATE(C2,IF(ISBLANK(J2),""," - " & J2),", ", H2,", ",F2,IF(ISBLANK(L2),""," ("&L2&")"))) -> Abtei, St.-Linert-Straße, 14, Casa Bimbo | R2: 1 | S2: 1 | T2: 401768
A3: 108 | B3: Valle Aurina | C3: Ahrntal | D3: COOP_004 | E3: Tagesmütter | F3: Tagesmütter | G3: S. Giovanni-Ahrn, 30 | H3: St. Johann-Ahrn, 30 | M3: 10 | N3: =IF($U$1="I",P3,Q3) -> Ahrntal, St. Johann-Ahrn, 30, Tagesmütter | O3: COOP_004_22 | P3: =IF(ISBLANK(B3),"",CONCATENATE(B3,IF(ISBLANK(I3),""," - " & I3),", ", G3,", ",E3,IF(ISBLANK(K3),""," ("&K3&")"))) -> Valle Aurina, S. Giovanni-Ahrn, 30, Tagesmütter | Q3: =IF(ISBLANK(C3),"",CONCATENATE(C3,IF(ISBLANK(J3),""," - " & J3),", ", H3,", ",F3,IF(ISBLANK(L3),""," ("&L3&")"))) -> Ahrntal, St. Johann-Ahrn, 30, Tagesmütter | R3: 1 | S3: 1 | T3: 401768
A4: 001 | B4: Aldino | C4: Aldein | D4: COOP_004 | E4: Tagesmütter | F4: Tagesmütter | G4: Paese, 41/2 | H4: Dorf, 41/2 | M4: 10 | N4: =IF($U$1="I",P4,Q4) -> Aldein, Dorf, 41/2, Tagesmütter | O4: COOP_004_36 | P4: =IF(ISBLANK(B4),"",CONCATENATE(B4,IF(ISBLANK(I4),""," - " & I4),", ", G4,", ",E4,IF(ISBLANK(K4),""," ("&K4&")"))) -> Aldino, Paese, 41/2, Tagesmütter | Q4: =IF(ISBLANK(C4),"",CONCATENATE(C4,IF(ISBLANK(J4),""," - " & J4),", ", H4,", ",F4,IF(ISBLANK(L4),""," ("&L4&")"))) -> Aldein, Dorf, 41/2, Tagesmütter | R4: 1 | S4: 45145 | T4: 401768
A5: 002 | B5: Andriano | C5: Andrian | D5: COOP_013 | E5: Paideias | F5: Paideias | G5: Via del Sole, 10 | H5: Sonnenstraße, 10 | M5: 25 | N5: =IF($U$1="I",P5,Q5) -> Andrian, Sonnenstraße, 10, Paideias | O5: COOP_013_06 | P5: =IF(ISBLANK(B5),"",CONCATENATE(B5,IF(ISBLANK(I5),""," - " & I5),", ", G5,", ",E5,IF(ISBLANK(K5),""," ("&K5&")"))) -> Andriano, Via del Sole, 10, Paideias | Q5: =IF(ISBLANK(C5),"",CONCATENATE(C5,IF(ISBLANK(J5),""," - " & J5),", ", H5,", ",F5,IF(ISBLANK(L5),""," ("&L5&")"))) -> Andrian, Sonnenstraße, 10, Paideias | R5: 1 | S5: 44835 | T5: 401768
A6: 060 | B6: Ora | C6: Auer | D6: COOP_004 | E6: Tagesmütter | F6: Tagesmütter | G6: Via Nazionale, 23/A | H6: Nationalstraße, 23/A | M6: 15 | N6: =IF($U$1="I",P6,Q6) -> Auer, Nationalstraße, 23/A, Tagesmütter | O6: COOP_004_17 | P6: =IF(ISBLANK(B6),"",CONCATENATE(B6,IF(ISBLANK(I6),""," - " & I6),", ", G6,", ",E6,IF(ISBLANK(K6),""," ("&K6&")"))) -> Ora, Via Nazionale, 23/A, Tagesmütter | Q6: =IF(ISBLANK(C6),"",CONCATENATE(C6,IF(ISBLANK(J6),""," - " & J6),", ", H6,", ",F6,IF(ISBLANK(L6),""," ("&L6&")"))) -> Auer, Nationalstraße, 23/A, Tagesmütter | R6: 1 | S6: 1 | T6: 401768
A7: 007 | B7: Barbiano | C7: Barbian | D7: COOP_004 | E7: Tagesmütter | F7: Tagesmütter | G7: Paese, 13 | H7: Dorf, 13 | N7: =IF($U$1="I",P7,Q7) -> Barbian, Dorf, 13, Tagesmütter | O7: COOP_004_27 | P7: =IF(ISBLANK(B7),"",CONCATENATE(B7,IF(ISBLANK(I7),""," - " & I7),", ", G7,", ",E7,IF(ISBLANK(K7),""," ("&K7&")"))) -> Barbiano, Paese, 13, Tagesmütter | Q7: =IF(ISBLANK(C7),"",CONCATENATE(C7,IF(ISBLANK(J7),""," - " & J7),", ", H7,", ",F7,IF(ISBLANK(L7),""," ("&L7&")"))) -> Barbian, Dorf, 13, Tagesmütter | R7: 1 | S7: 43368 | T7: 401768
A8: 008 | B8: Bolzano | C8: Bozen | D8: COOP_006 | E8: Babycoop | F8: Babycoop | G8: Piazzetta Anne Frank, 17 | H8: Anne-Frank-Platz, 17 | M8: 14 | N8: =IF($U$1="I",P8,Q8) -> Bozen, Anne-Frank-Platz, 17, Babycoop | O8: COOP_006_02 | P8: =IF(ISBLANK(B8),"",CONCATENATE(B8,IF(ISBLANK(I8),""," - " & I8),", ", G8,", ",E8,IF(ISBLANK(K8),""," ("&K8&")"))) -> Bolzano, Piazzetta Anne Frank, 17, Babycoop | Q8: =IF(ISBLANK(C8),"",CONCATENATE(C8,IF(ISBLANK(J8),""," - " & J8),", ", H8,", ",F8,IF(ISBLANK(L8),""," ("&L8&")"))) -> Bozen, Anne-Frank-Platz, 17, Babycoop | R8: 1 | S8: 1 | T8: 401768
A9: 008 | B9: Bolzano | C9: Bozen | D9: COOP_002 | E9: Coccinella | F9: Coccinella | G9: Via Armando Diaz, 57 | H9: Armando Diaz Straße, 57 | K9: aziendale | L9: betriebliche | M9: 29 | N9: =IF($U$1="I",P9,Q9) -> Bozen, Armando Diaz Straße, 57, Coccinella (betriebliche) | O9: COOP_002_21 | P9: =IF(ISBLANK(B9),"",CONCATENATE(B9,IF(ISBLANK(I9),""," - " & I9),", ", G9,", ",E9,IF(ISBLANK(K9),""," ("&K9&")"))) -> Bolzano, Via Armando Diaz, 57, Coccinella (aziendale) | Q9: =IF(ISBLANK(C9),"",CONCATENATE(C9,IF(ISBLANK(J9),""," - " & J9),", ", H9,", ",F9,IF(ISBLANK(L9),""," ("&L9&")"))) -> Bozen, Armando Diaz Straße, 57, Coccinella (betriebliche) | R9: 1 | S9: 44963 | T9: 401768
A10: 008 | B10: Bolzano | C10: Bozen | D10: COOP_009 | E10: Xenia | F10: Xenia | G10: Via Buozzi,14 | H10: Buozzistraße, 14 | K10: aziendale | L10: betriebliche | N10: =IF($U$1="I",P10,Q10) -> Bozen, Buozzistraße, 14, Xenia (betriebliche) | O10: COOP_009_02 | P10: =IF(ISBLANK(B10),"",CONCATENATE(B10,IF(ISBLANK(I10),""," - " & I10),", ", G10,", ",E10,IF(ISBLANK(K10),""," ("&K10&")"))) -> Bolzano, Via Buozzi,14, Xenia (aziendale) | Q10: =IF(ISBLANK(C10),"",CONCATENATE(C10,IF(ISBLANK(J10),""," - " & J10),", ", H10,", ",F10,IF(ISBLANK(L10),""," ("&L10&")"))) -> Bozen, Buozzistraße, 14, Xenia (betriebliche) | R10: 1 | S10: 44440 | T10: 401768
A11: 008 | B11: Bolzano | C11: Bozen | D11: COOP_017 | E11: Baobab | F11: Baobab | G11: Piazza Cristo Re, 7 | H11: Christkönigsplatz, 7 | K11: aziendale | L11: betriebliche | M11: 10 | N11: =IF($U$1="I",P11,Q11) -> Bozen, Christkönigsplatz, 7, Baobab (betriebliche) | O11: COOP_017_01 | P11: =IF(ISBLANK(B11),"",CONCATENATE(B11,IF(ISBLANK(I11),""," - " & I11),", ", G11,", ",E11,IF(ISBLANK(K11),""," ("&K11&")"))) -> Bolzano, Piazza Cristo Re, 7, Baobab (aziendale) | Q11: =IF(ISBLANK(C11),"",CONCATENATE(C11,IF(ISBLANK(J11),""," - " & J11),", ", H11,", ",F11,IF(ISBLANK(L11),""," ("&L11&")"))) -> Bozen, Christkönigsplatz, 7, Baobab (betriebliche) | R11: 1 | S11: 44077 | T11: 401768
A12: 008 | B12: Bolzano | C12: Bozen | D12: COOP_001 | E12: Casa Bimbo | F12: Casa Bimbo | G12: Via Claudia Augusta, 48/B | H12: Claudia-Augusta-Straße, 48/B | M12: 18 | N12: =IF($U$1="I",P12,Q12) -> Bozen, Claudia-Augusta-Straße, 48/B, Casa Bimbo | O12: COOP_001_02 | P12: =IF(ISBLANK(B12),"",CONCATENATE(B12,IF(ISBLANK(I12),""," - " & I12),", ", G12,", ",E12,IF(ISBLANK(K12),""," ("&K12&")"))) -> Bolzano, Via Claudia Augusta, 48/B, Casa Bimbo | Q12: =IF(ISBLANK(C12),"",CONCATENATE(C12,IF(ISBLANK(J12),""," - " & J12),", ", H12,", ",F12,IF(ISBLANK(L12),""," ("&L12&")"))) -> Bozen, Claudia-Augusta-Straße, 48/B, Casa Bimbo | R12: 1 | S12: 1 | T12: 401768
A13: 008 | B13: Bolzano | C13: Bozen | D13: COOP_001 | E13: Casa Bimbo | F13: Casa Bimbo | G13: Via Claudia Augusta, 66/68 | H13: Claudia-Augusta-Straße, 66/68 | M13: 18 | N13: =IF($U$1="I",P13,Q13) -> Bozen, Claudia-Augusta-Straße, 66/68, Casa Bimbo | O13: COOP_001_03 | P13: =IF(ISBLANK(B13),"",CONCATENATE(B13,IF(ISBLANK(I13),""," - " & I13),", ", G13,", ",E13,IF(ISBLANK(K13),""," ("&K13&")"))) -> Bolzano, Via Claudia Augusta, 66/68, Casa Bimbo | Q13: =IF(ISBLANK(C13),"",CONCATENATE(C13,IF(ISBLANK(J13),""," - " & J13),", ", H13,", ",F13,IF(ISBLANK(L13),""," ("&L13&")"))) -> Bozen, Claudia-Augusta-Straße, 66/68, Casa Bimbo | R13: 1 | S13: 1 | T13: 401768
A14: 008 | B14: Bolzano | C14: Bozen | D14: COOP_001 | E14: Casa Bimbo | F14: Casa Bimbo | G14: Via Crispi, 40 | H14: Crispistraße, 40 | K14: aziendale | L14: betriebliche | M14: 17 | N14: =IF($U$1="I",P14,Q14) -> Bozen, Crispistraße, 40, Casa Bimbo (betriebliche) | O14: COOP_001_04 | P14: =IF(ISBLANK(B14),"",CONCATENATE(B14,IF(ISBLANK(I14),""," - " & I14),", ", G14,", ",E14,IF(ISBLANK(K14),""," ("&K14&")"))) -> Bolzano, Via Crispi, 40, Casa Bimbo (aziendale) | Q14: =IF(ISBLANK(C14),"",CONCATENATE(C14,IF(ISBLANK(J14),""," - " & J14),", ", H14,", ",F14,IF(ISBLANK(L14),""," ("&L14&")"))) -> Bozen, Crispistraße, 40, Casa Bimbo (betriebliche) | R14: 1 | S14: 1 | T14: 401768
A15: 008 | B15: Bolzano | C15: Bozen | D15: COOP_006 | E15: Babycoop | F15: Babycoop | G15: Piazza Don Bosco, 13 | H15: Don-Bosco-Platz, 13 | M15: 20 | N15: =IF($U$1="I",P15,Q15) -> Bozen, Don-Bosco-Platz, 13, Babycoop | O15: COOP_006_01 | P15: =IF(ISBLANK(B15),"",CONCATENATE(B15,IF(ISBLANK(I15),""," - " & I15),", ", G15,", ",E15,IF(ISBLANK(K15),""," ("&K15&")"))) -> Bolzano, Piazza Don Bosco, 13, Babycoop | Q15: =IF(ISBLANK(C15),"",CONCATENATE(C15,IF(ISBLANK(J15),""," - " & J15),", ", H15,", ",F15,IF(ISBLANK(L15),""," ("&L15&")"))) -> Bozen, Don-Bosco-Platz, 13, Babycoop | R15: 1 | S15: 1 | T15: 401768
A16: 008 | B16: Bolzano | C16: Bozen | D16: COOP_005 | E16: Primi Passi | F16: Primi Passi | G16: Via Druso, 339/E | H16: Drususstraße, 339/E | K16: aziendale | L16: betriebliche | M16: 14 | N16: =IF($U$1="I",P16,Q16) -> Bozen, Drususstraße, 339/E, Primi Passi (betriebliche) | O16: COOP_005_01 | P16: =IF(ISBLANK(B16),"",CONCATENATE(B16,IF(ISBLANK(I16),""," - " & I16),", ", G16,", ",E16,IF(ISBLANK(K16),""," ("&K16&")"))) -> Bolzano, Via Druso, 339/E, Primi Passi (aziendale) | Q16: =IF(ISBLANK(C16),"",CONCATENATE(C16,IF(ISBLANK(J16),""," - " & J16),", ", H16,", ",F16,IF(ISBLANK(L16),""," ("&L16&")"))) -> Bozen, Drususstraße, 339/E, Primi Passi (betriebliche) | R16: 1 | S16: 1 | T16: 401768
A17: 008 | B17: Bolzano | C17: Bozen | D17: COOP_006 | E17: Babycoop | F17: Babycoop | G17: Viale Europa, 43 | H17: Europaallee, 43 | M17: 20 | N17: =IF($U$1="I",P17,Q17) -> Bozen, Europaallee, 43, Babycoop | O17: COOP_006_05 | P17: =IF(ISBLANK(B17),"",CONCATENATE(B17,IF(ISBLANK(I17),""," - " & I17),", ", G17,", ",E17,IF(ISBLANK(K17),""," ("&K17&")"))) -> Bolzano, Viale Europa, 43, Babycoop | Q17: =IF(ISBLANK(C17),"",CONCATENATE(C17,IF(ISBLANK(J17),""," - " & J17),", ", H17,", ",F17,IF(ISBLANK(L17),""," ("&L17&")"))) -> Bozen, Europaallee, 43, Babycoop | R17: 1 | S17: 1 | T17: 401768
A18: 008 | B18: Bolzano | C18: Bozen | D18: COOP_002 | E18: Coccinella | F18: Coccinella | G18: Via Combattenti, 4 | H18: Frontkämpferstraße, 4 | M18: 17 | N18: =IF($U$1="I",P18,Q18) -> Bozen, Frontkämpferstraße, 4, Coccinella | O18: COOP_002_11 | P18: =IF(ISBLANK(B18),"",CONCATENATE(B18,IF(ISBLANK(I18),""," - " & I18),", ", G18,", ",E18,IF(ISBLANK(K18),""," ("&K18&")"))) -> Bolzano, Via Combattenti, 4, Coccinella | Q18: =IF(ISBLANK(C18),"",CONCATENATE(C18,IF(ISBLANK(J18),""," - " & J18),", ", H18,", ",F18,IF(ISBLANK(L18),""," ("&L18&")"))) -> Bozen, Frontkämpferstraße, 4, Coccinella | R18: 1 | S18: 44950 | T18: 401768
A19: 008 | B19: Bolzano | C19: Bozen | D19: COOP_001 | E19: Casa Bimbo | F19: Casa Bimbo | G19: Via Galilei, 2/C | H19: G.-Galilei-Straße, 2/C | K19: aziendale | L19: betriebliche | M19: 20 | N19: =IF($U$1="I",P19,Q19) -> Bozen, G.-Galilei-Straße, 2/C, Casa Bimbo (betriebliche) | O19: COOP_001_05 | P19: =IF(ISBLANK(B19),"",CONCATENATE(B19,IF(ISBLANK(I19),""," - " & I19),", ", G19,", ",E19,IF(ISBLANK(K19),""," ("&K19&")"))) -> Bolzano, Via Galilei, 2/C, Casa Bimbo (aziendale) | Q19: =IF(ISBLANK(C19),"",CONCATENATE(C19,IF(ISBLANK(J19),""," - " & J19),", ", H19,", ",F19,IF(ISBLANK(L19),""," ("&L19&")"))) -> Bozen, G.-Galilei-Straße, 2/C, Casa Bimbo (betriebliche) | R19: 1 | S19: 44927 | T19: 401768
A20: 008 | B20: Bolzano | C20: Bozen | D20: COOP_014 | E20: Montessori | F20: Montessori | G20: Via Cologna, 1 | H20: Glaningerweg, 1 | K20: aziendale | L20: betriebliche | M20: 20 | N20: =IF($U$1="I",P20,Q20) -> Bozen, Glaningerweg, 1, Montessori (betriebliche) | O20: COOP_014_01 | P20: =IF(ISBLANK(B20),"",CONCATENATE(B20,IF(ISBLANK(I20),""," - " & I20),", ", G20,", ",E20,IF(ISBLANK(K20),""," ("&K20&")"))) -> Bolzano, Via Cologna, 1, Montessori (aziendale) | Q20: =IF(ISBLANK(C20),"",CONCATENATE(C20,IF(ISBLANK(J20),""," - " & J20),", ", H20,", ",F20,IF(ISBLANK(L20),""," ("&L20&")"))) -> Bozen, Glaningerweg, 1, Montessori (betriebliche) | R20: 1 | S20: 1 | T20: 401768
A21: 008 | B21: Bolzano | C21: Bozen | D21: COOP_004 | E21: Tagesmütter | F21: Tagesmütter | G21: Via Goethe, 34/a | H21: Goethestraße, 34/a | K21: aziendale | L21: betriebliche | M21: 20 | N21: =IF($U$1="I",P21,Q21) -> Bozen, Goethestraße, 34/a, Tagesmütter (betriebliche) | O21: COOP_004_33 | P21: =IF(ISBLANK(B21),"",CONCATENATE(B21,IF(ISBLANK(I21),""," - " & I21),", ", G21,", ",E21,IF(ISBLANK(K21),""," ("&K21&")"))) -> Bolzano, Via Goethe, 34/a, Tagesmütter (aziendale) | Q21: =IF(ISBLANK(C21),"",CONCATENATE(C21,IF(ISBLANK(J21),""," - " & J21),", ", H21,", ",F21,IF(ISBLANK(L21),""," ("&L21&")"))) -> Bozen, Goethestraße, 34/a, Tagesmütter (betriebliche) | R21: 1 | S21: 44851 | T21: 401768
A22: 008 | B22: Bolzano | C22: Bozen | D22: COOP_006 | E22: Babycoop | F22: Babycoop | G22: Via Michael Gaismair, 18 | H22: Michael-Gaismair-Straße, 18 | M22: 15 | N22: =IF($U$1="I",P22,Q22) -> Bozen, Michael-Gaismair-Straße, 18, Babycoop | O22: COOP_006_06 | P22: =IF(ISBLANK(B22),"",CONCATENATE(B22,IF(ISBLANK(I22),""," - " & I22),", ", G22,", ",E22,IF(ISBLANK(K22),""," ("&K22&")"))) -> Bolzano, Via Michael Gaismair, 18, Babycoop | Q22: =IF(ISBLANK(C22),"",CONCATENATE(C22,IF(ISBLANK(J22),""," - " & J22),", ", H22,", ",F22,IF(ISBLANK(L22),""," ("&L22&")"))) -> Bozen, Michael-Gaismair-Straße, 18, Babycoop | R22: 1 | S22: 1 | T22: 401768
A23: 008 | B23: Bolzano | C23: Bozen | D23: COOP_002 | E23: Coccinella | F23: Coccinella | G23: Lungo Talvera S. Quirino, 10 | H23: Quireiner Wassermauer, 10 | M23: 20 | N23: =IF($U$1="I",P23,Q23) -> Bozen, Quireiner Wassermauer, 10, Coccinella | O23: COOP_002_01 | P23: =IF(ISBLANK(B23),"",CONCATENATE(B23,IF(ISBLANK(I23),""," - " & I23),", ", G23,", ",E23,IF(ISBLANK(K23),""," ("&K23&")"))) -> Bolzano, Lungo Talvera S. Quirino, 10, Coccinella | Q23: =IF(ISBLANK(C23),"",CONCATENATE(C23,IF(ISBLANK(J23),""," - " & J23),", ", H23,", ",F23,IF(ISBLANK(L23),""," ("&L23&")"))) -> Bozen, Quireiner Wassermauer, 10, Coccinella | R23: 1 | S23: 1 | T23: 401768
A24: 008 | B24: Bolzano | C24: Bozen | D24: COOP_002 | E24: Coccinella | F24: Coccinella | G24: Lungo Talvera S. Quirino, 10 | H24: Quireiner Wassermauer, 10 | K24: aziendale | L24: betriebliche | M24: 13 | N24: =IF($U$1="I",P24,Q24) -> Bozen, Quireiner Wassermauer, 10, Coccinella (betriebliche) | O24: COOP_002_02 | P24: =IF(ISBLANK(B24),"",CONCATENATE(B24,IF(ISBLANK(I24),""," - " & I24),", ", G24,", ",E24,IF(ISBLANK(K24),""," ("&K24&")"))) -> Bolzano, Lungo Talvera S. Quirino, 10, Coccinella (aziendale) | Q24: =IF(ISBLANK(C24),"",CONCATENATE(C24,IF(ISBLANK(J24),""," - " & J24),", ", H24,", ",F24,IF(ISBLANK(L24),""," ("&L24&")"))) -> Bozen, Quireiner Wassermauer, 10, Coccinella (betriebliche) | R24: 1 | S24: 1 | T24: 401768
A25: 008 | B25: Bolzano | C25: Bozen | D25: COOP_006 | E25: Babycoop | F25: Babycoop | G25: Via Rosmini, 44 | H25: Rosministraße, 44 | M25: 15 | N25: =IF($U$1="I",P25,Q25) -> Bozen, Rosministraße, 44, Babycoop | O25: COOP_006_04 | P25: =IF(ISBLANK(B25),"",CONCATENATE(B25,IF(ISBLANK(I25),""," - " & I25),", ", G25,", ",E25,IF(ISBLANK(K25),""," ("&K25&")"))) -> Bolzano, Via Rosmini, 44, Babycoop | Q25: =IF(ISBLANK(C25),"",CONCATENATE(C25,IF(ISBLANK(J25),""," - " & J25),", ", H25,", ",F25,IF(ISBLANK(L25),""," ("&L25&")"))) -> Bozen, Rosministraße, 44, Babycoop | R25: 1 | S25: 1 | T25: 401768
A26: 008 | B26: Bolzano | C26: Bozen | D26: COOP_002 | E26: Coccinella | F26: Coccinella | G26: Via Macello, 55 | H26: Schlachthofstraße, 55 | K26: aziendale | L26: betriebliche | M26: 20 | N26: =IF($U$1="I",P26,Q26) -> Bozen, Schlachthofstraße, 55, Coccinella (betriebliche) | O26: COOP_002_26 | P26: =IF(ISBLANK(B26),"",CONCATENATE(B26,IF(ISBLANK(I26),""," - " & I26),", ", G26,", ",E26,IF(ISBLANK(K26),""," ("&K26&")"))) -> Bolzano, Via Macello, 55, Coccinella (aziendale) | Q26: =IF(ISBLANK(C26),"",CONCATENATE(C26,IF(ISBLANK(J26),""," - " & J26),", ", H26,", ",F26,IF(ISBLANK(L26),""," ("&L26&")"))) -> Bozen, Schlachthofstraße, 55, Coccinella (betriebliche) | R26: 1 | S26: 45292 | T26: 401768
A27: 008 | B27: Bolzano | C27: Bozen | D27: COOP_004 | E27: Tagesmütter | F27: Tagesmütter | G27: Via Macello, 55 | H27: Schlachthofstraße, 55 | K27: aziendale | L27: betriebliche | M27: 20 | N27: =IF($U$1="I",P27,Q27) -> Bozen, Schlachthofstraße, 55, Tagesmütter (betriebliche) | O27: COOP_004_03 | P27: =IF(ISBLANK(B27),"",CONCATENATE(B27,IF(ISBLANK(I27),""," - " & I27),", ", G27,", ",E27,IF(ISBLANK(K27),""," ("&K27&")"))) -> Bolzano, Via Macello, 55, Tagesmütter (aziendale) | Q27: =IF(ISBLANK(C27),"",CONCATENATE(C27,IF(ISBLANK(J27),""," - " & J27),", ", H27,", ",F27,IF(ISBLANK(L27),""," ("&L27&")"))) -> Bozen, Schlachthofstraße, 55, Tagesmütter (betriebliche) | R27: 1 | S27: 1 | T27: 45291
A28: 008 | B28: Bolzano | C28: Bozen | D28: COOP_001 | E28: Casa Bimbo | F28: Casa Bimbo | G28: Via Volta, 11 (NOI TechPark) | H28: Voltastraße, 11 (NOI TechPark) | K28: aziendale | L28: betriebliche | M28: 30 | N28: =IF($U$1="I",P28,Q28) -> Bozen, Voltastraße, 11 (NOI TechPark), Casa Bimbo (betriebliche) | O28: COOP_001_25 | P28: =IF(ISBLANK(B28),"",CONCATENATE(B28,IF(ISBLANK(I28),""," - " & I28),", ", G28,", ",E28,IF(ISBLANK(K28),""," ("&K28&")"))) -> Bolzano, Via Volta, 11 (NOI TechPark), Casa Bimbo (aziendale) | Q28: =IF(ISBLANK(C28),"",CONCATENATE(C28,IF(ISBLANK(J28),""," - " & J28),", ", H28,", ",F28,IF(ISBLANK(L28),""," ("&L28&")"))) -> Bozen, Voltastraße, 11 (NOI TechPark), Casa Bimbo (betriebliche) | R28: 1 | S28: 43709 | T28: 401768
A29: 008 | B29: Bolzano | C29: Bozen | D29: COOP_004 | E29: Tagesmütter | F29: Tagesmütter | G29: Via Waltraud Gebert Deeg, 4 | H29: Waltraud-Gebert-Deeg-Straße, 4 | K29: aziendale | L29: betriebliche | M29: 15 | N29: =IF($U$1="I",P29,Q29) -> Bozen, Waltraud-Gebert-Deeg-Straße, 4, Tagesmütter (betriebliche) | O29: COOP_004_04 | P29: =IF(ISBLANK(B29),"",CONCATENATE(B29,IF(ISBLANK(I29),""," - " & I29),", ", G29,", ",E29,IF(ISBLANK(K29),""," ("&K29&")"))) -> Bolzano, Via Waltraud Gebert Deeg, 4, Tagesmütter (aziendale) | Q29: =IF(ISBLANK(C29),"",CONCATENATE(C29,IF(ISBLANK(J29),""," - " & J29),", ", H29,", ",F29,IF(ISBLANK(L29),""," ("&L29&")"))) -> Bozen, Waltraud-Gebert-Deeg-Straße, 4, Tagesmütter (betriebliche) | R29: 1 | S29: 1 | T29: 401768
A30: 008 | B30: Bolzano | C30: Bozen | D30: COOP_001 | E30: Casa Bimbo | F30: Casa Bimbo | G30: Via Vanga, 85 | H30: Wangergasse, 85 | M30: 18 | N30: =IF($U$1="I",P30,Q30) -> Bozen, Wangergasse, 85, Casa Bimbo | O30: COOP_001_21 | P30: =IF(ISBLANK(B30),"",CONCATENATE(B30,IF(ISBLANK(I30),""," - " & I30),", ", G30,", ",E30,IF(ISBLANK(K30),""," ("&K30&")"))) -> Bolzano, Via Vanga, 85, Casa Bimbo | Q30: =IF(ISBLANK(C30),"",CONCATENATE(C30,IF(ISBLANK(J30),""," - " & J30),", ", H30,", ",F30,IF(ISBLANK(L30),""," ("&L30&")"))) -> Bozen, Wangergasse, 85, Casa Bimbo | R30: 1 | S30: 1 | T30: 401768
A31: 012 | B31: Bronzolo | C31: Branzoll | D31: COOP_001 | E31: Casa Bimbo | F31: Casa Bimbo | G31: Via Aquila Nera, 18/A | H31: Schwarz-Adler-Straße, 18/A | M31: 16 | N31: =IF($U$1="I",P31,Q31) -> Branzoll, Schwarz-Adler-Straße, 18/A, Casa Bimbo | O31: COOP_001_07 | P31: =IF(ISBLANK(B31),"",CONCATENATE(B31,IF(ISBLANK(I31),""," - " & I31),", ", G31,", ",E31,IF(ISBLANK(K31),""," ("&K31&")"))) -> Bronzolo, Via Aquila Nera, 18/A, Casa Bimbo | Q31: =IF(ISBLANK(C31),"",CONCATENATE(C31,IF(ISBLANK(J31),""," - " & J31),", ", H31,", ",F31,IF(ISBLANK(L31),""," ("&L31&")"))) -> Branzoll, Schwarz-Adler-Straße, 18/A, Casa Bimbo | R31: 1 | S31: 1 | T31: 401768
A32: 011 | B32: Bressanone | C32: Brixen | D32: COOP_002 | E32: Coccinella | F32: Coccinella | G32: Via Vintler, 5 | H32: Vintlerweg, 5 | I32: Millan | J32: Milland | M32: 20 | N32: =IF($U$1="I",P32,Q32) -> Brixen - Milland, Vintlerweg, 5, Coccinella | O32: COOP_002_06 | P32: =IF(ISBLANK(B32),"",CONCATENATE(B32,IF(ISBLANK(I32),""," - " & I32),", ", G32,", ",E32,IF(ISBLANK(K32),""," ("&K32&")"))) -> Bressanone - Millan, Via Vintler, 5, Coccinella | Q32: =IF(ISBLANK(C32),"",CONCATENATE(C32,IF(ISBLANK(J32),""," - " & J32),", ", H32,", ",F32,IF(ISBLANK(L32),""," ("&L32&")"))) -> Brixen - Milland, Vintlerweg, 5, Coccinella | R32: 1 | S32: 44425 | T32: 45030
A33: 011 | B33: Bressanone | C33: Brixen | D33: COOP_002 | E33: Coccinella | F33: Coccinella | G33: Via Stazione, 29 | H33: Bahnhofstraße, 29 | M33: 10 | N33: =IF($U$1="I",P33,Q33) -> Brixen, Bahnhofstraße, 29, Coccinella | O33: COOP_002_07 | P33: =IF(ISBLANK(B33),"",CONCATENATE(B33,IF(ISBLANK(I33),""," - " & I33),", ", G33,", ",E33,IF(ISBLANK(K33),""," ("&K33&")"))) -> Bressanone, Via Stazione, 29, Coccinella | Q33: =IF(ISBLANK(C33),"",CONCATENATE(C33,IF(ISBLANK(J33),""," - " & J33),", ", H33,", ",F33,IF(ISBLANK(L33),""," ("&L33&")"))) -> Brixen, Bahnhofstraße, 29, Coccinella | R33: 1 | S33: 43101 | T33: 45032
A34: 011 | B34: Bressanone | C34: Brixen | D34: COOP_002 | E34: Coccinella | F34: Coccinella | G34: Via Stazione, 29 | H34: Bahnhofstraße, 29 | K34: aziendale | L34: betriebliche | M34: 10 | N34: =IF($U$1="I",P34,Q34) -> Brixen, Bahnhofstraße, 29, Coccinella (betriebliche) | O34: COOP_002_25 | P34: =IF(ISBLANK(B34),"",CONCATENATE(B34,IF(ISBLANK(I34),""," - " & I34),", ", G34,", ",E34,IF(ISBLANK(K34),""," ("&K34&")"))) -> Bressanone, Via Stazione, 29, Coccinella (aziendale) | Q34: =IF(ISBLANK(C34),"",CONCATENATE(C34,IF(ISBLANK(J34),""," - " & J34),", ", H34,", ",F34,IF(ISBLANK(L34),""," ("&L34&")"))) -> Brixen, Bahnhofstraße, 29, Coccinella (betriebliche) | R34: 1 | S34: 45033 | T34: 401768
A35: 011 | B35: Bressanone | C35: Brixen | D35: COOP_002 | E35: Coccinella | F35: Coccinella | G35: Via Brennero, 13 | H35: Brennerstraße, 13 | M35: 24 | N35: =IF($U$1="I",P35,Q35) -> Brixen, Brennerstraße, 13, Coccinella | O35: COOP_002_23 | P35: =IF(ISBLANK(B35),"",CONCATENATE(B35,IF(ISBLANK(I35),""," - " & I35),", ", G35,", ",E35,IF(ISBLANK(K35),""," ("&K35&")"))) -> Bressanone, Via Brennero, 13, Coccinella | Q35: =IF(ISBLANK(C35),"",CONCATENATE(C35,IF(ISBLANK(J35),""," - " & J35),", ", H35,", ",F35,IF(ISBLANK(L35),""," ("&L35&")"))) -> Brixen, Brennerstraße, 13, Coccinella | R35: 1 | S35: 45033 | T35: 401768
A36: 011 | B36: Bressanone | C36: Brixen | D36: COOP_002 | E36: Coccinella | F36: Coccinella | G36: Via Brennero, 13 | H36: Brennerstraße, 13 | K36: aziendale | L36: betriebliche | M36: 24 | N36: =IF($U$1="I",P36,Q36) -> Brixen, Brennerstraße, 13, Coccinella (betriebliche) | O36: COOP_002_24 | P36: =IF(ISBLANK(B36),"",CONCATENATE(B36,IF(ISBLANK(I36),""," - " & I36),", ", G36,", ",E36,IF(ISBLANK(K36),""," ("&K36&")"))) -> Bressanone, Via Brennero, 13, Coccinella (aziendale) | Q36: =IF(ISBLANK(C36),"",CONCATENATE(C36,IF(ISBLANK(J36),""," - " & J36),", ", H36,", ",F36,IF(ISBLANK(L36),""," ("&L36&")"))) -> Brixen, Brennerstraße, 13, Coccinella (betriebliche) | R36: 1 | S36: 45033 | T36: 401768
A37: 011 | B37: Bressanone | C37: Brixen | D37: COOP_002 | E37: Coccinella | F37: Coccinella | G37: S. Andrea, 26 | H37: St. Andrä, 26 | K37: aziendale | L37: betriebliche | M37: 20 | N37: =IF($U$1="I",P37,Q37) -> Brixen, St. Andrä, 26, Coccinella (betriebliche) | O37: COOP_002_22 | P37: =IF(ISBLANK(B37),"",CONCATENATE(B37,IF(ISBLANK(I37),""," - " & I37),", ", G37,", ",E37,IF(ISBLANK(K37),""," ("&K37&")"))) -> Bressanone, S. Andrea, 26, Coccinella (aziendale) | Q37: =IF(ISBLANK(C37),"",CONCATENATE(C37,IF(ISBLANK(J37),""," - " & J37),", ", H37,", ",F37,IF(ISBLANK(L37),""," ("&L37&")"))) -> Brixen, St. Andrä, 26, Coccinella (betriebliche) | R37: 1 | S37: 44998 | T37: 401768
A38: 013 | B38: Brunico | C38: Bruneck | D38: COOP_007 | E38: Die Kinderfreunde Südtirol | F38: Die Kinderfreunde Südtirol | G38: Via H.T. Niederbacher, 4 | H38: H. T. Niederbacher-Straße, 4 | I38: Riscone | J38: Reischach | M38: 10 | N38: =IF($U$1="I",P38,Q38) -> Bruneck - Reischach, H. T. Niederbacher-Straße, 4, Die Kinderfreunde Südtirol | O38: COOP_007_03 | P38: =IF(ISBLANK(B38),"",CONCATENATE(B38,IF(ISBLANK(I38),""," - " & I38),", ", G38,", ",E38,IF(ISBLANK(K38),""," ("&K38&")"))) -> Brunico - Riscone, Via H.T. Niederbacher, 4, Die Kinderfreunde Südtirol | Q38: =IF(ISBLANK(C38),"",CONCATENATE(C38,IF(ISBLANK(J38),""," - " & J38),", ", H38,", ",F38,IF(ISBLANK(L38),""," ("&L38&")"))) -> Bruneck - Reischach, H. T. Niederbacher-Straße, 4, Die Kinderfreunde Südtirol | R38: 1 | S38: 1 | T38: 401768
A39: 013 | B39: Brunico | C39: Bruneck | D39: COOP_007 | E39: Die Kinderfreunde Südtirol | F39: Die Kinderfreunde Südtirol | G39: Via Gremsen, 24 | H39: Gremsenstraße, 24 | I39: S. Giorgio | J39: St. Georgen | M39: 20 | N39: =IF($U$1="I",P39,Q39) -> Bruneck - St. Georgen, Gremsenstraße, 24, Die Kinderfreunde Südtirol | O39: COOP_007_15 | P39: =IF(ISBLANK(B39),"",CONCATENATE(B39,IF(ISBLANK(I39),""," - " & I39),", ", G39,", ",E39,IF(ISBLANK(K39),""," ("&K39&")"))) -> Brunico - S. Giorgio , Via Gremsen, 24, Die Kinderfreunde Südtirol | Q39: =IF(ISBLANK(C39),"",CONCATENATE(C39,IF(ISBLANK(J39),""," - " & J39),", ", H39,", ",F39,IF(ISBLANK(L39),""," ("&L39&")"))) -> Bruneck - St. Georgen, Gremsenstraße, 24, Die Kinderfreunde Südtirol | R39: 1 | S39: 1 | T39: 401768
A40: 013 | B40: Brunico | C40: Bruneck | D40: COOP_007 | E40: Die Kinderfreunde Südtirol | F40: Die Kinderfreunde Südtirol | G40: Via Bruder Willram, 4 | H40: B.-Willram-Strasse, 4 | M40: 20 | N40: =IF($U$1="I",P40,Q40) -> Bruneck, B.-Willram-Strasse, 4, Die Kinderfreunde Südtirol | O40: COOP_007_01 | P40: =IF(ISBLANK(B40),"",CONCATENATE(B40,IF(ISBLANK(I40),""," - " & I40),", ", G40,", ",E40,IF(ISBLANK(K40),""," ("&K40&")"))) -> Brunico, Via Bruder Willram, 4, Die Kinderfreunde Südtirol | Q40: =IF(ISBLANK(C40),"",CONCATENATE(C40,IF(ISBLANK(J40),""," - " & J40),", ", H40,", ",F40,IF(ISBLANK(L40),""," ("&L40&")"))) -> Bruneck, B.-Willram-Strasse, 4, Die Kinderfreunde Südtirol | R40: 1 | S40: 1 | T40: 401768
...

Sheet Parameters
A1: PAR_ID | B1: PAR_VALUE
A2: MinTarOrario | B2: 0.9
A3: MaxTarOra | B3: 3.65
A7: Originale | B7: Original | C7: Originale
A8: Corretto d'ufficio | B8: Von Amts wegen | C8: Corretto d'ufficio
A10: contratto
A11: tempo determinato
A12: tempo indeterminato
