Workbook
Name dd_com_desc: OFFSET(LK_Comuni!$A$2,0,0,COUNTA(LK_Comuni!$A:$A),1)
Name dd_com_desc: OFFSET([1]LK_Comuni!$A$2,0,0,COUNTA([1]LK_Comuni!$A:$A),1)
Name dd_com_desc: OFFSET(#REF!,0,0,COUNTA(#REF!),1)
Name dd_com_desc: OFFSET(#REF!,0,0,COUNTA(#REF!),1)
Name dd_comAN_desc: OFFSET(LK_Comuni!$F$2,0,0,COUNTA(LK_Comuni!$F:$F),1)
Name dd_comAN_desc: OFFSET([1]LK_Comuni!$F$2,0,0,COUNTA([1]LK_Comuni!$F:$F),1)
Name dd_comAN_desc: OFFSET(#REF!,0,0,COUNTA(#REF!),1)
Name dd_comAN_desc: OFFSET(#REF!,0,0,COUNTA(#REF!),1)
Name dd_kh_BX_desc: [1]LK_Kinderhorte!$L$14
Name dd_kh_BX_desc: LK_Kinderhorte!$L$14
Name dd_kh_BX_desc: #REF!
Name dd_kh_BX_desc: #REF!
Name dd_kh_BZ_desc: [1]LK_Kinderhorte!$L$2:$L$11
Name dd_kh_BZ_desc: LK_Kinderhorte!$L$2:$L$11
Name dd_kh_BZ_desc: #REF!
Name dd_kh_BZ_desc: #REF!
Name dd_kh_desc: OFFSET([1]LK_Kinderhorte!$L$2,0,0,COUNTA([1]LK_Kinderhorte!$L:$L),1)
Name dd_kh_desc: OFFSET(LK_Kinderhorte!$L$2,0,0,COUNTA(LK_Kinderhorte!$L:$L),1)
Name dd_kh_desc: OFFSET(#REF!,0,0,COUNTA(#REF!),1)
Name dd_kh_desc: OFFSET(#REF!,0,0,COUNTA(#REF!),1)
Name dd_kh_LV_desc: [1]LK_Kinderhorte!$L$15
Name dd_kh_LV_desc: LK_Kinderhorte!$L$15
Name dd_kh_LV_desc: #REF!
Name dd_kh_LV_desc: #REF!
Name dd_kh_ME_desc: [1]LK_Kinderhorte!$L$12:$L$13
Name dd_kh_ME_desc: LK_Kinderhorte!$L$12:$L$13
Name dd_kh_ME_desc: #REF!
Name dd_kh_ME_desc: #REF!
Name dd_kh_null: [1]LK_Kinderhorte!$L$99
Name dd_kh_null: LK_Kinderhorte!$L$99
Name dd_kh_null: #REF!
Name dd_kh_null: #REF!
Name dd_lst_mod: [1]Parameters!$A$7:$A$8
Name dd_lst_mod: [1]Parameters!$A$7:$A$8
Name dd_lst_mod: #REF!

Sheet Spesen_Einnahmen
A1: Anlage 2_ Kinderhort | J1: V2 | Z1: Domanda_Allegato2
A3: Gemeinde: | B3: Jahr | J3: Com_Code
B4: 2026 | J4: =IFERROR(VLOOKUP(A4,LK_Comuni!F$1:G$5,2,0),"")
A5: KINDERHORT | J5: KH_Code
J6: =IFERROR(VLOOKUP(A6,LK_Kinderhorte!J$2:K$16,2,0),"")
A7: PERSONALSPESEN
A8: ANGESTELLTES PERSONAL:
A9: Berufsbild | B9: Einstufung | D9: Dienstalter (in Jahren) | F9: Wochenstunden | G9: Abschluss 2025 | H9: Voranschlag 2026
J11: =IFERROR(VLOOKUP(A11,Profili!B$2:C$18,2,0),"") | K11: =IFERROR(VLOOKUP(B11,Profili!J$1:K$7,2,0),"")
J12: =IFERROR(VLOOKUP(A12,Profili!B$2:C$18,2,0),"") | K12: =IFERROR(VLOOKUP(B12,Profili!J$1:K$7,2,0),"")
J13: =IFERROR(VLOOKUP(A13,Profili!B$2:C$18,2,0),"") | K13: =IFERROR(VLOOKUP(B13,Profili!J$1:K$7,2,0),"")
J14: =IFERROR(VLOOKUP(A14,Profili!B$2:C$18,2,0),"") | K14: =IFERROR(VLOOKUP(B14,Profili!J$1:K$7,2,0),"")
J15: =IFERROR(VLOOKUP(A15,Profili!B$2:C$18,2,0),"") | K15: =IFERROR(VLOOKUP(B15,Profili!J$1:K$7,2,0),"")
J16: =IFERROR(VLOOKUP(A16,Profili!B$2:C$18,2,0),"") | K16: =IFERROR(VLOOKUP(B16,Profili!J$1:K$7,2,0),"")
J17: =IFERROR(VLOOKUP(A17,Profili!B$2:C$18,2,0),"") | K17: =IFERROR(VLOOKUP(B17,Profili!J$1:K$7,2,0),"")
J18: =IFERROR(VLOOKUP(A18,Profili!B$2:C$18,2,0),"") | K18: =IFERROR(VLOOKUP(B18,Profili!J$1:K$7,2,0),"")
J19: =IFERROR(VLOOKUP(A19,Profili!B$2:C$18,2,0),"") | K19: =IFERROR(VLOOKUP(B19,Profili!J$1:K$7,2,0),"")
J20: =IFERROR(VLOOKUP(A20,Profili!B$2:C$18,2,0),"") | K20: =IFERROR(VLOOKUP(B20,Profili!J$1:K$7,2,0),"")
J21: =IFERROR(VLOOKUP(A21,Profili!B$2:C$18,2,0),"") | K21: =IFERROR(VLOOKUP(B21,Profili!J$1:K$7,2,0),"")
J22: =IFERROR(VLOOKUP(A22,Profili!B$2:C$18,2,0),"") | K22: =IFERROR(VLOOKUP(B22,Profili!J$1:K$7,2,0),"")
... J65: =IFERROR(VLOOKUP(A65,Profili!B$2:C$18,2,0),"") | K65: =IFERROR(VLOOKUP(B65,Profili!J$1:K$7,2,0),"")
A66: Insgesamt | G66: =SUM(G11:G65) -> 0 | H66: =SUM(H11:H65) -> 0
A69: ZUSATZSPESEN FÜR DAS ANGESTELLTE PERSONAL
A70: Beschreibung | G70: Abschluss 2025 | H70: Voranschlag 2026
A81: Insgesamt | G81: =SUM(G71:G80) -> 0 | H81: =SUM(H71:H80) -> 0
A84: KOSTEN FÜR SELBSTÄNDIGE UND/ODER GELEGENTLICHE MITARBEITER:
A85: Berufsbild | C85: Einstufung | D85: Anfangsdatum | E85: Enddatum | F85: geleistete Stunden | G85: Abschluss 2025 | H85: Voranschlag 2026
K86: =IFERROR(VLOOKUP(C86,Profili!J$1:K$7,2,0),"")
K87: =IFERROR(VLOOKUP(C87,Profili!J$1:K$7,2,0),"")
K88: =IFERROR(VLOOKUP(C88,Profili!J$1:K$7,2,0),"")
K89: =IFERROR(VLOOKUP(C89,Profili!J$1:K$7,2,0),"")
K90: =IFERROR(VLOOKUP(C90,Profili!J$1:K$7,2,0),"")
K91: =IFERROR(VLOOKUP(C91,Profili!J$1:K$7,2,0),"")
K92: =IFERROR(VLOOKUP(C92,Profili!J$1:K$7,2,0),"")
K93: =IFERROR(VLOOKUP(C93,Profili!J$1:K$7,2,0),"")
A94: Insgesamt | G94: =SUM(G86:G93) -> 0 | H94: =SUM(H86:H93) -> 0
A97: PERSONALSPESEN INSGESAMT | G97: =G66+G81+G94 -> 0 | H97: =H66+H81+H94 -> 0
A101: VERWALTUNGSSPESEN
A102: Beschreibung | G102: Abschluss 2025 | H102: Voranschlag 2026
A103: EINKÄUFE FÜR DIE GESUNDHEITSNOTSTAND COVID 19 (PRÄVENTIONSGERÄTE, …)
...

Sheet zusammenfassende Angaben 
A1: Anlage 2_ Kinderhort
A3: ZUSAMMENFASSENDE ANGABEN BEZÜGLICH DES DIENSTES
A5: Gemeinde: | B5: Jahr
B6: 2025
A7: KINDERHORT
A11: Sektionen | B11: Öffnungszeiten | C11: Aufnahmekapazität | D11: Durchschnittliche Anwesenheiten pro Tag | E11: % Auslastung | F11: Gesamtdaten
F12: Tage pro Jahr:
F13: Anzahl der Gesuche:
F14: Ansässige in der Gemeinde:
F15: Ansässige außerhalb der Gemeinde:
F16: Nicht EU-Bürger:
A24: Achtung! Die Daten zur Erstellung dieses Blattes "zusammenfassende Angaben bezüglich des Dienstes" müssen sich auf das Jahr 2025 beziehen.

Sheet LK_Comuni
A1: Com_Desc | B1: COM_CODE | C1: Com_Desc_D | D1: Com_Desc_I | E1: COM_DESC_BIL | F1: ComAN_Desc | G1: ComAN_CODE | H1: ComAN_Desc_D | I1: ComAN_Desc_I
A2: Abtei | B2: 006 | C2: Abtei | D2: Badia | E2: Abtei / Badia | F2: Bozen | G2: 008 | H2: Bozen | I2: Bolzano
A3: Ahrntal | B3: 108 | C3: Ahrntal | D3: Valle Aurina | E3: Ahrntal / Valle Aurina | F3: Brixen | G3: 011 | H3: Brixen | I3: Bressanone
A4: Aldein | B4: 001 | C4: Aldein | D4: Aldino | E4: Aldein / Aldino | F4: Leifers | G4: 040 | H4: Leifers | I4: Laives
A5: Algund | B5: 038 | C5: Algund | D5: Lagundo | E5: Algund / Lagundo | F5: Meran | G5: 051 | H5: Meran | I5: Merano
A6: Altrei | B6: 003 | C6: Altrei | D6: Anterivo | E6: Altrei / Anterivo
A7: Andrian | B7: 002 | C7: Andrian | D7: Andriano | E7: Andrian / Andriano
A8: Auer | B8: 060 | C8: Auer | D8: Ora | E8: Auer / Ora
A9: Barbian | B9: 007 | C9: Barbian | D9: Barbiano | E9: Barbian / Barbiano
A10: Bozen | B10: 008 | C10: Bozen | D10: Bolzano | E10: Bozen / Bolzano
A11: Branzoll | B11: 012 | C11: Branzoll | D11: Bronzolo | E11: Branzoll / Bronzolo
A12: Brenner | B12: 010 | C12: Brenner | D12: Brennero | E12: Brenner / Brennero
A13: Brixen | B13: 011 | C13: Brixen | D13: Bressanone | E13: Brixen / Bressanone
A14: Bruneck | B14: 013 | C14: Bruneck | D14: Brunico | E14: Bruneck / Brunico
A15: Burgstall | B15: 066 | C15: Burgstall | D15: Postal | E15: Burgstall / Postal
A16: Corvara | B16: 026 | C16: Corvara | D16: Corvara in Badia | E16: Corvara / Corvara in Badia
A17: Deutschnofen | B17: 059 | C17: Deutschnofen | D17: Nova Ponente | E17: Deutschnofen / Nova Ponente
... A117: Wolkenstein in Gröden | B117: 089 | C117: Wolkenstein in Gröden | D117: Selva di Val Gardena | E117: Wolkenstein in Gröden / Selva di Val Gardena

Sheet LK_Kinderhorte
A1: KH_DESC_D | B1: KH_DESC_I | C1: KH_INDIRIZZO_D | D1: KH_INDIRIZZO_I | E1: KH_COM_CODE | F1: KH_COM_DESC_D | G1: KH_COM_DESC_I | H1: KH_FULLNAME_D | I1: KH_FULLNAME_I | J1: KH_FULLNAME | K1: KH_CODE | L1: KinderhortFullName | M1: KinderhortCode
A2: Casanova | B2: Casanova | C2: Ortlesstraße 48 | D2: via Ortles 48 | E2: 008 | F2: Bozen | G2: Bolzano | H2: Casanova, Ortlesstraße 48, Bozen | I2: Casanova, via Ortles 48, Bolzano | J2: Casanova, Ortlesstraße 48, Bozen | K2: 008_09 | L2: =IF('[1]Gesuch Kinderhort'!$I$1="I",K2,J2) -> Casanova, Ortlesstraße 48, Bozen | M2: 008_01
A3: Das Aquarium | B3: L'Acquario | C3: Parmastraße 10 | D3: via Parma 10 | E3: 008 | F3: Bozen | G3: Bolzano | H3: Das Aquarium , Parmastraße 10 , Bozen | I3: L'Acquario, via Parma 10 , Bolzano | J3: Das Aquarium , Parmastraße 10 , Bozen | K3: 008_03 | L3: =IF('[1]Gesuch Kinderhort'!$I$1="I",K3,J3) -> Das Aquarium , Parmastraße 10 , Bozen | M3: 008_02
A4: Das Segelschiff | B4: Il Veliero | C4: Venedigerstraße 49 | D4: viale Venezia 49 | E4: 008 | F4: Bozen | G4: Bolzano | H4: Das Segelschiff, Venedigerstraße 49, Bozen | I4: Il Veliero, viale Venezia 49, Bolzano | J4: Das Segelschiff, Venedigerstraße 49, Bozen | K4: 008_02 | L4: =IF('[1]Gesuch Kinderhort'!$I$1="I",K4,J4) -> Das Segelschiff, Venedigerstraße 49, Bozen | M4: 008_03
A5: Der Pandabär | B5: Il Panda | C5: Gaismairstraße 4 | D5: via Gaismair 4 | E5: 008 | F5: Bozen | G5: Bolzano | H5: Der Pandabär, Gaismairstraße 4, Bozen | I5: Il Panda, via Gaismair 4 , Bolzano | J5: Der Pandabär, Gaismairstraße 4, Bozen | K5: 008_06 | L5: =IF('[1]Gesuch Kinderhort'!$I$1="I",K5,J5) -> Der Pandabär, Gaismairstraße 4, Bozen | M5: 008_04
A6: Der Schmetterling | B6: La Farfalla | C6: St. Johann-Gasse 23/a | D6: vicolo S.Giovanni 23/a | E6: 008 | F6: Bozen | G6: Bolzano | H6: Der Schmetterling, St. Johann-Gasse 23/a, Bozen | I6: La Farfalla, vicolo S.Giovanni 23/a , Bolzano | J6: Der Schmetterling, St. Johann-Gasse 23/a, Bozen | K6: 008_07 | L6: =IF('[1]Gesuch Kinderhort'!$I$1="I",K6,J6) -> Der Schmetterling, St. Johann-Gasse 23/a, Bozen | M6: 008_05
A7: Der Vierklee | B7: Il Quadrifoglio | C7: Angela-Nikoletti-Platz 9 | D7: piazza Angela Nikoletti 9 | E7: 008 | F7: Bozen | G7: Bolzano | H7: Der Vierklee, Angela-Nikoletti-Platz 9 , Bozen | I7: Il Quadrifoglio, piazza Angela Nikoletti 9 , Bolzano | J7: Der Vierklee, Angela-Nikoletti-Platz 9 , Bozen | K7: 008_08 | L7: =IF('[1]Gesuch Kinderhort'!$I$1="I",K7,J7) -> Der Vierklee, Angela-Nikoletti-Platz 9 , Bozen | M7: 008_06
A8: Die Grille | B8: Il Grillo | C8: Genuastraße 94 | D8: via Genova 94 | E8: 008 | F8: Bozen | G8: Bolzano | H8: Die Grille, Genuastraße 94, Bozen | I8: Il Grillo, via Genova 94 , Bolzano | J8: Die Grille, Genuastraße 94, Bozen | K8: 008_04 | L8: =IF('[1]Gesuch Kinderhort'!$I$1="I",K8,J8) -> Die Grille, Genuastraße 94, Bozen | M8: 008_07
A9: Die Sonne | B9: Il Sole | C9: Mailandstraße 131 | D9: via Milano 131 | E9: 008 | F9: Bozen | G9: Bolzano | H9: Die Sonne, Mailandstraße 131, Bozen | I9: Il Sole, via Milano 131, Bolzano | J9: Die Sonne, Mailandstraße 131, Bozen | K9: 008_01 | L9: =IF('[1]Gesuch Kinderhort'!$I$1="I",K9,J9) -> Die Sonne, Mailandstraße 131, Bozen | M9: 008_08
A10: Die Wolke | B10: La Nuvola | C10: Lagederweg 11 | D10: vicolo Lageder | E10: 008 | F10: Bozen | G10: Bolzano | H10: Die Wolke, Lagederweg 11, Bozen | I10: La Nuvola, vicolo Lageder , Bolzano | J10: Die Wolke, Lagederweg 11, Bozen | K10: 008_05 | L10: =IF('[1]Gesuch Kinderhort'!$I$1="I",K10,J10) -> Die Wolke, Lagederweg 11, Bozen | M10: 008_09
A11: Firmian | B11: Firmian | C11: M-Montessori-Platz 12 | D11: p.zza Montessori 12 | E11: 008 | F11: Bozen | G11: Bolzano | H11: Firmian, M-Montessori-Platz 12, Bozen | I11: Firmian, p.zza Montessori 12, Bolzano | J11: Firmian, M-Montessori-Platz 12, Bozen | K11: 008_10 | L11: =IF('[1]Gesuch Kinderhort'!$I$1="I",K11,J11) -> Firmian, M-Montessori-Platz 12, Bozen | M11: 008_10
A12: Pinocchio | B12: Pinocchio | C12: Goethestraße 22 | D12: via Goethe 22 | E12: 011 | F12: Brixen | G12: Bressanone | H12: Pinocchio, Goethestraße 22, Brixen | I12: Pinocchio, via Goethe 22, Bressanone | J12: Pinocchio, Goethestraße 22, Brixen | K12: 011_01 | L12: =IF('[1]Gesuch Kinderhort'!$I$1="I",K12,J12) -> Pinocchio, Goethestraße 22, Brixen | M12: 051_01
A13: Gemeinde Kinderhort | B13: Asilo nido Comunale | C13: Hilber-Hof-Strasse 5, St. Jakob | D13: Via Maso Hilber 5, San Giacomo | E13: 040 | F13: Leifers | G13: Laives | H13: Gemeinde Kinderhort , Hilber-Hof-Strasse 5, St. Jakob, Leifers | I13: Asilo nido Comunale, Via Maso Hilber 5, San Giacomo, Laives | J13: Gemeinde Kinderhort , Hilber-Hof-Strasse 5, St. Jakob, Leifers | K13: 040_02 | L13: =IF('[1]Gesuch Kinderhort'!$I$1="I",K13,J13) -> Gemeinde Kinderhort , Hilber-Hof-Strasse 5, St. Jakob, Leifers | M13: 051_02
... A15: Maia | B15: Maia | C15: Maiastraße 1 | D15: via Maia 1 | E15: 051 | F15: Meran | G15: Merano | H15: Maia, Maiastraße 1, Meran | I15: Maia, via Maia 1, Merano | J15: Maia, Maiastraße 1, Meran | K15: 051_02 | L15: =IF('[1]Gesuch Kinderhort'!$I$1="I",K15,J15) -> Maia, Maiastraße 1, Meran | M15: 040_01
A16: Yosyag | B16: Yosyag | C16: Goethestraße 40/C | D16: via Goethe 40/C | E16: 051 | F16: Meran | G16: Merano | H16: Yosyag, Goethestraße 40/C, Meran | I16: Yosyag, via Goethe 40/C, Merano | J16: Yosyag, Goethestraße 40/C, Meran | K16: 051_01

Sheet Profili
A1: it | B1: de | C1: CODICI | J1: 2 | K1: Liv_2
A2: USCIERE/A | B2: AUSGEHER/IN | C2: Dip_18 | J2: 3 | K2: Liv_3
A3: ASSISTENTE ALL’INFANZIA DIPLOMATA | B3: DIPLOMIERTE KLEINKINDBETREUER/IN | C3: Dip_06 | E3: Dip2 bis 5 zusammenzählen | J3: 4 | K3: Liv_4
A4: FUNZIONARIA/FUNZIONARIO | B4: FUNKTIONÄR/IN | C4: Dip_09 | J4: 5 | K4: Liv_5
A5: ASSISTENTE ALL’INFANZIA | B5: KLEINKINDBETREUER/IN | C5: Dip_02 | J5: 6 | K5: Liv_6
A6: ASSISTENTE ALL’INFANZIA – COORDINATORE/COORDINATRICE | B6: KLEINKINDBETREUER/IN – KOORDINATOR/IN | C6: Dip_05 | J6: 7 | K6: Liv_7
A7: CUOCO/A | B7: KOCH/KÖCHIN | C7: Dip_13 | E7: Dip11 bis 12 zusammenzählen | J7: 8 | K7: Liv_8
A8: PEDAGOGISTA | B8: PÄDAGOGE/PÄDAGOGIN | C8: Dip_04
A9: OPERATORE/OPERATRICE SOCIO SANITARIO/A | B9: PFLEGEHELFER/IN | C9: Dip_16 | E9: Dip13 bis 14 zusammenzählen
A10: OPERAIO/A SPECIALIZZATO/A | B10: QUALIFIZIERTE/R ARBEITERIN/ARBEITER | C10: Dip_19
A11: CUOCO/A SPECIALIZZATO/A | B11: QUALIFIZIERTE/R KÖCHIN/KOCH | C11: Dip_14 | E11: Dip8 bis 10 zusammenzählen
A12: ADDETTA/O PULIZIE QUALIFICATA/O | B12: QUALIFIZIERTES REINIGUNGSPERSONAL | C12: Dip_07
A13: AUSILIARIO/A SOCIO ASSISTENZIALE | B13: SOZIALHILFSKRAFT/IN | C13: Dip_11
A14: AUSILIARIO/A SOCIO ASSISTENZIALE (AD ESAURIMENTO) | B14: SOZIALHILFSKRAFT/IN (IM AUSLAUF) | C14: Dip_12 | E14: Dip15 bis 16 zusammenzählen
A15: OPERATORE/OPERATRICE IN SCIENZE SOCIALI | B15: SOZIOLOGE/IN / PÄDAGOGE/IN | C15: Dip_15
A16: TRADUTTRICE/TRADUTTORE | B16: ÜBERSETZER/IN | C16: Dip_17
A17: ASSISTENTE AMMINISTRATIVO/A | B17: VERWALTUNGSASSISTENT/IN | C17: Dip_08
A18: FUNZIONARIA/O AMMINISTRATIVA/O | B18: VERWALTUNGSFUNKTIONÄR/IN | C18: Dip_10
A19: ALTRO | B19: ANDERES | C19: Dip_99
