Workbook
Name Betrag_der_in_der_vorliegenden_Abrechnung_abzurechnenden_Kosten: Overview!#REF!
Name Tabelle1: Overview!#REF!

Sheet Instructions
A3: EU-Partnership projects - Financial plan INSTRUCTIONS
A6: 1. Fill in the relavant financial plans: for each partner requesting funds to the Autonomous Province of Bolzano: fill in one sheet each, included the text marked red.
A7: Consider the Funding rules of BOZEN published with the call and, for more details about the eligible costs, read carefully the Joint Projects rules for the reporting of the costs.
A8: 2. In case you plan to purchase instruments or equipment whose net unit value is superior to 5.000 euros (VAT excluded), specify its unit net value (VAT excluded) in the description
A10: 3. For travel expenses, specify how you´ve estimated the cost, by briefly describing the kind and the scope of the travel and specify the cost per travel, the number of travellers and, in case, the number of travels you plan
A12: 4. When you are ready, delete the sheets you don´t need and trasform the excel file into a pdf file, making sure to include all the relevant sheets, including "Overview" (Option: Print the whole Folder)
A14: 5. Let the pdf file be signed by the legal representative of your institution, before trasmitting it via PEC emal to the Autonomous Province of Bolzano (forschung.ricerca@pec.prov.bz.it)

Sheet Financial plan - partner 1
A1: FINANCIAL PLAN - TITLE
A2: Name of project partner 1: name
A5: Financial plan of project partner 1
B7: 1. Staff costs (Personalkosten-spese di personale)
A8: n° | B8: Surname and name of the staff member | C8: Professional qualification | D8: Field of activity in the project | E8: WP | F8: % of time dedicated to the research in the 1st year | G8: Effective work in months in the 1st year | H8: % of time dedicated to the research in the 2nd year | I8: Effective work in months in the 2nd year | J8: % of time dedicated to the research in the 3rd year | K8: Effective work in months in the 3rd year | L8: Costs 1st year | M8: Costs 2nd year | N8: Costs 3rd year | O8: Total
A9: 1 | O9: =SUM(L9,M9,N9) -> 0
A10: 2 | O10: =SUM(L10,M10,N10) -> 0
A11: 3 | O11: =SUM(L11,M11,N11) -> 0
A12: 4 | O12: =SUM(L12,M12,N12) -> 0
A13: 5 | O13: =SUM(L13,M13,N13) -> 0
A14: … | O14: =SUM(L14,M14,N14) -> 0
B15: Subtotal 1 [Staff costs] | L15: =SUM(L9:L13) -> 0 | M15: =SUM(M9:M13) -> 0 | N15: =SUM(N9:N13) -> 0 | O15: =SUM(O9:O13) -> 0
B16: 2. Instruments and equipment, material costs (Ausgaben für Werkzeuge, Ausrüstung und Materialspesen - spese per strumenti e attrezzature e spese materiali)
B17: 2.1 Instruments and equipment costs> 5.000,00 EUR (exclusive of VAT)
A18: n° | B18: Description (specify the UNIT cost VAT excluded and the number of UNIT) | E18: acquisition value (VAT excluded) [in EUR] | F18: Duration (life cycle) of the instrument or equipment | H18: Months of utilization for the project | J18: Amortization/month | L18: Costs 1st year | M18: Costs 2nd year | N18: Costs 3rd year | O18: TOTAL
A19: 1 | B19: e.g. 1 x device for acquiring in situ data (value: 6000 euro each) | O19: =SUM(L19,M19,N19) -> 0
A20: 2 | O20: =SUM(L20,M20,N20) -> 0
A21: 3 | O21: =SUM(L21,M21,N21) -> 0
A22: 4 | O22: =SUM(L22,M22,N22) -> 0
A23: 5 | O23: =SUM(L23,M23,N23) -> 0
A24: … | O24: =SUM(L24,M24,N24) -> 0
B25: Subtotal 2.1 [Instruments and equipment costs> 5.000,00 EUR] | L25: =SUM(L19:L24) -> 0 | M25: =SUM(M19:M24) -> 0 | N25: =SUM(N19:N24) -> 0 | O25: =SUM(O19:O24) -> 0
B26: 2.2 Instruments and equipment costs < 5.000,00 EUR (exclusive of VAT) and material costs
A27: n° | B27: Description (specify the approx UNIT cost VAT excluded) | E27: acquisition value (VAT excluded) [in EUR] | F27: Duration (life cycle) of the instrument or equipment | H27: Months of utilization for the project | J27: Amortization/month | L27: Costs 1st year | M27: Costs 2nd year | N27: Costs 3rd year | O27: TOTAL
A28: 1 | O28: =SUM(L28,M28,N28) -> 0
A29: 2 | O29: =SUM(L29,M29,N29) -> 0
A30: 3 | O30: =SUM(L30,M30,N30) -> 0
A31: 4 | O31: =SUM(L31,M31,N31) -> 0
A32: 5 | O32: =SUM(L32,M32,N32) -> 0
A33: … | O33: =SUM(L33,M33,N33) -> 0
B34: Subtotal 2.2 [Instruments and equipment costs< 5.000,00 EUR and material costs] | L34: =SUM(L28:L32) -> 0 | M34: =SUM(M28:M32) -> 0 | N34: =SUM(N28:N32) -> 0 | O34: =SUM(O28:O32) -> 0
B35: Subtotal 2 [Instruments and equipment costs] | L35: =SUM(L25,L34) -> 0 | M35: =SUM(M25,M34) -> 0 | N35: =SUM(N25,N34) -> 0 | O35: =SUM(O25,O34) -> 0
B36: 3. Travel and accommodation and costs for attendance at conventions, expositions and conferences (Reisespesen, Verpflegung und Unterkunft und Ausgaben für die Teilnahme an Tagungen, Messen und Kongressen - spese di viaggio, vitto e alloggio e costi per la partecipazione a convegni, fiere e congressi)
A37: n° | B37: Description (specify the unit cost per travel, the number of travels and the numbers of travellers) | L37: Costs 1st year | M37: Costs 2nd year | N37: Costs 3rd year | O37: Total
A38: 1 | B38: e.g. Travel to attend kick-off meeting (700 euro X 1 person x 1 travel) | O38: =SUM(L38,M38,N38) -> 0
A39: 2 | O39: =SUM(L39,M39,N39) -> 0
A40: 3 | O40: =SUM(L40,M40,N40) -> 0
A41: 4 | O41: =SUM(L41,M41,N41) -> 0
A42: 5 | O42: =SUM(L42,M42,N42) -> 0
A43: … | O43: =SUM(L43,M43,N43) -> 0
...

Sheet Financial plan - partner 2
A1: FINANCIAL PLAN - TITLE
A2: Name of project partner 1: name
A5: Financial plan of project partner 1
B7: 1. Staff costs (Personalkosten-spese di personale)
A8: n° | B8: Surname and name of the staff member | C8: Professional qualification | D8: Field of activity in the project | E8: WP | F8: % of time dedicated to the research in the 1st year | G8: Effective work in months in the 1st year | H8: % of time dedicated to the research in the 2nd year | I8: Effective work in months in the 2nd year | J8: % of time dedicated to the research in the 3rd year | K8: Effective work in months in the 3rd year | L8: Costs 1st year | M8: Costs 2nd year | N8: Costs 3rd year | O8: Total
A9: 1 | O9: =SUM(L9,M9,N9) -> 0
A10: 2 | O10: =SUM(L10,M10,N10) -> 0
A11: 3 | O11: =SUM(L11,M11,N11) -> 0
A12: 4 | O12: =SUM(L12,M12,N12) -> 0
A13: 5 | O13: =SUM(L13,M13,N13) -> 0
A14: … | O14: =SUM(L14,M14,N14) -> 0
B15: Subtotal 1 [Staff costs] | L15: =SUM(L9:L13) -> 0 | M15: =SUM(M9:M13) -> 0 | N15: =SUM(N9:N13) -> 0 | O15: =SUM(O9:O13) -> 0
B16: 2. Instruments and equipment, material costs (Ausgaben für Werkzeuge, Ausrüstung und Materialspesen - spese per strumenti e attrezzature e spese materiali)
B17: 2.1 Instruments and equipment costs> 5.000,00 EUR (exclusive of VAT)
A18: n° | B18: Description (specify the UNIT cost VAT excluded and the number of UNIT) | E18: acquisition value (VAT excluded) [in EUR] | F18: Duration (life cycle) of the instrument or equipment | H18: Months of utilization for the project | J18: Amortization/month | L18: Costs 1st year | M18: Costs 2nd year | N18: Costs 3rd year | O18: TOTAL
A19: 1 | B19: e.g. 1 x device for acquiring in situ data (value: 6000 euro each) | O19: =SUM(L19,M19,N19) -> 0
A20: 2 | O20: =SUM(L20,M20,N20) -> 0
A21: 3 | O21: =SUM(L21,M21,N21) -> 0
A22: 4 | O22: =SUM(L22,M22,N22) -> 0
A23: 5 | O23: =SUM(L23,M23,N23) -> 0
A24: … | O24: =SUM(L24,M24,N24) -> 0
B25: Subtotal 2.1 [Instruments and equipment costs> 5.000,00 EUR] | L25: =SUM(L19:L24) -> 0 | M25: =SUM(M19:M24) -> 0 | N25: =SUM(N19:N24) -> 0 | O25: =SUM(O19:O24) -> 0
B26: 2.2 Instruments and equipment costs < 5.000,00 EUR (exclusive of VAT) and material costs
A27: n° | B27: Description (specify the approx UNIT cost VAT excluded) | E27: acquisition value (VAT excluded) [in EUR] | F27: Duration (life cycle) of the instrument or equipment | H27: Months of utilization for the project | J27: Amortization/month | L27: Costs 1st year | M27: Costs 2nd year | N27: Costs 3rd year | O27: TOTAL
A28: 1 | O28: =SUM(L28,M28,N28) -> 0
A29: 2 | O29: =SUM(L29,M29,N29) -> 0
A30: 3 | O30: =SUM(L30,M30,N30) -> 0
A31: 4 | O31: =SUM(L31,M31,N31) -> 0
A32: 5 | O32: =SUM(L32,M32,N32) -> 0
A33: … | O33: =SUM(L33,M33,N33) -> 0
B34: Subtotal 2.2 [Instruments and equipment costs< 5.000,00 EUR and material costs] | L34: =SUM(L28:L32) -> 0 | M34: =SUM(M28:M32) -> 0 | N34: =SUM(N28:N32) -> 0 | O34: =SUM(O28:O32) -> 0
B35: Subtotal 2 [Instruments and equipment costs] | L35: =SUM(L25,L34) -> 0 | M35: =SUM(M25,M34) -> 0 | N35: =SUM(N25,N34) -> 0 | O35: =SUM(O25,O34) -> 0
B36: 3. Travel and accommodation and costs for attendance at conventions, expositions and conferences (Reisespesen, Verpflegung und Unterkunft und Ausgaben für die Teilnahme an Tagungen, Messen und Kongressen - spese di viaggio, vitto e alloggio e costi per la partecipazione a convegni, fiere e congressi)
A37: n° | B37: Description (specify the unit cost per travel, the number of travels and the numbers of travellers) | L37: Costs 1st year | M37: Costs 2nd year | N37: Costs 3rd year | O37: Total
A38: 1 | B38: e.g. Travel to attend kick-off meeting (700 euro X 1 person x 1 travel) | O38: =SUM(L38,M38,N38) -> 0
A39: 2 | O39: =SUM(L39,M39,N39) -> 0
A40: 3 | O40: =SUM(L40,M40,N40) -> 0
A41: 4 | O41: =SUM(L41,M41,N41) -> 0
A42: 5 | O42: =SUM(L42,M42,N42) -> 0
A43: … | O43: =SUM(L43,M43,N43) -> 0
...

Sheet Financial plan - partner 3
A1: FINANCIAL PLAN - TITLE
A2: Name of project partner 1: name
A5: Financial plan of project partner 1
B7: 1. Staff costs (Personalkosten-spese di personale)
A8: n° | B8: Surname and name of the staff member | C8: Professional qualification | D8: Field of activity in the project | E8: WP | F8: % of time dedicated to the research in the 1st year | G8: Effective work in months in the 1st year | H8: % of time dedicated to the research in the 2nd year | I8: Effective work in months in the 2nd year | J8: % of time dedicated to the research in the 3rd year | K8: Effective work in months in the 3rd year | L8: Costs 1st year | M8: Costs 2nd year | N8: Costs 3rd year | O8: Total
A9: 1 | O9: =SUM(L9,M9,N9) -> 0
A10: 2 | O10: =SUM(L10,M10,N10) -> 0
A11: 3 | O11: =SUM(L11,M11,N11) -> 0
A12: 4 | O12: =SUM(L12,M12,N12) -> 0
A13: 5 | O13: =SUM(L13,M13,N13) -> 0
A14: … | O14: =SUM(L14,M14,N14) -> 0
B15: Subtotal 1 [Staff costs] | L15: =SUM(L9:L13) -> 0 | M15: =SUM(M9:M13) -> 0 | N15: =SUM(N9:N13) -> 0 | O15: =SUM(O9:O13) -> 0
B16: 2. Instruments and equipment, material costs (Ausgaben für Werkzeuge, Ausrüstung und Materialspesen - spese per strumenti e attrezzature e spese materiali)
B17: 2.1 Instruments and equipment costs> 5.000,00 EUR (exclusive of VAT)
A18: n° | B18: Description (specify the UNIT cost VAT excluded and the number of UNIT) | E18: acquisition value (VAT excluded) [in EUR] | F18: Duration (life cycle) of the instrument or equipment | H18: Months of utilization for the project | J18: Amortization/month | L18: Costs 1st year | M18: Costs 2nd year | N18: Costs 3rd year | O18: TOTAL
A19: 1 | B19: e.g. 1 x device for acquiring in situ data (value: 6000 euro each) | O19: =SUM(L19,M19,N19) -> 0
A20: 2 | O20: =SUM(L20,M20,N20) -> 0
A21: 3 | O21: =SUM(L21,M21,N21) -> 0
A22: 4 | O22: =SUM(L22,M22,N22) -> 0
A23: 5 | O23: =SUM(L23,M23,N23) -> 0
A24: … | O24: =SUM(L24,M24,N24) -> 0
B25: Subtotal 2.1 [Instruments and equipment costs> 5.000,00 EUR] | L25: =SUM(L19:L24) -> 0 | M25: =SUM(M19:M24) -> 0 | N25: =SUM(N19:N24) -> 0 | O25: =SUM(O19:O24) -> 0
B26: 2.2 Instruments and equipment costs < 5.000,00 EUR (exclusive of VAT) and material costs
A27: n° | B27: Description (specify the approx UNIT cost VAT excluded) | E27: acquisition value (VAT excluded) [in EUR] | F27: Duration (life cycle) of the instrument or equipment | H27: Months of utilization for the project | J27: Amortization/month | L27: Costs 1st year | M27: Costs 2nd year | N27: Costs 3rd year | O27: TOTAL
A28: 1 | O28: =SUM(L28,M28,N28) -> 0
A29: 2 | O29: =SUM(L29,M29,N29) -> 0
A30: 3 | O30: =SUM(L30,M30,N30) -> 0
A31: 4 | O31: =SUM(L31,M31,N31) -> 0
A32: 5 | O32: =SUM(L32,M32,N32) -> 0
A33: … | O33: =SUM(L33,M33,N33) -> 0
B34: Subtotal 2.2 [Instruments and equipment costs< 5.000,00 EUR and material costs] | L34: =SUM(L28:L32) -> 0 | M34: =SUM(M28:M32) -> 0 | N34: =SUM(N28:N32) -> 0 | O34: =SUM(O28:O32) -> 0
B35: Subtotal 2 [Instruments and equipment costs] | L35: =SUM(L25,L34) -> 0 | M35: =SUM(M25,M34) -> 0 | N35: =SUM(N25,N34) -> 0 | O35: =SUM(O25,O34) -> 0
B36: 3. Travel and accommodation and costs for attendance at conventions, expositions and conferences (Reisespesen, Verpflegung und Unterkunft und Ausgaben für die Teilnahme an Tagungen, Messen und Kongressen - spese di viaggio, vitto e alloggio e costi per la partecipazione a convegni, fiere e congressi)
A37: n° | B37: Description (specify the unit cost per travel, the number of travels and the numbers of travellers) | L37: Costs 1st year | M37: Costs 2nd year | N37: Costs 3rd year | O37: Total
A38: 1 | B38: e.g. Travel to attend kick-off meeting (700 euro X 1 person x 1 travel) | O38: =SUM(L38,M38,N38) -> 0
A39: 2 | O39: =SUM(L39,M39,N39) -> 0
A40: 3 | O40: =SUM(L40,M40,N40) -> 0
A41: 4 | O41: =SUM(L41,M41,N41) -> 0
A42: 5 | O42: =SUM(L42,M42,N42) -> 0
A43: … | O43: =SUM(L43,M43,N43) -> 0
...

Sheet Overview
A1: SUMMARY OVERVIEW
A4: TYPE OF COSTS | B4: PROJECT PARTNER 1 | C4: PROJECT PARTNER 2 | E4: TOTAL
A5: 1. STAFF COSTS | B5: ='Financial plan - partner 1'!O15 -> 0 | C5: ='Financial plan - partner 2'!O15 -> 0 | D5: ='Financial plan - partner 3'!O15 -> 0 | E5: =B5+C5+D5 -> 0
A6: 2. INSTRUMENTS AND EQUIPMENT, MATERIAL COSTS | B6: ='Financial plan - partner 1'!O35 -> 0 | C6: ='Financial plan - partner 2'!O35 -> 0 | D6: ='Financial plan - partner 3'!O35 -> 0 | E6: =B6+C6+D6 -> 0
A7: 3. TRAVEL AND ACCOMMODATION COSTS AND COSTS FOR ATTENDANCE AT CONVENTIONS, EXPOSITIONS AND CONFERENCES | B7: ='Financial plan - partner 1'!O44 -> 0 | C7: ='Financial plan - partner 2'!O44 -> 0 | D7: ='Financial plan - partner 3'!O44 -> 0 | E7: =B7+C7+D7 -> 0
A8: 4. GENERAL COSTS | B8: ='Financial plan - partner 1'!O47 -> 0 | C8: ='Financial plan - partner 2'!O47 -> 0 | D8: ='Financial plan - partner 3'!O47 -> 4000 | E8: =B8+C8+D8 -> 4000
A9: 5. EXTERNAL EXPERTISE AND SERVICES COSTS | B9: ='Financial plan - partner 1'!O56 -> 0 | C9: ='Financial plan - partner 2'!O56 -> 0 | D9: ='Financial plan - partner 3'!O56 -> 0 | E9: =B9+C9+D9 -> 0
A10: TOTAL COSTS | B10: =SUM(B5:B9) -> 0 | C10: =SUM(C5:C9) -> 0 | D10: =SUM(D5:D9) -> 4000 | E10: =SUM(B10:C10) -> 0
A14: Indications about the financial plan:
