Workbook
Name Betrag_der_in_der_vorliegenden_Abrechnung_abzurechnenden_Kosten: '4.Übersicht'!$D$5
Name Tabelle1: '4.Übersicht'!$D$5

Sheet Anleitungen
A1: ANLEITUNGEN ZUR AUSFÜLLUNG UND EINREICHUNG
A3: Diese Datei besteht aus 5 Blättern:
A4: 1. Liste der Ausgaben nack Kostenart 2. Details zu den Personalkosten 3. Details zu den Kosten für Instrumente 4. Übersicht 5. Erklärungen über Ausgaben und Voraussetzungen
A6: 1. Füllen Sie die Datei mit allen relevanten Angaben aus, damit die Art, das Datum und die Höhe der Ausgaben nachvollziehbar und auf die jeweiligen Belege und durchgeführten Tätigkeiten zurückführbar sind.
A8: Bitte, beachten Sie dass:
A9: im Blatt 1. Ausgaben nach Kostenart:
A11: -der Punkt 1. PERSONALKOSTEN sich auf den Lohn für Forscherinnen und Forscher, Technikerinnen und Techniker sowie sonstiges Hilfspersonal, sofern dieses Personal im Rahmen des Forschungsprojekts beschäftigt wird, bezieht.
A12: Details über das Personal müssen auch in Blatt 2- Personalkosten -Details angegeben werden.
A15: - der Punkt 2. REISESPESEN, VERPFLEGUNG UND UNTERKUNFT sich auf die Kosten für Reise, Unterkunft und Verpflegung sowie Kosten für die Teilnahme an Tagungen, Messen und Kongressen oder für Feldarbeiten bezieht;
A18: - der Punkt 3. ZUSÄTZLICHE ALLGEMEINKOSTEN sich auf zusätzliche begründete Allgemeinkosten, die klar den Projektaktivitäten zuordenbar sind, bezieht z.B. Kosten für Publikationen und die Entwicklung von Patenten, Kosten für die Anmietung von Räumlichkeiten, die für das Forschungsprojekt benutzt werden
A21: - der Punkt 4. KOSTEN FÜR INSTRUMENTE UND AUSRÜSTUNG SOWIE SACHKOSTEN beinhaltet die Kosten für den Kauf von Instrumenten, Maschinen, Ausrüstung und Verbracuhsmaterialien, die für die Erreichung der Projektziele notwendig sind
A22: Abschreibungsfähige Kosten sind nur in einer Höhe, die im Verhältnis zum Ausmaß der Nutzung für das Projekt steht, förderfähig
... A39: Vielen Dank!

Sheet 1.Ausgaben nach Kostenarten
A1: AUFLISTUNG DER AUSGABEN FÜR DIE DURCHFÜHRUNG DES FORSCHUNGSPROJEKTES Führen Sie alle Ausgaben an, die in die vorliegende Abrechnung fallen. Ordnen Sie die entsprechenden Ausgaben den jeweiligen Kostenarten zu.
B2: Projekttitel:
B3: CUP
B4: Einrichtung:
B7: 1. PERSONALKOSTEN
B8: Ausgabenbeleg | E8: Ausgestellt von | F8: Beschreibung (und Name der Mitarbeiterin/des Mitarbeiters) | G8: Betrag (in Euro) | H8: betreffende WP/Aktivitäten | I8: Abzurechnender Betrag
A9: n° | B9: Art des Belegs | C9: Nummer | D9: Datum | I9: zu Lasten der Projektmittel | J9: zu Lasten des Fördernehmers (Eigenmittel) oder anderer Fördermittel
A10: 1
A11: 2
A12: 3
A13: 4
A14: 5
A15: 6
A16: 7
A17: 8
A18: 9
A19: 10
A20: 11
A21: 12
... A24: 15
A25: …
B26: Zwischensumme Personalkosten | G26: =SUM(G10:G25) -> 0 | I26: =SUM(I10:I25) -> 0 | J26: =SUM(J10:J25) -> 0
B27: 2. REISESPESEN, VERPFLEGUNG UND UNTERKUNFT
B28: Ausgabenbeleg | E28: Ausgestellt von | F28: Beschreibung | G28: Betrag (in Euro) | H28: betreffende WP/Aktivitäten | I28: Abzurechnender Betrag
A29: n° | B29: Art des Belegs | C29: Nummer | D29: Datum | I29: zu Lasten der Projektmittel | J29: zu Lasten des Fördernehmers (Eigenmittel) oder anderer Fördermittel
A30: 1
A31: 2
A32: 3
A33: 4
A34: 5
A35: 6
A36: 7
A37: 8
A38: 9
A39: 10
A40: 11
A41: 12
... A44: 15
A45: …
B46: Zwischensumme Reisespesen, Verpflegung und Unterkunft | G46: =SUM(G30:G45) -> 0 | I46: =SUM(I30:I45) -> 0 | J46: =SUM(J30:J45) -> 0
...

Sheet 2.Personalkosten - Details
A1: Zu 1. ZUSÄTZLICHE INFORMATIONEN ZU DEN PERSONALKOSTEN Bitte geben Sie alle Mitglieder des Projektteams an, deren Personalkosten hiermit abgerechnet werden:
A3: n° | B3: Nachname | C3: Name | D3: Qualifikation und Einstufung | E3: Einrichtung/Universität | F3: Fakultät/Institut | G3: Zeit, die dem Projekt im betreffenden Zeitraum gewidmet wurde (insgesamt, in Arbeitsstunden) | H3: Zeitraum, in dem am Projekt gearbeitet wurde (MM/JJJJ-MM/JJJJ) | I3: Betreffende WP/Aktivitäten
A5: 1
A6: 2
A7: 3
A8: 4
A9: 5
A10: 6
A11: 7
A12: 8
A13: 9
A14: 10
A15: 11
A16: 12
... A19: 15
A20: …

Sheet 3.Kosten Instrumente - Details
A1: Zu 2.1 ZUSÄTZLICHE INFORMATIONEN ZU DEN KOSTEN FÜR INSTRUMENTE UND AUSRÜSTUNG ÜBER 1.500,00 EURO (OHNE MWST.)
B3: Ausgabenbeleg | E3: Lieferant/Ausgestellt von | F3: Beschreibung | G3: Anschaffungswert (ohne MwSt.) in Euro | H3: Dauer (Lebenszyklus) des Instrumentes oder der Ausrüstung in Monaten | I3: Monate der Nutzung für das Projekt
A4: n° | B4: Art des Belegs | C4: Nummer | D4: Datum
A5: 1
A6: 2
A7: 3
A8: 4
A9: 5
A10: 6
A11: 7
A12: 8
A13: 9
A14: 10
A15: 11
A16: 12
... A19: 15
A20: …

Sheet 4.Übersicht
A1: ZUSAMMENFASSENDE ÜBERSICHT
B3: A | C3: B | D3: C | E3: D=B+C | F3: E=A-D
A4: Art der Ausgabe | B4: Anerkannte Kosten (laut Fördervereinbarung bzw. vom Amt genehmigte Umschichtungen) | C4: Betrag der mit vorhergehenden Abrechnungen abgerechneten Kosten | D4: Betrag der mit der vorliegenden Abrechnung abzurechnenden Kosten | E4: Summe der bisherigen Abrechnungen | F4: Offener Betrag/noch abzurechnender Betrag
A5: 1. PERSONALKOSTEN | D5: ='1.Ausgaben nach Kostenarten'!$I$26 -> 0
A6: 2. REISESPESEN, VERPFLEGUNG UND UNTERKUNFT | D6: ='1.Ausgaben nach Kostenarten'!$I$109 -> 0
A7: 3. ZUSÄTZLICHE ALLGEMEINKOSTEN | D7: ='1.Ausgaben nach Kostenarten'!$I$46 -> 0
A8: 4. KOSTEN FÜR INSTRUMENTE UND AUSRÜSTUNG SOWIE SACHKOSTEN | D8: ='1.Ausgaben nach Kostenarten'!$I$66 -> 0
A9: 5. KOSTEN FÜR EXTERNE MITARBEIT UND DIENSTLEISTUNGEN | D9: ='1.Ausgaben nach Kostenarten'!$I$129 -> 0
A10: GESAMTKOSTEN | D10: =SUM(D5:D9) -> 0
A12: Bitte beachten Sie: gemäß Fördervertrag können Umschichtungen zwischen den einzelnen Kostenarten im Ausmaß von max. 20% des Budgets vorgenommen werden; Der Fördernehmer ist verpflichtet, diese Umschichtung in der jeweiligen Abrechnungsphase klar in den Unterlagen zur Abrechnung zu vermerken. Für Umschichtungen in höherem Ausmaß muss eine Genehmigung von Seiten des Amtes für Wissenschaft und Forschung des Landes, nach vorhergehendem begründetem Antrag von Seiten des Fördernehmers, eingeholt werden.
A14: Eventuelle Anmerkungen: (z. B. Änderungen des Budgets bis 20%)

Sheet 5. Erklärungen
A2: ='1.Ausgaben nach Kostenarten'!B2 -> Projekttitel: | B2: ='1.Ausgaben nach Kostenarten'!C2 -> 0
A3: ='[1]1. Ausgaben nach Kostenarten'!B3 -> CUP: | B3: ='1.Ausgaben nach Kostenarten'!C3 -> 0
B5: Der/die unterfertigte __________________________________ geboren in ___ am________ mit Wohnsitz in___________________ Steuernummer_____________
B7: in Kenntnis der strafrechtlichen Folgen von Falscherklärungen laut D.P.R. vom 28. Dezember 2000, Nr. 445, Art. 76, d
B9: ERKLÄRT UNTER EIGENER VERANTWORTUNG
B11: als gesetzliche/er VertreterIn der Einrichtung
B12: ='1.Ausgaben nach Kostenarten'!C4 -> 0
B13: dass:
B15: 1) die hier aufgelisteten Ausgaben effektiv bestritten wurden,
B17: 2) keine wirtschaftlichen Vergünstigungen für dieselben Ausgaben in Anspruch genommen wurden,
B19: 3) die entsprechenden Ausgabenbelege im Besitz der von mir vertretenen Einrichtung sind, die sich verpflichtet, sie 10 Jahre lang ab ihrer Ausstellung/Registrierung aufzubewahren
B21: 4) die gesetzlichen Voraussetzungen und Bedingungen für die von mir vertretene Einrichtung gegeben sind und fortbestehen
B23: 5) ich mir der Folgen bei nicht wahrheitsgemäßen Erklärungen oder Vorenthaltung notwendiger Informationen bewusst bin.
B26: Der/die gesetzliche Vertreter/in
B27: (Datum und Unterschrift)
