Workbook
Name dd_com_desc: OFFSET([1]LK_Comuni!$B$2,0,0,COUNTA([1]LK_Comuni!$B:$B),1)
Name dd_com_desc: OFFSET(LK_Comuni!$A$2,0,0,COUNTA(LK_Comuni!$A:$A),1)
Name dd_com_desc_max: LK_Comuni!$A$2:$A$64991
Name dd_com_netto_desc: LK_Comuni!$A$2:$A$117
Name dd_desc_approv: #REF!
Name dd_kita_desc: OFFSET(#REF!,0,0,COUNTA(#REF!),1)
Name dd_kita_desc: OFFSET(#REF!,0,0,COUNTA(#REF!),1)
Name dd_kita_desc_max: #REF!
Name dd_kita_desc_max: #REF!
Name dd_lst_mod: Parameters!$A$6:$A$7

Sheet Domanda Microstrutture
A1: Allegato parte integrante della domanda di contributo per il servizio di microstruttura | F1: Riservato all'Agenzia per la famiglia | Y1: 666 | Z1: DomandaKITA
A3: Comune di: | B3: Anno | F3: Numero progressivo domanda | G3: Stato domanda | I3: Com_Code
B4: 2026 | I4: =IFERROR(VLOOKUP(A4,LK_Comuni!$A:$B,2,0),"")
A7: Microstruttura | B7: Costo orario (IVA non detraibile inclusa) Euro | C7: Comune di provenienza dei bambini | D7: Ore di assistenza previste | E7: Costo del servizio Euro | F7: Entrate stimate da compartecipazione tariffaria calcolate ai sensi del DPGP 30/2000 (IVA inclusa) * Euro | G7: Contributo richiesto Euro | I7: Kita_Code | J7: Com_ut_Code
A8: Totali | D8: =SUM(D9:D38) -> 0 | E8: =SUM(E9:E38) -> 0 | G8: =SUM(G9:G38) -> 0
E9: =IF(OR(ISBLANK(B9),ISBLANK(D9)), "",D9*B9) | F9: =IF(OR(ISBLANK(B9),ISBLANK(D9)),"",B9*D9*$F$8/$E$8) | G9: =IF(OR(ISBLANK(B9),ISBLANK(D9)), "",(B9-3.65)/2*D9+(3.65*D9)-F9) | I9: =IFERROR(VLOOKUP(A9,LK_Kita!$N:$O,2,0),"") | J9: =IFERROR(VLOOKUP(C9,LK_Comuni!$A:$B,2,0),"")
E10: =IF(OR(ISBLANK(B10),ISBLANK(D10)), "",D10*B10) | F10: =IF(OR(ISBLANK(B10),ISBLANK(D10)),"",B10*D10*$F$8/$E$8) | G10: =IF(OR(ISBLANK(B10),ISBLANK(D10)), "",(B10-3.65)/2*D10+(3.65*D10)-F10) | I10: =IFERROR(VLOOKUP(A10,LK_Kita!$N:$O,2,0),"") | J10: =IFERROR(VLOOKUP(C10,LK_Comuni!$A:$B,2,0),"")
E11: =IF(OR(ISBLANK(B11),ISBLANK(D11)), "",D11*B11) | F11: =IF(OR(ISBLANK(B11),ISBLANK(D11)),"",B11*D11*$F$8/$E$8) | G11: =IF(OR(ISBLANK(B11),ISBLANK(D11)), "",(B11-3.65)/2*D11+(3.65*D11)-F11) | I11: =IFERROR(VLOOKUP(A11,LK_Kita!$N:$O,2,0),"") | J11: =IFERROR(VLOOKUP(C11,LK_Comuni!$A:$B,2,0),"")
E12: =IF(OR(ISBLANK(B12),ISBLANK(D12)), "",D12*B12) | F12: =IF(OR(ISBLANK(B12),ISBLANK(D12)),"",B12*D12*$F$8/$E$8) | G12: =IF(OR(ISBLANK(B12),ISBLANK(D12)), "",(B12-3.65)/2*D12+(3.65*D12)-F12) | I12: =IFERROR(VLOOKUP(A12,LK_Kita!$N:$O,2,0),"") | J12: =IFERROR(VLOOKUP(C12,LK_Comuni!$A:$B,2,0),"")
E13: =IF(OR(ISBLANK(B13),ISBLANK(D13)), "",D13*B13) | F13: =IF(OR(ISBLANK(B13),ISBLANK(D13)),"",B13*D13*$F$8/$E$8) | G13: =IF(OR(ISBLANK(B13),ISBLANK(D13)), "",(B13-3.65)/2*D13+(3.65*D13)-F13) | I13: =IFERROR(VLOOKUP(A13,LK_Kita!$N:$O,2,0),"") | J13: =IFERROR(VLOOKUP(C13,LK_Comuni!$A:$B,2,0),"")
E14: =IF(OR(ISBLANK(B14),ISBLANK(D14)), "",D14*B14) | F14: =IF(OR(ISBLANK(B14),ISBLANK(D14)),"",B14*D14*$F$8/$E$8) | G14: =IF(OR(ISBLANK(B14),ISBLANK(D14)), "",(B14-3.65)/2*D14+(3.65*D14)-F14) | I14: =IFERROR(VLOOKUP(A14,LK_Kita!$N:$O,2,0),"") | J14: =IFERROR(VLOOKUP(C14,LK_Comuni!$A:$B,2,0),"")
E15: =IF(OR(ISBLANK(B15),ISBLANK(D15)), "",D15*B15) | F15: =IF(OR(ISBLANK(B15),ISBLANK(D15)),"",B15*D15*$F$8/$E$8) | G15: =IF(OR(ISBLANK(B15),ISBLANK(D15)), "",(B15-3.65)/2*D15+(3.65*D15)-F15) | I15: =IFERROR(VLOOKUP(A15,LK_Kita!$N:$O,2,0),"") | J15: =IFERROR(VLOOKUP(C15,LK_Comuni!$A:$B,2,0),"")
E16: =IF(OR(ISBLANK(B16),ISBLANK(D16)), "",D16*B16) | F16: =IF(OR(ISBLANK(B16),ISBLANK(D16)),"",B16*D16*$F$8/$E$8) | G16: =IF(OR(ISBLANK(B16),ISBLANK(D16)), "",(B16-3.65)/2*D16+(3.65*D16)-F16) | I16: =IFERROR(VLOOKUP(A16,LK_Kita!$N:$O,2,0),"") | J16: =IFERROR(VLOOKUP(C16,LK_Comuni!$A:$B,2,0),"")
E17: =IF(OR(ISBLANK(B17),ISBLANK(D17)), "",D17*B17) | F17: =IF(OR(ISBLANK(B17),ISBLANK(D17)),"",B17*D17*$F$8/$E$8) | G17: =IF(OR(ISBLANK(B17),ISBLANK(D17)), "",(B17-3.65)/2*D17+(3.65*D17)-F17) | I17: =IFERROR(VLOOKUP(A17,LK_Kita!$N:$O,2,0),"") | J17: =IFERROR(VLOOKUP(C17,LK_Comuni!$A:$B,2,0),"")
E18: =IF(OR(ISBLANK(B18),ISBLANK(D18)), "",D18*B18) | F18: =IF(OR(ISBLANK(B18),ISBLANK(D18)),"",B18*D18*$F$8/$E$8) | G18: =IF(OR(ISBLANK(B18),ISBLANK(D18)), "",(B18-3.65)/2*D18+(3.65*D18)-F18) | I18: =IFERROR(VLOOKUP(A18,LK_Kita!$N:$O,2,0),"") | J18: =IFERROR(VLOOKUP(C18,LK_Comuni!$A:$B,2,0),"")
E19: =IF(OR(ISBLANK(B19),ISBLANK(D19)), "",D19*B19) | F19: =IF(OR(ISBLANK(B19),ISBLANK(D19)),"",B19*D19*$F$8/$E$8) | G19: =IF(OR(ISBLANK(B19),ISBLANK(D19)), "",(B19-3.65)/2*D19+(3.65*D19)-F19) | I19: =IFERROR(VLOOKUP(A19,LK_Kita!$N:$O,2,0),"") | J19: =IFERROR(VLOOKUP(C19,LK_Comuni!$A:$B,2,0),"")
E20: =IF(OR(ISBLANK(B20),ISBLANK(D20)), "",D20*B20) | F20: =IF(OR(ISBLANK(B20),ISBLANK(D20)),"",B20*D20*$F$8/$E$8) | G20: =IF(OR(ISBLANK(B20),ISBLANK(D20)), "",(B20-3.65)/2*D20+(3.65*D20)-F20) | I20: =IFERROR(VLOOKUP(A20,LK_Kita!$N:$O,2,0),"") | J20: =IFERROR(VLOOKUP(C20,LK_Comuni!$A:$B,2,0),"")
... E38: =IF(OR(ISBLANK(B38),ISBLANK(D38)), "",D38*B38) | F38: =IF(OR(ISBLANK(B38),ISBLANK(D38)),"",B38*D38*$F$8/$E$8) | G38: =IF(OR(ISBLANK(B38),ISBLANK(D38)), "",(B38-3.65)/2*D38+(3.65*D38)-F38) | I38: =IFERROR(VLOOKUP(A38,LK_Kita!$N:$O,2,0),"") | J38: =IFERROR(VLOOKUP(C38,LK_Comuni!$A:$B,2,0),"")
A40: INDICAZIONI PER LA COMPILAZIONE
A41: La domanda di contributo per le microstrutture comunali deve essere presentata unicamente dal Comune gestore della microstruttura, indipendentemente dai Comuni di provenienza dei bambini assistiti. Per le microstrutture aziendali devono fare domanda i Comuni che acquistano il servizio.
A42: Compilare per ogni microstruttura una riga per ciascun Comune utilizzatore del servizio, indicando sempre il costo orario e le ore di assistenza previste.
A43: In presenza di due periodi contrattuali nell'anno 2025 con costi orari diversi, suddividere proporzionalmente le ore tra i due periodi/costi orari. Qualora il costo orario fatturato non sia stato arrotondato a due decimali secondo le regole commerciali, indicare il costo orario arrotondato per difetto.
A44: Qualora una cella non venga compilata, l'errore verrà evidenziato in rosso.
A45: * le entrate da compartecipazione tariffaria non devono ricomprendere l'eventuale maggiorazione di 1,00 Euro all'ora per l'utilizzo del servizio in un Comune diverso da quello di residenza o di stabile dimora del bambino e vanno indicate cumulativamente.

Sheet LK_Kita
A1: KITA_COM_CODE | B1: KITA_COM_DESC_I | C1: KITA_COM_DESC_D | D1: ENTE_CODE | E1: KITA_ENTE_DESC_I | F1: KITA_ENTE_DESC_D | G1: KITA_INDIRIZZO_I | H1: KITA_INDIRIZZO_D | I1: KITA_LOCALITA_I | J1: KITA_LOCALITA_D | K1: KITA_TYPE_I | L1: KITA_TYPE_D | M1: KITA_POSTI | N1: KITA_FULL_NAME | O1: KITA_CODE | P1: KITA_FULL_NAME_I | Q1: KITA_FULL_NAME_D | R1: KITA_FLAG_ACTIVE | S1: KITA_INIZIO_VAL | T1: KITA_FINE_VAL
A2: 001 | B2: Aldino | C2: Aldein | D2: COOP_004 | E2: Tagesmütter | F2: Tagesmütter | G2: Paese, 41/2 | H2: Dorf, 41/2 | M2: 10 | N2: Aldino, Paese, 41/2, Tagesmütter | O2: COOP_004_36 | P2: Aldino, Paese, 41/2, Tagesmütter | Q2: Aldein, Dorf, 41/2, Tagesmütter | R2: 1 | S2: 45145 | T2: 401768
A3: 002 | B3: Andriano | C3: Andrian | D3: COOP_013 | E3: Paideias | F3: Paideias | G3: Via del Sole, 10 | H3: Sonnenstraße, 10 | M3: 25 | N3: Andriano, Via del Sole, 10, Paideias | O3: COOP_013_06 | P3: Andriano, Via del Sole, 10, Paideias | Q3: Andrian, Sonnenstraße, 10, Paideias | R3: 1 | S3: 44835 | T3: 401768
A4: 004 | B4: Appiano s.s.d.v. | C4: Eppan | D4: COOP_004 | E4: Tagesmütter | F4: Tagesmütter | G4: Via Pillhof,53 | H4: Pillhofstraße, 53 | I4: Frangarto | J4: Frangart | M4: 18 | N4: Appiano s.s.d.v. - Frangarto, Via Pillhof,53, Tagesmütter | O4: COOP_004_02 | P4: Appiano s.s.d.v. - Frangarto, Via Pillhof,53, Tagesmütter | Q4: Eppan - Frangart, Pillhofstraße, 53, Tagesmütter | R4: 1 | S4: 1 | T4: 401768
A5: 004 | B5: Appiano s.s.d.v. | C5: Eppan | D5: COOP_004 | E5: Tagesmütter | F5: Tagesmütter | G5: Piazza S. Michele, 7 | H5: St.-Michael-Platz, 7 | I5: S. Michele | J5: St. Michael | M5: 14 | N5: Appiano s.s.d.v. - S. Michele, Piazza S. Michele, 7, Tagesmütter | O5: COOP_004_01 | P5: Appiano s.s.d.v. - S. Michele, Piazza S. Michele, 7, Tagesmütter | Q5: Eppan - St. Michael, St.-Michael-Platz, 7, Tagesmütter | R5: 1 | S5: 1 | T5: 401768
A6: 004 | B6: Appiano s.s.d.v. | C6: Eppan | D6: COOP_013 | E6: Paideias | F6: Paideias | G6: Via Sill, 3 (Villa Panda) | H6: Sillweg, 3 (Villa Panda) | I6: S. Michele | J6: St. Michael | M6: 30 | N6: Appiano s.s.d.v. - S. Michele, Via Sill, 3 (Villa Panda), Paideias | O6: COOP_013_07 | P6: Appiano s.s.d.v. - S. Michele, Via Sill, 3 (Villa Panda), Paideias | Q6: Eppan - St. Michael, Sillweg, 3 (Villa Panda), Paideias | R6: 1 | S6: 45230 | T6: 401768
A7: 004 | B7: Appiano s.s.d.v. | C7: Eppan | D7: COOP_013 | E7: Paideias | F7: Paideias | G7: Via Sill, 3 (Villa Zebra) | H7: Sillweg, 3 (Villa Zebra) | I7: S. Michele | J7: St. Michael | K7: aziendale | L7: betriebliche | M7: 16 | N7: Appiano s.s.d.v. - S. Michele, Via Sill, 3 (Villa Zebra), Paideias (aziendale) | O7: COOP_013_01 | P7: Appiano s.s.d.v. - S. Michele, Via Sill, 3 (Villa Zebra), Paideias (aziendale) | Q7: Eppan - St. Michael, Sillweg, 3 (Villa Zebra), Paideias (betriebliche) | R7: 1 | S7: 43009 | T7: 401768
A8: 004 | B8: Appiano s.s.d.v. | C8: Eppan | D8: COOP_013 | E8: Paideias | F8: Paideias | G8: Via della Scuola, 1 | H8: Schulweg, 1 | I8: S. Paolo | J8: St. Pauls | M8: 26 | N8: Appiano s.s.d.v. - S. Paolo, Via della Scuola, 1, Paideias | O8: COOP_013_03 | P8: Appiano s.s.d.v. - S. Paolo, Via della Scuola, 1, Paideias | Q8: Eppan - St. Pauls, Schulweg, 1, Paideias | R8: 1 | S8: 43871 | T8: 401768
A9: 006 | B9: Badia | C9: Abtei | D9: COOP_020 | E9: Somnias | F9: Somnias | G9: Via S. Linert, 14 | H9: St.-Linert-Straße, 14 | M9: 20 | N9: Badia, Via S. Linert, 14, Somnias | O9: COOP_020_02 | P9: Badia, Via S. Linert, 14, Somnias | Q9: Abtei, St.-Linert-Straße, 14, Somnias | R9: 1 | S9: 46023 | T9: 401768
A10: 007 | B10: Barbiano | C10: Barbian | D10: COOP_002 | E10: Coccinella | F10: Coccinella | G10: Via dei Campi, 4 | H10: Ackerweg, 4 | M10: 15 | N10: Barbiano, Via dei Campi, 4, Coccinella | O10: COOP_002_36 | P10: Barbiano, Via dei Campi, 4, Coccinella | Q10: Barbian, Ackerweg, 4, Coccinella | R10: 1 | S10: 46023 | T10: 401768
A11: 008 | B11: Bolzano | C11: Bozen | D11: COOP_002 | E11: Coccinella | F11: Coccinella | G11: Lungo Talvera S. Quirino, 10 | H11: Quireiner Wassermauer, 10 | M11: 30 | N11: Bolzano, Lungo Talvera S. Quirino, 10, Coccinella | O11: COOP_002_01 | P11: Bolzano, Lungo Talvera S. Quirino, 10, Coccinella | Q11: Bozen, Quireiner Wassermauer, 10, Coccinella | R11: 1 | S11: 1 | T11: 401768
A12: 008 | B12: Bolzano | C12: Bozen | D12: COOP_002 | E12: Coccinella | F12: Coccinella | G12: Lungo Talvera S. Quirino, 10 | H12: Quireiner Wassermauer, 10 | K12: aziendale | L12: betriebliche | M12: 18 | N12: Bolzano, Lungo Talvera S. Quirino, 10, Coccinella (aziendale) | O12: COOP_002_02 | P12: Bolzano, Lungo Talvera S. Quirino, 10, Coccinella (aziendale) | Q12: Bozen, Quireiner Wassermauer, 10, Coccinella (betriebliche) | R12: 1 | S12: 1 | T12: 401768
A13: 008 | B13: Bolzano | C13: Bozen | D13: COOP_017 | E13: Baobab | F13: Baobab | G13: Piazza Cristo Re, 7 | H13: Christkönigsplatz, 7 | K13: aziendale | L13: betriebliche | M13: 17 | N13: Bolzano, Piazza Cristo Re, 7, Baobab (aziendale) | O13: COOP_017_01 | P13: Bolzano, Piazza Cristo Re, 7, Baobab (aziendale) | Q13: Bozen, Christkönigsplatz, 7, Baobab (betriebliche) | R13: 1 | S13: 44077 | T13: 401768
A14: 008 | B14: Bolzano | C14: Bozen | D14: COOP_006 | E14: Babycoop | F14: Babycoop | G14: Piazza Don Bosco, 13 | H14: Don-Bosco-Platz, 13 | M14: 30 | N14: Bolzano, Piazza Don Bosco, 13, Babycoop | O14: COOP_006_01 | P14: Bolzano, Piazza Don Bosco, 13, Babycoop | Q14: Bozen, Don-Bosco-Platz, 13, Babycoop | R14: 1 | S14: 1 | T14: 401768
A15: 008 | B15: Bolzano | C15: Bozen | D15: COOP_006 | E15: Babycoop | F15: Babycoop | G15: Piazzetta Anne Frank, 17 | H15: Anne-Frank-Platz, 17 | M15: 14 | N15: Bolzano, Piazzetta Anne Frank, 17, Babycoop | O15: COOP_006_02 | P15: Bolzano, Piazzetta Anne Frank, 17, Babycoop | Q15: Bozen, Anne-Frank-Platz, 17, Babycoop | R15: 1 | S15: 1 | T15: 401768
A16: 008 | B16: Bolzano | C16: Bozen | D16: COOP_002 | E16: Coccinella | F16: Coccinella | G16: Via Armando Diaz, 57 | H16: Armando Diaz Straße, 57 | K16: aziendale | L16: betriebliche | M16: 29 | N16: Bolzano, Via Armando Diaz, 57, Coccinella (aziendale) | O16: COOP_002_21 | P16: Bolzano, Via Armando Diaz, 57, Coccinella (aziendale) | Q16: Bozen, Armando Diaz Straße, 57, Coccinella (betriebliche) | R16: 1 | S16: 44963 | T16: 401768
A17: 008 | B17: Bolzano | C17: Bozen | D17: COOP_009 | E17: Xenia | F17: Xenia | G17: Via Buozzi,14 | H17: Buozzistraße, 14 | M17: 30 | N17: Bolzano, Via Buozzi,14, Xenia | O17: COOP_009_05 | P17: Bolzano, Via Buozzi,14, Xenia | Q17: Bozen, Buozzistraße, 14, Xenia | R17: 1 | S17: 45717 | T17: 401768
A18: 008 | B18: Bolzano | C18: Bozen | D18: COOP_001 | E18: Casa Bimbo | F18: Casa Bimbo | G18: Via Claudia Augusta, 48/B | H18: Claudia-Augusta-Straße, 48/B | M18: 18 | N18: Bolzano, Via Claudia Augusta, 48/B, Casa Bimbo | O18: COOP_001_02 | P18: Bolzano, Via Claudia Augusta, 48/B, Casa Bimbo | Q18: Bozen, Claudia-Augusta-Straße, 48/B, Casa Bimbo | R18: 1 | S18: 1 | T18: 401768
A19: 008 | B19: Bolzano | C19: Bozen | D19: COOP_001 | E19: Casa Bimbo | F19: Casa Bimbo | G19: Via Claudia Augusta, 66/68 | H19: Claudia-Augusta-Straße, 66/68 | M19: 18 | N19: Bolzano, Via Claudia Augusta, 66/68, Casa Bimbo | O19: COOP_001_03 | P19: Bolzano, Via Claudia Augusta, 66/68, Casa Bimbo | Q19: Bozen, Claudia-Augusta-Straße, 66/68, Casa Bimbo | R19: 1 | S19: 1 | T19: 401768
A20: 008 | B20: Bolzano | C20: Bozen | D20: COOP_014 | E20: Montessori | F20: Montessori | G20: Via Cologna, 1 | H20: Glaningerweg, 1 | K20: aziendale | L20: betriebliche | M20: 19 | N20: Bolzano, Via Cologna, 1, Montessori (aziendale) | O20: COOP_014_01 | P20: Bolzano, Via Cologna, 1, Montessori (aziendale) | Q20: Bozen, Glaningerweg, 1, Montessori (betriebliche) | R20: 1 | S20: 1 | T20: 401768
A21: 008 | B21: Bolzano | C21: Bozen | D21: COOP_002 | E21: Coccinella | F21: Coccinella | G21: Via Combattenti, 4 | H21: Frontkämpferstraße, 4 | M21: 17 | N21: Bolzano, Via Combattenti, 4, Coccinella | O21: COOP_002_11 | P21: Bolzano, Via Combattenti, 4, Coccinella | Q21: Bozen, Frontkämpferstraße, 4, Coccinella | R21: 1 | S21: 44950 | T21: 401768
A22: 008 | B22: Bolzano | C22: Bozen | D22: COOP_001 | E22: Casa Bimbo | F22: Casa Bimbo | G22: Via Crispi, 40 | H22: Crispistraße, 40 | K22: aziendale | L22: betriebliche | M22: 25 | N22: Bolzano, Via Crispi, 40, Casa Bimbo (aziendale) | O22: COOP_001_04 | P22: Bolzano, Via Crispi, 40, Casa Bimbo (aziendale) | Q22: Bozen, Crispistraße, 40, Casa Bimbo (betriebliche) | R22: 1 | S22: 1 | T22: 401768
A23: 008 | B23: Bolzano | C23: Bozen | D23: COOP_005 | E23: Primi Passi | F23: Primi Passi | G23: Via Druso, 339/E | H23: Drususstraße, 339/E | K23: aziendale | L23: betriebliche | M23: 30 | N23: Bolzano, Via Druso, 339/E, Primi Passi (aziendale) | O23: COOP_005_01 | P23: Bolzano, Via Druso, 339/E, Primi Passi (aziendale) | Q23: Bozen, Drususstraße, 339/E, Primi Passi (betriebliche) | R23: 1 | S23: 1 | T23: 401768
A24: 008 | B24: Bolzano | C24: Bozen | D24: COOP_001 | E24: Casa Bimbo | F24: Casa Bimbo | G24: Via Galilei, 2/C | H24: G.-Galilei-Straße, 2/C | K24: aziendale | L24: betriebliche | M24: 20 | N24: Bolzano, Via Galilei, 2/C, Casa Bimbo (aziendale) | O24: COOP_001_05 | P24: Bolzano, Via Galilei, 2/C, Casa Bimbo (aziendale) | Q24: Bozen, G.-Galilei-Straße, 2/C, Casa Bimbo (betriebliche) | R24: 1 | S24: 44927 | T24: 401768
A25: 008 | B25: Bolzano | C25: Bozen | D25: COOP_001 | E25: Casa Bimbo | F25: Casa Bimbo | G25: Via Garibaldi, 12 | H25: Garibaldistraße, 12 | M25: 30 | N25: Bolzano, Via Garibaldi, 12, Casa Bimbo | O25: COOP_001_31 | P25: Bolzano, Via Garibaldi, 12, Casa Bimbo | Q25: Bozen, Garibaldistraße, 12, Casa Bimbo | R25: 1 | S25: 46023 | T25: 401768
A26: 008 | B26: Bolzano | C26: Bozen | D26: COOP_001 | E26: Casa Bimbo | F26: Casa Bimbo | G26: Via Garibaldi, 12 | H26: Garibaldistraße, 12 | K26: aziendale | L26: betriebliche | M26: 30 | N26: Bolzano, Via Garibaldi, 12, Casa Bimbo (aziendale) | O26: COOP_001_32 | P26: Bolzano, Via Garibaldi, 12, Casa Bimbo (aziendale) | Q26: Bozen, Garibaldistraße, 12, Casa Bimbo (betriebliche) | R26: 1 | S26: 46023 | T26: 401768
A27: 008 | B27: Bolzano | C27: Bozen | D27: COOP_004 | E27: Tagesmütter | F27: Tagesmütter | G27: Via Goethe, 34/a | H27: Goethestraße, 34/a | K27: aziendale | L27: betriebliche | M27: 20 | N27: Bolzano, Via Goethe, 34/a, Tagesmütter (aziendale) | O27: COOP_004_33 | P27: Bolzano, Via Goethe, 34/a, Tagesmütter (aziendale) | Q27: Bozen, Goethestraße, 34/a, Tagesmütter (betriebliche) | R27: 1 | S27: 44851 | T27: 401768
A28: 008 | B28: Bolzano | C28: Bozen | D28: COOP_004 | E28: Tagesmütter | F28: Tagesmütter | G28: Via Innsbruck, 43 | H28: Innsbrucker Str., 43 | K28: aziendale | L28: betriebliche | M28: 10 | N28: Bolzano, Via Innsbruck, 43, Tagesmütter (aziendale) | O28: COOP_004_42 | P28: Bolzano, Via Innsbruck, 43, Tagesmütter (aziendale) | Q28: Bozen, Innsbrucker Str., 43, Tagesmütter (betriebliche) | R28: 1 | S28: 45383 | T28: 401768
A29: 008 | B29: Bolzano | C29: Bozen | D29: COOP_002 | E29: Coccinella | F29: Coccinella | G29: Via Macello, 55 | H29: Schlachthofstraße, 55 | K29: aziendale | L29: betriebliche | M29: 20 | N29: Bolzano, Via Macello, 55, Coccinella (aziendale) | O29: COOP_002_26 | P29: Bolzano, Via Macello, 55, Coccinella (aziendale) | Q29: Bozen, Schlachthofstraße, 55, Coccinella (betriebliche) | R29: 1 | S29: 45292 | T29: 401768
A30: 008 | B30: Bolzano | C30: Bozen | D30: COOP_006 | E30: Babycoop | F30: Babycoop | G30: Via Michael Gaismair, 18 | H30: Michael-Gaismair-Straße, 18 | M30: 15 | N30: Bolzano, Via Michael Gaismair, 18, Babycoop | O30: COOP_006_06 | P30: Bolzano, Via Michael Gaismair, 18, Babycoop | Q30: Bozen, Michael-Gaismair-Straße, 18, Babycoop | R30: 1 | S30: 1 | T30: 401768
A31: 008 | B31: Bolzano | C31: Bozen | D31: COOP_006 | E31: Babycoop | F31: Babycoop | G31: Via Rosmini, 44 | H31: Rosministraße, 44 | M31: 15 | N31: Bolzano, Via Rosmini, 44, Babycoop | O31: COOP_006_04 | P31: Bolzano, Via Rosmini, 44, Babycoop | Q31: Bozen, Rosministraße, 44, Babycoop | R31: 1 | S31: 1 | T31: 401768
A32: 008 | B32: Bolzano | C32: Bozen | D32: COOP_001 | E32: Casa Bimbo | F32: Casa Bimbo | G32: Via Vanga, 85 | H32: Wangergasse, 85 | M32: 30 | N32: Bolzano, Via Vanga, 85, Casa Bimbo | O32: COOP_001_21 | P32: Bolzano, Via Vanga, 85, Casa Bimbo | Q32: Bozen, Wangergasse, 85, Casa Bimbo | R32: 1 | S32: 1 | T32: 401768
A33: 008 | B33: Bolzano | C33: Bozen | D33: COOP_001 | E33: Casa Bimbo | F33: Casa Bimbo | G33: Via Volta, 11 (NOI TechPark) | H33: Voltastraße, 11 (NOI TechPark) | K33: aziendale | L33: betriebliche | M33: 30 | N33: Bolzano, Via Volta, 11 (NOI TechPark), Casa Bimbo (aziendale) | O33: COOP_001_25 | P33: Bolzano, Via Volta, 11 (NOI TechPark), Casa Bimbo (aziendale) | Q33: Bozen, Voltastraße, 11 (NOI TechPark), Casa Bimbo (betriebliche) | R33: 1 | S33: 43709 | T33: 401768
A34: 008 | B34: Bolzano | C34: Bozen | D34: COOP_007 | E34: Die Kinderfreunde Südtirol | F34: Die Kinderfreunde Südtirol | G34: Via Waltraud Gebert Deeg, 4 | H34: Waltraud-Gebert-Deeg-Straße, 4 | K34: aziendale | L34: betriebliche | M34: 15 | N34: Bolzano, Via Waltraud Gebert Deeg, 4, Die Kinderfreunde Südtirol (aziendale) | O34: COOP_007_27 | P34: Bolzano, Via Waltraud Gebert Deeg, 4, Die Kinderfreunde Südtirol (aziendale) | Q34: Bozen, Waltraud-Gebert-Deeg-Straße, 4, Die Kinderfreunde Südtirol (betriebliche) | R34: 1 | S34: 45962 | T34: 401768
A35: 008 | B35: Bolzano | C35: Bozen | D35: COOP_006 | E35: Babycoop | F35: Babycoop | G35: Viale Europa, 43 | H35: Europaallee, 43 | M35: 26 | N35: Bolzano, Viale Europa, 43, Babycoop | O35: COOP_006_05 | P35: Bolzano, Viale Europa, 43, Babycoop | Q35: Bozen, Europaallee, 43, Babycoop | R35: 1 | S35: 1 | T35: 401768
A36: 011 | B36: Bressanone | C36: Brixen | D36: COOP_002 | E36: Coccinella | F36: Coccinella | G36: S. Andrea, 26 | H36: St. Andrä, 26 | K36: aziendale | L36: betriebliche | M36: 20 | N36: Bressanone, S. Andrea, 26, Coccinella (aziendale) | O36: COOP_002_22 | P36: Bressanone, S. Andrea, 26, Coccinella (aziendale) | Q36: Brixen, St. Andrä, 26, Coccinella (betriebliche) | R36: 1 | S36: 44998 | T36: 401768
A37: 011 | B37: Bressanone | C37: Brixen | D37: COOP_002 | E37: Coccinella | F37: Coccinella | G37: Via Brennero, 13 | H37: Brennerstraße, 13 | M37: 24 | N37: Bressanone, Via Brennero, 13, Coccinella | O37: COOP_002_23 | P37: Bressanone, Via Brennero, 13, Coccinella | Q37: Brixen, Brennerstraße, 13, Coccinella | R37: 1 | S37: 45033 | T37: 401768
A38: 011 | B38: Bressanone | C38: Brixen | D38: COOP_002 | E38: Coccinella | F38: Coccinella | G38: Via Brennero, 13 | H38: Brennerstraße, 13 | K38: aziendale | L38: betriebliche | M38: 24 | N38: Bressanone, Via Brennero, 13, Coccinella (aziendale) | O38: COOP_002_24 | P38: Bressanone, Via Brennero, 13, Coccinella (aziendale) | Q38: Brixen, Brennerstraße, 13, Coccinella (betriebliche) | R38: 1 | S38: 45033 | T38: 401768
A39: 011 | B39: Bressanone | C39: Brixen | D39: COOP_002 | E39: Coccinella | F39: Coccinella | G39: Via Stazione, 29 | H39: Bahnhofstraße, 29 | K39: aziendale | L39: betriebliche | M39: 10 | N39: Bressanone, Via Stazione, 29, Coccinella (aziendale) | O39: COOP_002_25 | P39: Bressanone, Via Stazione, 29, Coccinella (aziendale) | Q39: Brixen, Bahnhofstraße, 29, Coccinella (betriebliche) | R39: 1 | S39: 45033 | T39: 401768
A40: 011 | B40: Bressanone | C40: Brixen | D40: COOP_002 | E40: Coccinella | F40: Coccinella | G40: Via Vinzenz Gasser, 29/A | H40: Vinzenz Gasser Straße, 29/A | M40: 30 | N40: Bressanone, Via Vinzenz Gasser, 29/A, Coccinella | O40: COOP_002_29 | P40: Bressanone, Via Vinzenz Gasser, 29/A, Coccinella | Q40: Brixen, Vinzenz Gasser Straße, 29/A, Coccinella | R40: 1 | S40: 45566 | T40: 401768
...

Sheet LK_Comuni
A1: Com_Desc_I | B1: COM_CODE | C1: Com_Desc_D | D1: COM_DESC_BIL
A2: Aldino | B2: 001 | C2: Aldein | D2: Aldein / Aldino
A3: Andriano | B3: 002 | C3: Andrian | D3: Andrian / Andriano
A4: Anterivo | B4: 003 | C4: Altrei | D4: Altrei / Anterivo
A5: Appiano s.s.d.v. | B5: 004 | C5: Eppan a.d. Weinstr. | D5: Eppan a.d. Weinstr. / Appiano s.s.d.v.
A6: Avelengo | B6: 005 | C6: Hafling | D6: Hafling / Avelengo
A7: Badia | B7: 006 | C7: Abtei | D7: Abtei / Badia
A8: Barbiano | B8: 007 | C8: Barbian | D8: Barbian / Barbiano
A9: Bolzano | B9: 008 | C9: Bozen | D9: Bozen / Bolzano
A10: Braies | B10: 009 | C10: Prags | D10: Prags / Braies
A11: Brennero | B11: 010 | C11: Brenner | D11: Brenner / Brennero
A12: Bressanone | B12: 011 | C12: Brixen | D12: Brixen / Bressanone
... A117: Vipiteno | B117: 115 | C117: Sterzing | D117: Sterzing / Vipiteno
A118: Comunità comprensoriale Wipptal | B118: CP_1 | C118: Bezirksgemeinschaft Wipptal

Sheet Parameters
A1: PAR_ID | B1: PAR_VALUE
A2: MinTarOrario | B2: 0.9
A3: MaxTarOra | B3: 3.65
A6: Originale | B6: Original | C6: Originale
A7: Corretto d'ufficio | B7: Von Amts wegen korrigiert | C7: Corretto d'ufficio
