Workbook
Name dd_com_desc: OFFSET([1]LK_Comuni!$B$2,0,0,COUNTA([1]LK_Comuni!$B:$B),1)
Name dd_com_desc: OFFSET(LK_Comuni!$A$2,0,0,COUNTA(LK_Comuni!$A:$A),1)
Name dd_com_desc_max: LK_Comuni!$A$2:$A$64991
Name dd_com_netto_desc: LK_Comuni!$A$2:$A$117
Name dd_desc_approv: #REF!
Name dd_kita_desc: OFFSET(#REF!,0,0,COUNTA(#REF!),1)
Name dd_kita_desc: OFFSET(#REF!,0,0,COUNTA(#REF!),1)
Name dd_kita_desc_max: #REF!
Name dd_kita_desc_max: #REF!
Name dd_lst_mod: Parameters!$A$6:$A$7

Sheet Domanda Microstrutture
A1: Allegato parte integrante della domanda di contributo per il servizio di microstruttura | F1: Riservato all'Agenzia per la famiglia | Y1: 666 | Z1: DomandaKITA
A3: Comune di: | B3: Anno | F3: Numero progressivo domanda | G3: Stato domanda | I3: Com_Code
B4: 2026 | I4: =IFERROR(VLOOKUP(A4,LK_Comuni!$A:$B,2,0),"")
A7: Microstruttura | B7: Costo orario (IVA non detraibile inclusa) Euro | C7: Comune di provenienza dei bambini | D7: Ore di assistenza previste | E7: Costo del servizio Euro | F7: Entrate stimate da compartecipazione tariffaria calcolate ai sensi del DPGP 30/2000 (IVA inclusa) * Euro | G7: Contributo richiesto Euro | I7: Kita_Code | J7: Com_ut_Code
A8: Totali | D8: =SUM(D9:D38) -> 0 | E8: =SUM(E9:E38) -> 0 | G8: =SUM(G9:G38) -> 0
E9: =IF(OR(ISBLANK(B9),ISBLANK(D9)), "",D9*B9) | F9: =IF(OR(ISBLANK(B9),ISBLANK(D9)),"",B9*D9*$F$8/$E$8) | G9: =IF(OR(ISBLANK(B9),ISBLANK(D9)), "",(B9-3.65)/2*D9+(3.65*D9)-F9) | I9: =IFERROR(VLOOKUP(A9,LK_Kita!$N:$O,2,0),"") | J9: =IFERROR(VLOOKUP(C9,LK_Comuni!$A:$B,2,0),"")
E10: =IF(OR(ISBLANK(B10),ISBLANK(D10)), "",D10*B10) | F10: =IF(OR(ISBLANK(B10),ISBLANK(D10)),"",B10*D10*$F$8/$E$8) | G10: =IF(OR(ISBLANK(B10),ISBLANK(D10)), "",(B10-3.65)/2*D10+(3.65*D10)-F10) | I10: =IFERROR(VLOOKUP(A10,LK_Kita!$N:$O,2,0),"") | J10: =IFERROR(VLOOKUP(C10,LK_Comuni!$A:$B,2,0),"")
E11: =IF(OR(ISBLANK(B11),ISBLANK(D11)), "",D11*B11) | F11: =IF(OR(ISBLANK(B11),ISBLANK(D11)),"",B11*D11*$F$8/$E$8) | G11: =IF(OR(ISBLANK(B11),ISBLANK(D11)), "",(B11-3.65)/2*D11+(3.65*D11)-F11) | I11: =IFERROR(VLOOKUP(A11,LK_Kita!$N:$O,2,0),"") | J11: =IFERROR(VLOOKUP(C11,LK_Comuni!$A:$B,2,0),"")
E12: =IF(OR(ISBLANK(B12),ISBLANK(D12)), "",D12*B12) | F12: =IF(OR(ISBLANK(B12),ISBLANK(D12)),"",B12*D12*$F$8/$E$8) | G12: =IF(OR(ISBLANK(B12),ISBLANK(D12)), "",(B12-3.65)/2*D12+(3.65*D12)-F12) | I12: =IFERROR(VLOOKUP(A12,LK_Kita!$N:$O,2,0),"") | J12: =IFERROR(VLOOKUP(C12,LK_Comuni!$A:$B,2,0),"")
E13: =IF(OR(ISBLANK(B13),ISBLANK(D13)), "",D13*B13) | F13: =IF(OR(ISBLANK(B13),ISBLANK(D13)),"",B13*D13*$F$8/$E$8) | G13: =IF(OR(ISBLANK(B13),ISBLANK(D13)), "",(B13-3.65)/2*D13+(3.65*D13)-F13) | I13: =IFERROR(VLOOKUP(A13,LK_Kita!$N:$O,2,0),"") | J13: =IFERROR(VLOOKUP(C13,LK_Comuni!$A:$B,2,0),"")
E14: =IF(OR(ISBLANK(B14),ISBLANK(D14)), "",D14*B14) | F14: =IF(OR(ISBLANK(B14),ISBLANK(D14)),"",B14*D14*$F$8/$E$8) | G14: =IF(OR(ISBLANK(B14),ISBLANK(D14)), "",(B14-3.65)/2*D14+(3.65*D14)-F14) | I14: =IFERROR(VLOOKUP(A14,LK_Kita!$N:$O,2,0),"") | J14: =IFERROR(VLOOKUP(C14,LK_Comuni!$A:$B,2,0),"")
E15: =IF(OR(ISBLANK(B15),ISBLANK(D15)), "",D15*B15) | F15: =IF(OR(ISBLANK(B15),ISBLANK(D15)),"",B15*D15*$F$8/$E$8) | G15: =IF(OR(ISBLANK(B15),ISBLANK(D15)), "",(B15-3.65)/2*D15+(3.65*D15)-F15) | I15: =IFERROR(VLOOKUP(A15,LK_Kita!$N:$O,2,0),"") | J15: =IFERROR(VLOOKUP(C15,LK_Comuni!$A:$B,2,0),"")
E16: =IF(OR(ISBLANK(B16),ISBLANK(D16)), "",D16*B16) | F16: =IF(OR(ISBLANK(B16),ISBLANK(D16)),"",B16*D16*$F$8/$E$8) | G16: =IF(OR(ISBLANK(B16),ISBLANK(D16)), "",(B16-3.65)/2*D16+(3.65*D16)-F16) | I16: =IFERROR(VLOOKUP(A16,LK_Kita!$N:$O,2,0),"") | J16: =IFERROR(VLOOKUP(C16,LK_Comuni!$A:$B,2,0),"")
E17: =IF(OR(ISBLANK(B17),ISBLANK(D17)), "",D17*B17) | F17: =IF(OR(ISBLANK(B17),ISBLANK(D17)),"",B17*D17*$F$8/$E$8) | G17: =IF(OR(ISBLANK(B17),ISBLANK(D17)), "",(B17-3.65)/2*D17+(3.65*D17)-F17) | I17: =IFERROR(VLOOKUP(A17,LK_Kita!$N:$O,2,0),"") | J17: =IFERROR(VLOOKUP(C17,LK_Comuni!$A:$B,2,0),"")
E18: =IF(OR(ISBLANK(B18),ISBLANK(D18)), "",D18*B18) | F18: =IF(OR(ISBLANK(B18),ISBLANK(D18)),"",B18*D18*$F$8/$E$8) | G18: =IF(OR(ISBLANK(B18),ISBLANK(D18)), "",(B18-3.65)/2*D18+(3.65*D18)-F18) | I18: =IFERROR(VLOOKUP(A18,LK_Kita!$N:$O,2,0),"") | J18: =IFERROR(VLOOKUP(C18,LK_Comuni!$A:$B,2,0),"")
E19: =IF(OR(ISBLANK(B19),ISBLANK(D19)), "",D19*B19) | F19: =IF(OR(ISBLANK(B19),ISBLANK(D19)),"",B19*D19*$F$8/$E$8) | G19: =IF(OR(ISBLANK(B19),ISBLANK(D19)), "",(B19-3.65)/2*D19+(3.65*D19)-F19) | I19: =IFERROR(VLOOKUP(A19,LK_Kita!$N:$O,2,0),"") | J19: =IFERROR(VLOOKUP(C19,LK_Comuni!$A:$B,2,0),"")
E20: =IF(OR(ISBLANK(B20),ISBLANK(D20)), "",D20*B20) | F20: =IF(OR(ISBLANK(B20),ISBLANK(D20)),"",B20*D20*$F$8/$E$8) | G20: =IF(OR(ISBLANK(B20),ISBLANK(D20)), "",(B20-3.65)/2*D20+(3.65*D20)-F20) | I20: =IFERROR(VLOOKUP(A20,LK_Kita!$N:$O,2,0),"") | J20: =IFERROR(VLOOKUP(C20,LK_Comuni!$A:$B,2,0),"")
... E38: =IF(OR(ISBLANK(B38),ISBLANK(D38)), "",D38*B38) | F38: =IF(OR(ISBLANK(B38),ISBLANK(D38)),"",B38*D38*$F$8/$E$8) | G38: =IF(OR(ISBLANK(B38),ISBLANK(D38)), "",(B38-3.65)/2*D38+(3.65*D38)-F38) | I38: =IFERROR(VLOOKUP(A38,LK_Kita!$N:$O,2,0),"") | J38: =IFERROR(VLOOKUP(C38,LK_Comuni!$A:$B,2,0),"")
A40: INDICAZIONI PER LA COMPILAZIONE
A41: La domanda di contributo per le microstrutture comunali deve essere presentata unicamente dal Comune gestore della microstruttura, indipendentemente dai Comuni di provenienza dei bambini assistiti. Per le microstrutture aziendali devono fare domanda i Comuni che acquistano il servizio.
A42: Compilare per ogni microstruttura una riga per ciascun Comune utilizzatore del servizio, indicando sempre il costo orario e le ore di assistenza previste.
A43: In presenza di due periodi contrattuali nell'anno 2025 con costi orari diversi, suddividere proporzionalmente le ore tra i due periodi/costi orari. Qualora il costo orario fatturato non sia stato arrotondato a due decimali secondo le regole commerciali, indicare il costo orario arrotondato per difetto.
A44: Qualora una cella non venga compilata, l'errore verrà evidenziato in rosso.
A45: * le entrate da compartecipazione tariffaria non devono ricomprendere l'eventuale maggiorazione di 1,00 Euro all'ora per l'utilizzo del servizio in un Comune diverso da quello di residenza o di stabile dimora del bambino e vanno indicate cumulativamente.

Sheet LK_Kita
A1: KITA_COM_CODE | B1: KITA_COM_DESC_I | C1: KITA_COM_DESC_D | D1: ENTE_CODE | E1: KITA_ENTE_DESC_I | F1: KITA_ENTE_DESC_D | G1: KITA_INDIRIZZO_I | H1: KITA_INDIRIZZO_D | I1: KITA_LOCALITA_I | J1: KITA_LOCALITA_D | K1: KITA_TYPE_I | L1: KITA_TYPE_D | M1: KITA_POSTI | N1: KITA_FULL_NAME | O1: KITA_CODE | P1: KITA_FULL_NAME_I | Q1: KITA_FULL_NAME_D | R1: KITA_FLAG_ACTIVE | S1: KITA_INIZIO_VAL | T1: KITA_FINE_VAL
A2: 001 | B2: Aldino | C2: Aldein | D2: COOP_004 | E2: Tagesmütter | F2: Tagesmütter | G2: Paese, 41/2 | H2: Dorf, 41/2 | M2: 10 | N2: Aldino, Paese, 41/2, Tagesmütter | O2: COOP_004_36 | P2: Aldino, Paese, 41/2, Tagesmütter | Q2: Aldein, Dorf, 41/2, Tagesmütter | R2: 1 | S2: 45145 | T2: 401768
A3: 002 | B3: Andriano | C3: Andrian | D3: COOP_013 | E3: Paideias | F3: Paideias | G3: Via del Sole, 10 | H3: Sonnenstraße, 10 | M3: 25 | N3: Andriano, Via del Sole, 10, Paideias | O3: COOP_013_06 | P3: Andriano, Via del Sole, 10, Paideias | Q3: Andrian, Sonnenstraße, 10, Paideias | R3: 1 | S3: 44835 | T3: 401768
A4: 004 | B4: Appiano s.s.d.v. | C4: Eppan | D4: COOP_004 | E4: Tagesmütter | F4: Tagesmütter | G4: Via Pillhof,53 | H4: Pillhofstraße, 53 | I4: Frangarto | J4: Frangart | M4: 18 | N4: Appiano s.s.d.v. - Frangarto, Via Pillhof,53, Tagesmütter | O4: COOP_004_02 | P4: Appiano s.s.d.v. - Frangarto, Via Pillhof,53, Tagesmütter | Q4: Eppan - Frangart, Pillhofstraße, 53, Tagesmütter | R4: 1 | S4: 1 | T4: 401768
A5: 004 | B5: Appiano s.s.d.v. | C5: Eppan | D5: COOP_004 | E5: Tagesmütter | F5: Tagesmütter | G5: Piazza S. Michele, 7 | H5: St.-Michael-Platz, 7 | I5: S. Michele | J5: St. Michael | M5: 14 | N5: Appiano s.s.d.v. - S. Michele, Piazza S. Michele, 7, Tagesmütter | O5: COOP_004_01 | P5: Appiano s.s.d.v. - S. Michele, Piazza S. Michele, 7, Tagesmütter | Q5: Eppan - St. Michael, St.-Michael-Platz, 7, Tagesmütter | R5: 1 | S5: 1 | T5: 401768
A6: 004 | B6: Appiano s.s.d.v. | C6: Eppan | D6: COOP_013 | E6: Paideias | F6: Paideias | G6: Via Sill, 3 (Villa Panda) | H6: Sillweg, 3 (Villa Panda) | I6: S. Michele | J6: St. Michael | M6: 30 | N6: Appiano s.s.d.v. - S. Michele, Via Sill, 3 (Villa Panda), Paideias | O6: COOP_013_07 | P6: Appiano s.s.d.v. - S. Michele, Via Sill, 3 (Villa Panda), Paideias | Q6: Eppan - St. Michael, Sillweg, 3 (Villa Panda), Paideias | R6: 1 | S6: 45230 | T6: 401768
A7: 004 | B7: Appiano s.s.d.v. | C7: Eppan | D7: COOP_013 | E7: Paideias | F7: Paideias | G7: Via Sill, 3 (Villa Zebra) | H7: Sillweg, 3 (Villa Zebra) | I7: S. Michele | J7: St. Michael | K7: aziendale | L7: betriebliche | M7: 16 | N7: Appiano s.s.d.v. - S. Michele, Via Sill, 3 (Villa Zebra), Paideias (aziendale) | O7: COOP_013_01 | P7: Appiano s.s.d.v. - S. Michele, Via Sill, 3 (Villa Zebra), Paideias (aziendale) | Q7: Eppan - St. Michael, Sillweg, 3 (Villa Zebra), Paideias (betriebliche) | R7: 1 | S7: 43009 | T7: 401768
A8: 004 | B8: Appiano s.s.d.v. | C8: Eppan | D8: COOP_013 | E8: Paideias | F8: Paideias | G8: Via della Scuola, 1 | H8: Schulweg, 1 | I8: S. Paolo | J8: St. Pauls | M8: 26 | N8: Appiano s.s.d.v. - S. Paolo, Via della Scuola, 1, Paideias | O8: COOP_013_03 | P8: Appiano s.s.d.v. - S. Paolo, Via della Scuola, 1, Paideias | Q8: Eppan - St. Pauls, Schulweg, 1, Paideias | R8: 1 | S8: 43871 | T8: 401768
A9: 006 | B9: Badia | C9: Abtei | D9: COOP_020 | E9: Somnias | F9: Somnias | G9: Via S. Linert, 14 | H9: St.-Linert-Straße, 14 | M9: 20 | N9: Badia, Via S. Linert, 14, Somnias | O9: COOP_020_02 | P9: Badia, Via S. Linert, 14, Somnias | Q9: Abtei, St.-Linert-Straße, 14, Somnias | R9: 1 | S9: 46023 | T9: 401768
A10: 007 | B10: Barbiano | C10: Barbian | D10: COOP_002 | E10: Coccinella | F10: Coccinella | G10: Via dei Campi, 4 | H10: Ackerweg, 4 | M10: 15 | N10: Barbiano, Via dei Campi, 4, Coccinella | O10: COOP_002_36 | P10: Barbiano, Via dei Campi, 4, Coccinella | Q10: Barbian, Ackerweg, 4, Coccinella | R10: 1 | S10: 46023 | T10: 401768
A11: 008 | B11: Bolzano | C11: Bozen | D11: COOP_002 | E11: Coccinella | F11: Coccinella | G11: Lungo Talvera S. Quirino, 10 | H11: Quireiner Wassermauer, 10 | M11: 30 | N11: Bolzano, Lungo Talvera S. Quirino, 10, Coccinella | O11: COOP_002_01 | P11: Bolzano, Lungo Talvera S. Quirino, 10, Coccinella | Q11: Bozen, Quireiner Wassermauer, 10, Coccinella | R11: 1 | S11: 1 | T11: 401768
A12: 008 | B12: Bolzano | C12: Bozen | D12: COOP_002 | E12: Coccinella | F12: Coccinella | G12: Lungo Talvera S. Quirino, 10 | H12: Quireiner Wassermauer, 10 | K12: aziendale | L12: betriebliche | M12: 18 | N12: Bolzano, Lungo Talvera S. Quirino, 10, Coccinella (aziendale) | O12: COOP_002_02 | P12: Bolzano, Lungo Talvera S. Quirino, 10, Coccinella (aziendale) | Q12: Bozen, Quireiner Wassermauer, 10, Coccinella (betriebliche) | R12: 1 | S12: 1 | T12: 401768
A13: 008 | B13: Bolzano | C13: Bozen | D13: COOP_017 | E13: Baobab | F13: Baobab | G13: Piazza Cristo Re, 7 | H13: Christkönigsplatz, 7 | K13: aziendale | L13: betriebliche | M13: 17 | N13: Bolzano, Piazza Cristo Re, 7, Baobab (aziendale) | O13: COOP_017_01 | P13: Bolzano, Piazza Cristo Re, 7, Baobab (aziendale) | Q13: Bozen, Christkönigsplatz, 7, Baobab (betriebliche) | R13: 1 | S13: 44077 | T13: 401768
A14: 008 | B14: Bolzano | C14: Bozen | D14: COOP_006 | E14: Babycoop | F14: Babycoop | G14: Piazza Don Bosco, 13 | H14: Don-Bosco-Platz, 13 | M14: 30 | N14: Bolzano, Piazza Don Bosco, 13, Babycoop | O14: COOP_006_01 | P14: Bolzano, Piazza Don Bosco, 13, Babycoop | Q14: Bozen, Don-Bosco-Platz, 13, Babycoop | R14: 1 | S14: 1 | T14: 401768
A15: 008 | B15: Bolzano | C15: Bozen | D15: COOP_006 | E15: Babycoop | F15: Babycoop | G15: Piazzetta Anne Frank, 17 | H15: Anne-Frank-Platz, 17 | M15: 14 | N15: Bolzano, Piazzetta Anne Frank, 17, Babycoop | O15: COOP_006_02 | P15: Bolzano, Piazzetta Anne Frank, 17, Babycoop | Q15: Bozen, Anne-Frank-Platz, 17, Babycoop | R15: 1 | S15: 1 | T15: 401768
A16: 008 | B16: Bolzano | C16: Bozen | D16: COOP_002 | E16: Coccinella | F16: Coccinella | G16: Via Armando Diaz, 57 | H16: Armando Diaz Straße, 57 | K16: aziendale | L16: betriebliche | M16: 29 | N16: Bolzano, Via Armando Diaz, 57, Coccinella (aziendale) | O16: COOP_002_21 | P16: Bolzano, Via Armando Diaz, 57, Coccinella (aziendale) | Q16: Bozen, Armando Diaz Straße, 57, Coccinella (betriebliche) | R16: 1 | S16: 44963 | T16: 401768
A17: 008 | B17: Bolzano | C17: Bozen | D17: COOP_009 | E17: Xenia | F17: Xenia | G17: Via Buozzi,14 | H17: Buozzistraße, 14 | M17: 30 | N17: Bolzano, Via Buozzi,14, Xenia | O17: COOP_009_05 | P17: Bolzano, Via Buozzi,14, Xenia | Q17: Bozen, Buozzistraße, 14, Xenia | R17: 1 | S17: 45717 | T17: 401768
A18: 008 | B18: Bolzano | C18: Bozen | D18: COOP_001 | E18: Casa Bimbo | F18: Casa Bimbo | G18: Via Claudia Augusta, 48/B | H18: Claudia-Augusta-Straße, 48/B | M18: 18 | N18: Bolzano, Via Claudia Augusta, 48/B, Casa Bimbo | O18: COOP_001_02 | P18: Bolzano, Via Claudia Augusta, 48/B, Casa Bimbo | Q18: Bozen, Claudia-Augusta-Straße, 48/B, Casa Bimbo | R18: 1 | S18: 1 | T18: 401768
A19: 008 | B19: Bolzano | C19: Bozen | D19: COOP_001 | E19: Casa Bimbo | F19: Casa Bimbo | G19: Via Claudia Augusta, 66/68 | H19: Claudia-Augusta-Straße, 66/68 | M19: 18 | N19: Bolzano, Via Claudia Augusta, 66/68, Casa Bimbo | O19: COOP_001_03 | P19: Bolzano, Via Claudia Augusta, 66/68, Casa Bimbo | Q19: Bozen, Claudia-Augusta-Straße, 66/68, Casa Bimbo | R19: 1 | S19: 1 | T19: 401768
A20: 008 | B20: Bolzano | C20: Bozen | D20: COOP_014 | E20: Montessori | F20: Montessori | G20: Via Cologna, 1 | H20: Glaningerweg, 1 | K20: aziendale | L20: betriebliche | M20: 19 | N20: Bolzano, Via Cologna, 1, Montessori (aziendale) | O20: COOP_014_01 | P20: Bolzano, Via Cologna, 1, Montessori (aziendale) | Q20: Bozen, Glaningerweg, 1, Montessori (betriebliche) | R20: 1 | S20: 1 | T20: 401768
A21: 008 | B21: Bolzano | C21: Bozen | D21: COOP_002 | E21: Coccinella | F21: Coccinella | G21: Via Combattenti, 4 | H21: Frontkämpferstraße, 4 | M21: 17 | N21: Bolzano, Via Combattenti, 4, Coccinella | O21: COOP_002_11 | P21: Bolzano, Via Combattenti, 4, Coccinella | Q21: Bozen, Frontkämpferstraße, 4, Coccinella | R21: 1 | S21: 44950 | T21: 401768
A22: 008 | B22: Bolzano | C22: Bozen | D22: COOP_001 | E22: Casa Bimbo | F22: Casa Bimbo | G22: Via Crispi, 40 | H22: Crispistraße, 40 | K22: aziendale | L22: betriebliche | M22: 25 | N22: Bolzano, Via Crispi, 40, Casa Bimbo (aziendale) | O22: COOP_001_04 | P22: Bolzano, Via Crispi, 40, Casa Bimbo (aziendale) | Q22: Bozen, Crispistraße, 40, Casa Bimbo (betriebliche) | R22: 1 | S22: 1 | T22: 401768
A23: 008 | B23: Bolzano | C23: Bozen | D23: COOP_005 | E23: Primi Passi | F23: Primi Passi | G23: Via Druso, 339/E | H23: Drususstraße, 339/E | K23: aziendale | L23: betriebliche | M23: 30 | N23: Bolzano, Via Druso, 339/E, Primi Passi (aziendale) | O23: COOP_005_01 | P23: Bolzano, Via Druso, 339/E, Primi Passi (aziendale) | Q23: Bozen, Drususstraße, 339/E, Primi Passi (betriebliche) | R23: 1 | S23: 1 | T23: 401768
A24: 008 | B24: Bolzano | C24: Bozen | D24: COOP_001 | E24: Casa Bimbo | F24: Casa Bimbo | G24: Via Galilei, 2/C | H24: G.-Galilei-Straße, 2/C | K24: aziendale | L24: betriebliche | M24: 20 | N24: Bolzano, Via Galilei, 2/C, Casa Bimbo (aziendale) | O24: COOP_001_05 | P24: Bolzano, Via Galilei, 2/C, Casa Bimbo (aziendale) | Q24: Bozen, G.-Galilei-Straße, 2/C, Casa Bimbo (betriebliche) | R24: 1 | S24: 44927 | T24: 401768
A25: 008 | B25: Bolzano | C25: Bozen | D25: COOP_001 | E25: Casa Bimbo | F25: Casa Bimbo | G25: Via Garibaldi, 12 | H25: Garibaldistraße, 12 | M25: 30 | N25: Bolzano, Via Garibaldi, 12, Casa Bimbo | O25: COOP_001_31 | P25: Bolzano, Via Garibaldi, 12, Casa Bimbo | Q25: Bozen, Garibaldistraße, 12, Casa Bimbo | R25: 1 | S25: 46023 | T25: 401768
A26: 008 | B26: Bolzano | C26: Bozen | D26: COOP_001 | E26: Casa Bimbo | F26: Casa Bimbo | G26: Via Garibaldi, 12 | H26: Garibaldistraße, 12 | K26: aziendale | L26: betriebliche | M26: 30 | N26: Bolzano, Via Garibaldi, 12, Casa Bimbo (aziendale) | O26: COOP_001_32 | P26: Bolzano, Via Garibaldi, 12, Casa Bimbo (aziendale) | Q26: Bozen, Garibaldistraße, 12, Casa Bimbo (betriebliche) | R26: 1 | S26: 46023 | T26: 401768
A27: 008 | B27: Bolzano | C27: Bozen | D27: COOP_004 | E27: Tagesmütter | F27: Tagesmütter | G27: Via Goethe, 34/a | H27: Goethestraße, 34/a | K27: aziendale | L27: betriebliche | M27: 20 | N27: Bolzano, Via Goethe, 34/a, Tagesmütter (aziendale) | O27: COOP_004_33 | P27: Bolzano, Via Goethe, 34/a, Tagesmütter (aziendale) | Q27: Bozen, Goethestraße, 34/a, Tagesmütter (betriebliche) | R27: 1 | S27: 44851 | T27: 401768
A28: 008 | B28: Bolzano | C28: Bozen | D28: COOP_004 | E28: Tagesmütter | F28: Tagesmütter | G28: Via Innsbruck, 43 | H28: Innsbrucker Str., 43 | K28: aziendale | L28: betriebliche | M28: 10 | N28: Bolzano, Via Innsbruck, 43, Tagesmütter (aziendale) | O28: COOP_004_42 | P28: Bolzano, Via Innsbruck, 43, Tagesmütter (aziendale) | Q28: Bozen, Innsbrucker Str., 43, Tagesmütter (betriebliche) | R28: 1 | S28: 45383 | T28: 401768
A29: 008 | B29: Bolzano | C29: Bozen | D29: COOP_002 | E29: Coccinella | F29: Coccinella | G29: Via Macello, 55 | H29: Schlachthofstraße, 55 | K29: aziendale | L29: betriebliche | M29: 20 | N29: Bolzano, Via Macello, 55, Coccinella (aziendale) | O29: COOP_002_26 | P29: Bolzano, Via Macello, 55, Coccinella (aziendale) | Q29: Bozen, Schlachthofstraße, 55, Coccinella (betriebliche) | R29: 1 | S29: 45292 | T29: 401768
A30: 008 | B30: Bolzano | C30: Bozen | D30: COOP_006 | E30: Babycoop | F30: Babycoop | G30: Via Michael Gaismair, 18 | H30: Michael-Gaismair-Straße, 18 | M30: 15 | N30: Bolzano, Via Michael Gaismair, 18, Babycoop | O30: COOP_006_06 | P30: Bolzano, Via Michael Gaismair, 18, Babycoop | Q30: Bozen, Michael-Gaismair-Straße, 18, Babycoop | R30: 1 | S30: 1 | T30: 401768
A31: 008 | B31: Bolzano | C31: Bozen | D31: COOP_006 | E31: Babycoop | F31: Babycoop | G31: Via Rosmini, 44 | H31: Rosministraße, 44 | M31: 15 | N31: Bolzano, Via Rosmini, 44, Babycoop | O31: COOP_006_04 | P31: Bolzano, Via Rosmini, 44, Babycoop | Q31: Bozen, Rosministraße, 44, Babycoop | R31: 1 | S31: 1 | T31: 401768
A32: 008 | B32: Bolzano | C32: Bozen | D32: COOP_001 | E32: Casa Bimbo | F32: Casa Bimbo | G32: Via Vanga, 85 | H32: Wangergasse, 85 | M32: 30 | N32: Bolzano, Via Vanga, 85, Casa Bimbo | O32: COOP_001_21 | P32: Bolzano, Via Vanga, 85, Casa Bimbo | Q32: Bozen, Wangergasse, 85, Casa Bimbo | R32: 1 | S32: 1 | T32: 401768
A33: 008 | B33: Bolzano | C33: Bozen | D33: COOP_001 | E33: Casa Bimbo | F33: Casa Bimbo | G33: Via Volta, 11 (NOI TechPark) | H33: Voltastraße, 11 (NOI TechPark) | K33: aziendale | L33: betriebliche | M33: 30 | N33: Bolzano, Via Volta, 11 (NOI TechPark), Casa Bimbo (aziendale) | O33: COOP_001_25 | P33: Bolzano, Via Volta, 11 (NOI TechPark), Casa Bimbo (aziendale) | Q33: Bozen, Voltastraße, 11 (NOI TechPark), Casa Bimbo (betriebliche) | R33: 1 | S33: 43709 | T33: 401768
A34: 008 | B34: Bolzano | C34: Bozen | D34: COOP_007 | E34: Die Kinderfreunde Südtirol | F34: Die Kinderfreunde Südtirol | G34: Via Waltraud Gebert Deeg, 4 | H34: Waltraud-Gebert-Deeg-Straße, 4 | K34: aziendale | L34: betriebliche | M34: 15 | N34: Bolzano, Via Waltraud Gebert Deeg, 4, Die Kinderfreunde Südtirol (aziendale) | O34: COOP_007_27 | P34: Bolzano, Via Waltraud Gebert Deeg, 4, Die Kinderfreunde Südtirol (aziendale) | Q34: Bozen, Waltraud-Gebert-Deeg-Straße, 4, Die Kinderfreunde Südtirol (betriebliche) | R34: 1 | S34: 45962 | T34: 401768
A35: 008 | B35: Bolzano | C35: Bozen | D35: COOP_006 | E35: Babycoop | F35: Babycoop | G35: Viale Europa, 43 | H35: Europaallee, 43 | M35: 26 | N35: Bolzano, Viale Europa, 43, Babycoop | O35: COOP_006_05 | P35: Bolzano, Viale Europa, 43, Babycoop | Q35: Bozen, Europaallee, 43, Babycoop | R35: 1 | S35: 1 | T35: 401768
A36: 011 | B36: Bressanone | C36: Brixen | D36: COOP_002 | E36: Coccinella | F36: Coccinella | G36: S. Andrea, 26 | H36: St. Andrä, 26 | K36: aziendale | L36: betriebliche | M36: 20 | N36: Bressanone, S. Andrea, 26, Coccinella (aziendale) | O36: COOP_002_22 | P36: Bressanone, S. Andrea, 26, Coccinella (aziendale) | Q36: Brixen, St. Andrä, 26, Coccinella (betriebliche) | R36: 1 | S36: 44998 | T36: 401768
A37: 011 | B37: Bressanone | C37: Brixen | D37: COOP_002 | E37: Coccinella | F37: Coccinella | G37: Via Brennero, 13 | H37: Brennerstraße, 13 | M37: 24 | N37: Bressanone, Via Brennero, 13, Coccinella | O37: COOP_002_23 | P37: Bressanone, Via Brennero, 13, Coccinella | Q37: Brixen, Brennerstraße, 13, Coccinella | R37: 1 | S37: 45033 | T37: 401768
A38: 011 | B38: Bressanone | C38: Brixen | D38: COOP_002 | E38: Coccinella | F38: Coccinella | G38: Via Brennero, 13 | H38: Brennerstraße, 13 | K38: aziendale | L38: betriebliche | M38: 24 | N38: Bressanone, Via Brennero, 13, Coccinella (aziendale) | O38: COOP_002_24 | P38: Bressanone, Via Brennero, 13, Coccinella (aziendale) | Q38: Brixen, Brennerstraße, 13, Coccinella (betriebliche) | R38: 1 | S38: 45033 | T38: 401768
A39: 011 | B39: Bressanone | C39: Brixen | D39: COOP_002 | E39: Coccinella | F39: Coccinella | G39: Via Stazione, 29 | H39: Bahnhofstraße, 29 | K39: aziendale | L39: betriebliche | M39: 10 | N39: Bressanone, Via Stazione, 29, Coccinella (aziendale) | O39: COOP_002_25 | P39: Bressanone, Via Stazione, 29, Coccinella (aziendale) | Q39: Brixen, Bahnhofstraße, 29, Coccinella (betriebliche) | R39: 1 | S39: 45033 | T39: 401768
A40: 011 | B40: Bressanone | C40: Brixen | D40: COOP_002 | E40: Coccinella | F40: Coccinella | G40: Via Vinzenz Gasser, 29/A | H40: Vinzenz Gasser Straße, 29/A | M40: 30 | N40: Bressanone, Via Vinzenz Gasser, 29/A, Coccinella | O40: COOP_002_29 | P40: Bressanone, Via Vinzenz Gasser, 29/A, Coccinella | Q40: Brixen, Vinzenz Gasser Straße, 29/A, Coccinella | R40: 1 | S40: 45566 | T40: 401768
A41: 012 | B41: Bronzolo | C41: Branzoll | D41: COOP_001 | E41: Casa Bimbo | F41: Casa Bimbo | G41: Piazza Von Ferrari, 3 | H41: Von Ferrari Platz, 3 | M41: 30 | N41: Bronzolo, Piazza Von Ferrari, 3, Casa Bimbo | O41: COOP_001_30 | P41: Bronzolo, Piazza Von Ferrari, 3, Casa Bimbo | Q41: Branzoll, Von Ferrari Platz, 3, Casa Bimbo | R41: 1 | S41: 46054 | T41: 401768
A42: 012 | B42: Bronzolo | C42: Branzoll | D42: COOP_001 | E42: Casa Bimbo | F42: Casa Bimbo | G42: Via Aquila Nera, 18/A | H42: Schwarz-Adler-Straße, 18/A | M42: 16 | N42: Bronzolo, Via Aquila Nera, 18/A, Casa Bimbo | O42: COOP_001_07 | P42: Bronzolo, Via Aquila Nera, 18/A, Casa Bimbo | Q42: Branzoll, Schwarz-Adler-Straße, 18/A, Casa Bimbo | R42: 1 | S42: 1 | T42: 401768
A43: 013 | B43: Brunico | C43: Bruneck | D43: COOP_007 | E43: Die Kinderfreunde Südtirol | F43: Die Kinderfreunde Südtirol | G43: Via H.T. Niederbacher, 4 | H43: H. T. Niederbacher-Straße, 4 | I43: Riscone | J43: Reischach | M43: 10 | N43: Brunico - Riscone, Via H.T. Niederbacher, 4, Die Kinderfreunde Südtirol | O43: COOP_007_03 | P43: Brunico - Riscone, Via H.T. Niederbacher, 4, Die Kinderfreunde Südtirol | Q43: Bruneck - Reischach, H. T. Niederbacher-Straße, 4, Die Kinderfreunde Südtirol | R43: 1 | S43: 1 | T43: 401768
A44: 013 | B44: Brunico | C44: Bruneck | D44: COOP_007 | E44: Die Kinderfreunde Südtirol | F44: Die Kinderfreunde Südtirol | G44: Via Gremsen, 24 | H44: Gremsenstraße, 24 | I44: S. Giorgio | J44: St. Georgen | M44: 20 | N44: Brunico - S. Giorgio , Via Gremsen, 24, Die Kinderfreunde Südtirol | O44: COOP_007_15 | P44: Brunico - S. Giorgio , Via Gremsen, 24, Die Kinderfreunde Südtirol | Q44: Bruneck - St. Georgen, Gremsenstraße, 24, Die Kinderfreunde Südtirol | R44: 1 | S44: 1 | T44: 401768
A45: 013 | B45: Brunico | C45: Bruneck | D45: COOP_007 | E45: Die Kinderfreunde Südtirol | F45: Die Kinderfreunde Südtirol | G45: Via Herzog-Diet, 16 | H45: Herzog-Diet-Straße, 16 | I45: Teodone | J45: Dietenheim | M45: 20 | N45: Brunico - Teodone, Via Herzog-Diet, 16, Die Kinderfreunde Südtirol | O45: COOP_007_21 | P45: Brunico - Teodone, Via Herzog-Diet, 16, Die Kinderfreunde Südtirol | Q45: Bruneck - Dietenheim, Herzog-Diet-Straße, 16, Die Kinderfreunde Südtirol | R45: 1 | S45: 45323 | T45: 401768
A46: 013 | B46: Brunico | C46: Bruneck | D46: COOP_007 | E46: Die Kinderfreunde Südtirol | F46: Die Kinderfreunde Südtirol | G46: Via Bruder Willram, 4 | H46: B.-Willram-Strasse, 4 | M46: 20 | N46: Brunico, Via Bruder Willram, 4, Die Kinderfreunde Südtirol | O46: COOP_007_01 | P46: Brunico, Via Bruder Willram, 4, Die Kinderfreunde Südtirol | Q46: Bruneck, B.-Willram-Strasse, 4, Die Kinderfreunde Südtirol | R46: 1 | S46: 1 | T46: 401768
A47: 013 | B47: Brunico | C47: Bruneck | D47: COOP_007 | E47: Die Kinderfreunde Südtirol | F47: Die Kinderfreunde Südtirol | G47: Via Campi della Rienza, 21 | H47: Rienzfeldweg, 21 | K47: aziendale | L47: betriebliche | M47: 25 | N47: Brunico, Via Campi della Rienza, 21, Die Kinderfreunde Südtirol (aziendale) | O47: COOP_007_02 | P47: Brunico, Via Campi della Rienza, 21, Die Kinderfreunde Südtirol (aziendale) | Q47: Bruneck, Rienzfeldweg, 21, Die Kinderfreunde Südtirol (betriebliche) | R47: 1 | S47: 1 | T47: 401768
A48: 013 | B48: Brunico | C48: Bruneck | D48: COOP_007 | E48: Die Kinderfreunde Südtirol | F48: Die Kinderfreunde Südtirol | G48: Via Hermann Delago, 2 | H48: H.-Delago-Strasse, 2 | M48: 20 | N48: Brunico, Via Hermann Delago, 2, Die Kinderfreunde Südtirol | O48: COOP_007_04 | P48: Brunico, Via Hermann Delago, 2, Die Kinderfreunde Südtirol | Q48: Bruneck, H.-Delago-Strasse, 2, Die Kinderfreunde Südtirol | R48: 1 | S48: 1 | T48: 401768
A49: 015 | B49: Caldaro s.s.d.v | C49: Kaltern | D49: COOP_004 | E49: Tagesmütter | F49: Tagesmütter | G49: Via Maria Theresia, 4/C | H49: Maria Theresien-Straße, 4/C | M49: 20 | N49: Caldaro s.s.d.v, Via Maria Theresia, 4/C, Tagesmütter | O49: COOP_004_05 | P49: Caldaro s.s.d.v, Via Maria Theresia, 4/C, Tagesmütter | Q49: Kaltern, Maria Theresien-Straße, 4/C, Tagesmütter | R49: 1 | S49: 1 | T49: 401768
A50: 015 | B50: Caldaro s.s.d.v | C50: Kaltern | D50: COOP_004 | E50: Tagesmütter | F50: Tagesmütter | G50: Via Pozzo, 52/A | H50: Pfuss, 52/A | M50: 13 | N50: Caldaro s.s.d.v, Via Pozzo, 52/A, Tagesmütter | O50: COOP_004_32 | P50: Caldaro s.s.d.v, Via Pozzo, 52/A, Tagesmütter | Q50: Kaltern, Pfuss, 52/A, Tagesmütter | R50: 1 | S50: 44816 | T50: 401768
A51: 015 | B51: Caldaro s.s.d.v | C51: Kaltern | D51: COOP_009 | E51: Xenia | F51: Xenia | G51: Via Stazione, 10 | H51: Bahnhofsstraße, 10 | M51: 14 | N51: Caldaro s.s.d.v, Via Stazione, 10, Xenia | O51: COOP_009_06 | P51: Caldaro s.s.d.v, Via Stazione, 10, Xenia | Q51: Kaltern, Bahnhofsstraße, 10, Xenia | R51: 1 | S51: 44813 | T51: 401768
A52: 016 | B52: Campo di Trens | C52: Freienfeld | D52: COOP_002 | E52: Coccinella | F52: Coccinella | G52: Via Leiten, 4/A | H52: Leitenweg, 4/A | M52: 20 | N52: Campo di Trens, Via Leiten, 4/A, Coccinella | O52: COOP_002_35 | P52: Campo di Trens, Via Leiten, 4/A, Coccinella | Q52: Freienfeld, Leitenweg, 4/A, Coccinella | R52: 1 | S52: 46023 | T52: 401768
A53: 017 | B53: Campo Tures | C53: Sand in Taufers | D53: COOP_004 | E53: Tagesmütter | F53: Tagesmütter | G53: Via Josef Jungmann, 6 | H53: Josef-Jungmann-Straße, 6 | M53: 20 | N53: Campo Tures, Via Josef Jungmann, 6, Tagesmütter | O53: COOP_004_06 | P53: Campo Tures, Via Josef Jungmann, 6, Tagesmütter | Q53: Sand in Taufers, Josef-Jungmann-Straße, 6, Tagesmütter | R53: 1 | S53: 1 | T53: 401768
A54: 018 | B54: Castelbello-Ciardes | C54: Kastellbell-Tschars | D54: COOP_007 | E54: Die Kinderfreunde Südtirol | F54: Die Kinderfreunde Südtirol | G54: Piazza Centro, 2 | H54: Dorfplatz, 2 | M54: 16 | N54: Castelbello-Ciardes, Piazza Centro, 2, Die Kinderfreunde Südtirol | O54: COOP_007_20 | P54: Castelbello-Ciardes, Piazza Centro, 2, Die Kinderfreunde Südtirol | Q54: Kastellbell-Tschars, Dorfplatz, 2, Die Kinderfreunde Südtirol | R54: 1 | S54: 45306 | T54: 401768
A55: 018 | B55: Castelbello-Ciardes | C55: Kastellbell-Tschars | D55: COOP_007 | E55: Die Kinderfreunde Südtirol | F55: Die Kinderfreunde Südtirol | G55: Via del Ponte, 5 | H55: Bruggweg, 5 | M55: 10 | N55: Castelbello-Ciardes, Via del Ponte, 5, Die Kinderfreunde Südtirol | O55: COOP_007_11 | P55: Castelbello-Ciardes, Via del Ponte, 5, Die Kinderfreunde Südtirol | Q55: Kastellbell-Tschars, Bruggweg, 5 , Die Kinderfreunde Südtirol | R55: 1 | S55: 43831 | T55: 401768
A56: 019 | B56: Castelrotto | C56: Kastelruth | D56: COOP_004 | E56: Tagesmütter | F56: Tagesmütter | G56: Via Panider, 9/3A | H56: Paniderstraße, 9/3A | M56: 30 | N56: Castelrotto, Via Panider, 9/3A, Tagesmütter | O56: COOP_004_07 | P56: Castelrotto, Via Panider, 9/3A, Tagesmütter | Q56: Kastelruth, Paniderstraße, 9/3A, Tagesmütter | R56: 1 | S56: 1 | T56: 401768
A57: 020 | B57: Cermes | C57: Tscherms | D57: COOP_004 | E57: Tagesmütter | F57: Tagesmütter | G57: Via Dott. Josef Garber, 2/A | H57: Dr. Josef Garber-Straße, 2/A | M57: 15 | N57: Cermes, Via Dott. Josef Garber, 2/A, Tagesmütter | O57: COOP_004_08 | P57: Cermes, Via Dott. Josef Garber, 2/A, Tagesmütter | Q57: Tscherms, Dr. Josef Garber-Straße, 2/A, Tagesmütter | R57: 1 | S57: 1 | T57: 401768
A58: 021 | B58: Chienes | C58: Kiens | D58: COOP_007 | E58: Die Kinderfreunde Südtirol | F58: Die Kinderfreunde Südtirol | G58: Via Huben, 38 | H58: Hubenstraße, 38 | M58: 30 | N58: Chienes, Via Huben, 38, Die Kinderfreunde Südtirol | O58: COOP_007_24 | P58: Chienes, Via Huben, 38, Die Kinderfreunde Südtirol | Q58: Kiens, Hubenstraße, 38, Die Kinderfreunde Südtirol | R58: 1 | S58: 45545 | T58: 401768
A59: 022 | B59: Chiusa | C59: Klausen | D59: COOP_004 | E59: Tagesmütter | F59: Tagesmütter | G59: Via Langrain, 39 | H59: Langrain, 39 | M59: 18 | N59: Chiusa, Via Langrain, 39, Tagesmütter | O59: COOP_004_09 | P59: Chiusa, Via Langrain, 39, Tagesmütter | Q59: Klausen, Langrain, 39, Tagesmütter | R59: 1 | S59: 1 | T59: 401768
A60: 023 | B60: Cornedo all'Isarco | C60: Karneid | D60: COOP_004 | E60: Tagesmütter | F60: Tagesmütter | G60: Zona produttiva, 30 | H60: Gewerbegebiet, 30 | I60: Cardano | J60: Kardaun | K60: aziendale | L60: betriebliche | M60: 30 | N60: Cornedo all'Isarco - Cardano, Zona produttiva, 30, Tagesmütter (aziendale) | O60: COOP_004_44 | P60: Cornedo all'Isarco - Cardano, Zona produttiva, 30, Tagesmütter (aziendale) | Q60: Karneid - Kardaun, Gewerbegebiet, 30, Tagesmütter (betriebliche) | R60: 1 | S60: 45705 | T60: 401768
A61: 023 | B61: Cornedo all'Isarco | C61: Karneid | D61: COOP_004 | E61: Tagesmütter | F61: Tagesmütter | G61: Via Collepietra, 11 | H61: Steinegger Weg, 11 | M61: 20 | N61: Cornedo all'Isarco, Via Collepietra, 11, Tagesmütter | O61: COOP_004_38 | P61: Cornedo all'Isarco, Via Collepietra, 11, Tagesmütter | Q61: Karneid, Steinegger Weg, 11, Tagesmütter | R61: 1 | S61: 45317 | T61: 401768
A62: 024 | B62: Cortaccia s.s.d.v. | C62: Kurtatsch | D62: COOP_004 | E62: Tagesmütter | F62: Tagesmütter | G62: Via Andreas Hofer, 7 | H62: Andreas Hofer-Straße, 7 | M62: 10 | N62: Cortaccia s.s.d.v., Via Andreas Hofer, 7, Tagesmütter | O62: COOP_004_10 | P62: Cortaccia s.s.d.v., Via Andreas Hofer, 7, Tagesmütter | Q62: Kurtatsch, Andreas Hofer-Straße, 7, Tagesmütter | R62: 1 | S62: 1 | T62: 401768
A63: 025 | B63: Cortina s.s.d.v. | C63: Kurtinig a.d. Weinstr. | D63: COOP_002 | E63: Coccinella | F63: Coccinella | G63: Via Paludi, 20 | H63: Moosweg, 20 | M63: 10 | N63: Cortina s.s.d.v., Via Paludi, 20, Coccinella | O63: COOP_002_28 | P63: Cortina s.s.d.v., Via Paludi, 20, Coccinella | Q63: Kurtinig a.d. Weinstr., Moosweg, 20, Coccinella | R63: 1 | S63: 45531 | T63: 401768
A64: 026 | B64: Corvara | C64: Corvara | D64: COOP_001 | E64: Casa Bimbo | F64: Casa Bimbo | G64: Str.Col Pradat, 28 | H64: Col-Pradat-Straße, 28 | I64: Colfosco | J64: Kolfuschg | M64: 20 | N64: Corvara - Colfosco, Str.Col Pradat, 28 , Casa Bimbo | O64: COOP_001_26 | P64: Corvara - Colfosco, Str.Col Pradat, 28 , Casa Bimbo | Q64: Corvara - Kolfuschg, Col-Pradat-Straße, 28 , Casa Bimbo | R64: 1 | S64: 43709 | T64: 401768
A65: 027 | B65: Curon Venosta | C65: Graun im Vinschgau | D65: COOP_018 | E65: LoLa | F65: LoLa | G65: Via Paese Vecchio, 61 | H65: Altdorfstraße, 61 | I65: Resia | J65: Reschen | M65: 15 | N65: Curon Venosta - Resia, Via Paese Vecchio, 61, LoLa | O65: COOP_018_04 | P65: Curon Venosta - Resia, Via Paese Vecchio, 61, LoLa | Q65: Graun im Vinschgau - Reschen, Altdorfstraße, 61, LoLa | R65: 1 | S65: 45908 | T65: 401768
A66: 028 | B66: Dobbiaco | C66: Toblach | D66: COOP_007 | E66: Die Kinderfreunde Südtirol | F66: Die Kinderfreunde Südtirol | G66: Via Fratelli Baur 5/C | H66: Gebrüder-Brau-Straße, 5/C | M66: 15 | N66: Dobbiaco, Via Fratelli Baur 5/C, Die Kinderfreunde Südtirol | O66: COOP_007_05 | P66: Dobbiaco, Via Fratelli Baur 5/C, Die Kinderfreunde Südtirol | Q66: Toblach, Gebrüder-Brau-Straße, 5/C, Die Kinderfreunde Südtirol | R66: 1 | S66: 1 | T66: 401768
A67: 029 | B67: Egna | C67: Neumarkt | D67: COOP_001 | E67: Casa Bimbo | F67: Casa Bimbo | G67: Via Val di Fiemme, 41/1 | H67: Fleimstalerstraße, 41/1 | M67: 30 | N67: Egna, Via Val di Fiemme, 41/1, Casa Bimbo | O67: COOP_001_09 | P67: Egna, Via Val di Fiemme, 41/1, Casa Bimbo | Q67: Neumarkt, Fleimstalerstraße, 41/1, Casa Bimbo | R67: 1 | S67: 1 | T67: 401768
A68: 030 | B68: Falzes | C68: Pfalzen | D68: COOP_004 | E68: Tagesmütter | F68: Tagesmütter | G68: Piazza della Chiesa, 2 | H68: Kirchplatz, 2 | M68: 10 | N68: Falzes, Piazza della Chiesa, 2, Tagesmütter | O68: COOP_004_26 | P68: Falzes, Piazza della Chiesa, 2, Tagesmütter | Q68: Pfalzen, Kirchplatz, 2, Tagesmütter | R68: 1 | S68: 43357 | T68: 401768
A69: 031 | B69: Fiè allo Sciliar | C69: Völs am Schlern | D69: COOP_004 | E69: Tagesmütter | F69: Tagesmütter | G69: Via Boden, 6 | H69: Bodenweg, 6 | M69: 20 | N69: Fiè allo Sciliar, Via Boden, 6, Tagesmütter | O69: COOP_004_11 | P69: Fiè allo Sciliar, Via Boden, 6, Tagesmütter | Q69: Völs am Schlern, Bodenweg, 6, Tagesmütter | R69: 1 | S69: 1 | T69: 401768
A70: 033 | B70: Funes | C70: Villnöss | D70: COOP_004 | E70: Tagesmütter | F70: Tagesmütter | G70: Kirchweg, 1 | H70: Kirchweg, 1 | M70: 17 | N70: Funes, Kirchweg, 1, Tagesmütter | O70: COOP_004_46 | P70: Funes, Kirchweg, 1, Tagesmütter | Q70: Villnöss, Kirchweg, 1, Tagesmütter | R70: 1 | S70: 45931 | T70: 401768
A71: 034 | B71: Gais | C71: Gais | D71: COOP_002 | E71: Coccinella | F71: Coccinella | G71: Via Kehlburg, 1 | H71: Kehlburgstraße, 1 | M71: 19 | N71: Gais, Via Kehlburg, 1, Coccinella | O71: COOP_002_08 | P71: Gais, Via Kehlburg, 1, Coccinella | Q71: Gais, Kehlburgstraße, 1, Coccinella | R71: 1 | S71: 1 | T71: 401768
A72: 035 | B72: Gargazzone | C72: Gargazon | D72: COOP_002 | E72: Coccinella | F72: Coccinella | G72: Piazza Comunale, 6 | H72: Gemeindeplatz, 6 | M72: 23 | N72: Gargazzone, Piazza Comunale, 6, Coccinella | O72: COOP_002_33 | P72: Gargazzone, Piazza Comunale, 6, Coccinella | Q72: Gargazon, Gemeindeplatz, 6, Coccinella | R72: 1 | S72: 45901 | T72: 401768
A73: 036 | B73: Glorenza | C73: Glurns | D73: COOP_018 | E73: LoLa | F73: LoLa | G73: Piazza Municipio, 9 | H73: Rathausplatz, 9 | M73: 15 | N73: Glorenza, Piazza Municipio, 9, LoLa | O73: COOP_018_03 | P73: Glorenza, Piazza Municipio, 9, LoLa | Q73: Glurns, Rathausplatz, 9, LoLa | R73: 1 | S73: 45173 | T73: 401768
A74: 117 | B74: La Valle | C74: Wengen | D74: COOP_020 | E74: Somnias | F74: Somnias | G74: Strada San Senese, 14/A | H74: Strada San Senese, 14/A | M74: 10 | N74: La Valle, Strada San Senese, 14/A, Somnias | O74: COOP_020_01 | P74: La Valle, Strada San Senese, 14/A, Somnias | Q74: Wengen, Strada San Senese, 14/A, Somnias | R74: 1 | S74: 46023 | T74: 401768
A75: 037 | B75: Laces | C75: Latsch | D75: COOP_004 | E75: Tagesmütter | F75: Tagesmütter | G75: Via Principale, 55 | H75: Hauptstraße, 55 | M75: 20 | N75: Laces, Via Principale, 55, Tagesmütter | O75: COOP_004_12 | P75: Laces, Via Principale, 55, Tagesmütter | Q75: Latsch, Hauptstraße, 55, Tagesmütter | R75: 1 | S75: 1 | T75: 401768
A76: 038 | B76: Lagundo | C76: Algund | D76: COOP_001 | E76: Casa Bimbo | F76: Casa Bimbo | G76: Via Birreria, 9 | H76: Brauhausstraße, 9 | M76: 15 | N76: Lagundo, Via Birreria, 9, Casa Bimbo | O76: COOP_001_29 | P76: Lagundo, Via Birreria, 9, Casa Bimbo | Q76: Algund, Brauhausstraße, 9, Casa Bimbo | R76: 1 | S76: 45658 | T76: 401768
A77: 039 | B77: Laion | C77: Lajen | D77: COOP_001 | E77: Casa Bimbo | F77: Casa Bimbo | G77: Via Mitterweg, 4/B | H77: Mitterweg, 4/B | M77: 14 | N77: Laion, Via Mitterweg, 4/B, Casa Bimbo | O77: COOP_001_22 | P77: Laion, Via Mitterweg, 4/B, Casa Bimbo | Q77: Lajen, Mitterweg, 4/B, Casa Bimbo | R77: 1 | S77: 44197 | T77: 401768
A78: 040 | B78: Laives | C78: Leifers | D78: COOP_001 | E78: Casa Bimbo | F78: Casa Bimbo | G78: Via S. Giacomo, 16/S | H78: St. Jakobstraße, 16/S | M78: 29 | N78: Laives, Via S. Giacomo, 16/S, Casa Bimbo | O78: COOP_001_10 | P78: Laives, Via S. Giacomo, 16/S, Casa Bimbo | Q78: Leifers, St. Jakobstraße, 16/S, Casa Bimbo | R78: 1 | S78: 1 | T78: 401768
A79: 041 | B79: Lana | C79: Lana | D79: COOP_013 | E79: Paideias | F79: Paideias | G79: Via Andreas-Hofer, 38 | H79: Andreas-Hofer-Straße, 38 | N79: Lana, Via Andreas-Hofer, 38, Paideias | O79: COOP_013_08 | P79: Lana, Via Andreas-Hofer, 38, Paideias | Q79: Lana, Andreas-Hofer-Straße, 38, Paideias | R79: 1 | S79: 46023 | T79: 401768
A80: 041 | B80: Lana | C80: Lana | D80: COOP_004 | E80: Tagesmütter | F80: Tagesmütter | G80: Via Arciduca Eugenio, 4 | H80: Erzherzog Eugen-Straße, 4 | M80: 16 | N80: Lana, Via Arciduca Eugenio, 4, Tagesmütter | O80: COOP_004_13 | P80: Lana, Via Arciduca Eugenio, 4, Tagesmütter | Q80: Lana, Erzherzog Eugen-Straße, 4, Tagesmütter | R80: 1 | S80: 1 | T80: 401768
A81: 041 | B81: Lana | C81: Lana | D81: COOP_013 | E81: Paideias | F81: Paideias | G81: Via Goldegg, 2 | H81: Goldeggstraße, 2 | M81: 17 | N81: Lana, Via Goldegg, 2, Paideias | O81: COOP_013_05 | P81: Lana, Via Goldegg, 2, Paideias | Q81: Lana, Goldeggstraße, 2, Paideias | R81: 1 | S81: 44817 | T81: 401768
A82: 041 | B82: Lana | C82: Lana | D82: COOP_008 | E82: Popele | F82: Popele | G82: Via Industria, 1/5 | H82: Industriestraße, 1/5 | M82: 21 | N82: Lana, Via Industria, 1/5, Popele | O82: COOP_008_03 | P82: Lana, Via Industria, 1/5, Popele | Q82: Lana, Industriestraße, 1/5, Popele | R82: 1 | S82: 43101 | T82: 401768
A83: 042 | B83: Lasa | C83: Laas | D83: COOP_007 | E83: Die Kinderfreunde Südtirol | F83: Die Kinderfreunde Südtirol | G83: Via Scuola, 4 | H83: Schulweg, 4 | M83: 20 | N83: Lasa, Via Scuola, 4, Die Kinderfreunde Südtirol | O83: COOP_007_16 | P83: Lasa, Via Scuola, 4, Die Kinderfreunde Südtirol | Q83: Laas, Schulweg, 4, Die Kinderfreunde Südtirol | R83: 1 | S83: 44621 | T83: 401768
A84: 044 | B84: Luson | C84: Lüsen | D84: COOP_004 | E84: Tagesmütter | F84: Tagesmütter | G84: Vicolo Sankt Kilian, 2 | H84: Sankt Kilianweg, 2 | M84: 15 | N84: Luson, Vicolo Sankt Kilian, 2 , Tagesmütter | O84: COOP_004_28 | P84: Luson, Vicolo Sankt Kilian, 2 , Tagesmütter | Q84: Lüsen, Sankt Kilianweg, 2, Tagesmütter | R84: 1 | S84: 43556 | T84: 401768
A85: 045 | B85: Magre' s.s.d.v. | C85: Margreid a.d. Weinstr. | D85: COOP_004 | E85: Tagesmütter | F85: Tagesmütter | G85: Via A. Nikoletti, 8 | H85: A. Nikoletti Straße, 8 | M85: 10 | N85: Magre' s.s.d.v., Via A. Nikoletti, 8, Tagesmütter | O85: COOP_004_37 | P85: Magre' s.s.d.v., Via A. Nikoletti, 8, Tagesmütter | Q85: Margreid a.d. Weinstr., A. Nikoletti Straße, 8, Tagesmütter | R85: 1 | S85: 45201 | T85: 401768
A86: 046 | B86: Malles | C86: Mals | D86: COOP_007 | E86: Die Kinderfreunde Südtirol | F86: Die Kinderfreunde Südtirol | G86: Via Generale I. Verdross, 17 | H86: General I. Verdross-Straße, 17 | M86: 20 | N86: Malles, Via Generale I. Verdross, 17, Die Kinderfreunde Südtirol | O86: COOP_007_06 | P86: Malles, Via Generale I. Verdross, 17, Die Kinderfreunde Südtirol | Q86: Mals, General I. Verdross-Straße, 17, Die Kinderfreunde Südtirol | R86: 1 | S86: 1 | T86: 401768
A87: 047 | B87: Marebbe | C87: Enneberg | D87: COOP_001 | E87: Casa Bimbo | F87: Casa Bimbo | G87: Str. Plan de Corones, 34 | H87: Str. Plan de Corones, 34 | I87: S. Vigilio | J87: St. Vigil | M87: 25 | N87: Marebbe - S. Vigilio, Str. Plan de Corones, 34, Casa Bimbo | O87: COOP_001_27 | P87: Marebbe - S. Vigilio, Str. Plan de Corones, 34, Casa Bimbo | Q87: Enneberg - St. Vigil, Str. Plan de Corones, 34, Casa Bimbo | R87: 1 | S87: 1 | T87: 401768
A88: 049 | B88: Martello | C88: Martell | D88: COOP_004 | E88: Tagesmütter | F88: Tagesmütter | G88: Maiern, 227 | H88: Maiern, 227 | M88: 18 | N88: Martello, Maiern, 227, Tagesmütter | O88: COOP_004_41 | P88: Martello, Maiern, 227, Tagesmütter | Q88: Martell, Maiern, 227, Tagesmütter | R88: 1 | S88: 45383 | T88: 401768
A89: 050 | B89: Meltina | C89: Mölten | D89: COOP_002 | E89: Coccinella | F89: Coccinella | G89: Via Möltner, 88 | H89: Möltnerstrasse, 88 | M89: 15 | N89: Meltina, Via Möltner, 88, Coccinella | O89: COOP_002_32 | P89: Meltina, Via Möltner, 88, Coccinella | Q89: Mölten, Möltnerstrasse, 88, Coccinella | R89: 1 | S89: 45748 | T89: 401768
A90: 051 | B90: Merano | C90: Meran | D90: COOP_008 | E90: Popele | F90: Popele | G90: Piazza Vittorio Veneto, 10 | H90: Vittorio Veneto-Platz, 10 | I90: Sinigo | J90: Sinich | M90: 22 | N90: Merano - Sinigo, Piazza Vittorio Veneto, 10, Popele | O90: COOP_008_02 | P90: Merano - Sinigo, Piazza Vittorio Veneto, 10, Popele | Q90: Meran - Sinich, Vittorio Veneto-Platz, 10, Popele | R90: 1 | S90: 1 | T90: 401768
A91: 051 | B91: Merano | C91: Meran | D91: COOP_001 | E91: Casa Bimbo | F91: Casa Bimbo | G91: Via Goethe, 15 | H91: Goethestraße, 15 | M91: 10 | N91: Merano, Via Goethe, 15, Casa Bimbo | O91: COOP_001_11 | P91: Merano, Via Goethe, 15, Casa Bimbo | Q91: Meran, Goethestraße, 15, Casa Bimbo | R91: 1 | S91: 43454 | T91: 401768
A92: 051 | B92: Merano | C92: Meran | D92: COOP_002 | E92: Coccinella | F92: Coccinella | G92: Via Haller, 40 | H92: Hallerstraße, 40 | M92: 20 | N92: Merano, Via Haller, 40, Coccinella | O92: COOP_002_09 | P92: Merano, Via Haller, 40, Coccinella | Q92: Meran, Hallerstraße, 40, Coccinella | R92: 1 | S92: 1 | T92: 401768
A93: 051 | B93: Merano | C93: Meran | D93: COOP_001 | E93: Casa Bimbo | F93: Casa Bimbo | G93: Via Marlengo, 61/A | H93: Marlingerstraße, 61/A | M93: 20 | N93: Merano, Via Marlengo, 61/A, Casa Bimbo | O93: COOP_001_12 | P93: Merano, Via Marlengo, 61/A, Casa Bimbo | Q93: Meran, Marlingerstraße, 61/A, Casa Bimbo | R93: 1 | S93: 1 | T93: 401768
A94: 051 | B94: Merano | C94: Meran | D94: COOP_001 | E94: Casa Bimbo | F94: Casa Bimbo | G94: Via Marlengo, 61/F | H94: Marlingerstraße, 61/F | K94: aziendale | L94: betriebliche | M94: 18 | N94: Merano, Via Marlengo, 61/F, Casa Bimbo (aziendale) | O94: COOP_001_13 | P94: Merano, Via Marlengo, 61/F, Casa Bimbo (aziendale) | Q94: Meran, Marlingerstraße, 61/F, Casa Bimbo (betriebliche) | R94: 1 | S94: 1 | T94: 401768
A95: 052 | B95: Monguelfo-Tesido | C95: Welsberg-Taisten | D95: COOP_007 | E95: Die Kinderfreunde Südtirol | F95: Die Kinderfreunde Südtirol | G95: Via Paul Troger, 11 | H95: Paul Troger Straße, 11 | M95: 8 | N95: Monguelfo-Tesido, Via Paul Troger, 11, Die Kinderfreunde Südtirol | O95: COOP_007_18 | P95: Monguelfo-Tesido, Via Paul Troger, 11, Die Kinderfreunde Südtirol | Q95: Welsberg-Taisten, Paul Troger Straße, 11, Die Kinderfreunde Südtirol | R95: 1 | S95: 45236 | T95: 401768
A96: 053 | B96: Montagna | C96: Montan | D96: COOP_004 | E96: Tagesmütter | F96: Tagesmütter | G96: Via delle Scuole, 6 | H96: Schulhausstraße, 6 | I96: Fontanefredde | J96: Kaltenbrunn | M96: 10 | N96: Montagna - Fontanefredde, Via delle Scuole, 6, Tagesmütter | O96: COOP_004_31 | P96: Montagna - Fontanefredde, Via delle Scuole, 6, Tagesmütter | Q96: Montan - Kaltenbrunn, Schulhausstraße, 6, Tagesmütter | R96: 1 | S96: 44105 | T96: 401768
A97: 055 | B97: Nalles | C97: Nals | D97: COOP_011 | E97: S. Elisabetta | F97: St. Elisabeth | G97: Via Vilpiano, 27 | H97: Vilpianerstraße, 27 | M97: 16 | N97: Nalles, Via Vilpiano, 27, S. Elisabetta | O97: COOP_011_01 | P97: Nalles, Via Vilpiano, 27, S. Elisabetta | Q97: Nals, Vilpianerstraße, 27, St. Elisabeth | R97: 1 | S97: 43831 | T97: 401768
A98: 056 | B98: Naturno | C98: Naturns | D98: COOP_004 | E98: Tagesmütter | F98: Tagesmütter | G98: Via dell'Industria, 5 | H98: Industriestraße, 5 | K98: aziendale | L98: betriebliche | M98: 19 | N98: Naturno, Via dell'Industria, 5, Tagesmütter (aziendale) | O98: COOP_004_34 | P98: Naturno, Via dell'Industria, 5, Tagesmütter (aziendale) | Q98: Naturns, Industriestraße, 5, Tagesmütter (betriebliche) | R98: 1 | S98: 44927 | T98: 401768
A99: 056 | B99: Naturno | C99: Naturns | D99: COOP_004 | E99: Tagesmütter | F99: Tagesmütter | G99: Via Gustav Flora, 10 | H99: Gustav Flora-Straße, 10 | M99: 20 | N99: Naturno, Via Gustav Flora, 10, Tagesmütter | O99: COOP_004_14 | P99: Naturno, Via Gustav Flora, 10, Tagesmütter | Q99: Naturns, Gustav Flora-Straße, 10, Tagesmütter | R99: 1 | S99: 1 | T99: 401768
A100: 057 | B100: Naz-Sciaves | C100: Natz-Schabs | D100: COOP_002 | E100: Coccinella | F100: Coccinella | G100: Via S. Margareth, 8/C | H100: St. Margareth Straße, 8/C | M100: 30 | N100: Naz-Sciaves, Via S. Margareth, 8/C, Coccinella | O100: COOP_002_30 | P100: Naz-Sciaves, Via S. Margareth, 8/C, Coccinella | Q100: Natz-Schabs, St. Margareth Straße, 8/C, Coccinella | R100: 1 | S100: 45714 | T100: 401768
...

Sheet LK_Comuni
A1: Com_Desc_I | B1: COM_CODE | C1: Com_Desc_D | D1: COM_DESC_BIL
A2: Aldino | B2: 001 | C2: Aldein | D2: Aldein / Aldino
A3: Andriano | B3: 002 | C3: Andrian | D3: Andrian / Andriano
A4: Anterivo | B4: 003 | C4: Altrei | D4: Altrei / Anterivo
A5: Appiano s.s.d.v. | B5: 004 | C5: Eppan a.d. Weinstr. | D5: Eppan a.d. Weinstr. / Appiano s.s.d.v.
A6: Avelengo | B6: 005 | C6: Hafling | D6: Hafling / Avelengo
A7: Badia | B7: 006 | C7: Abtei | D7: Abtei / Badia
A8: Barbiano | B8: 007 | C8: Barbian | D8: Barbian / Barbiano
A9: Bolzano | B9: 008 | C9: Bozen | D9: Bozen / Bolzano
A10: Braies | B10: 009 | C10: Prags | D10: Prags / Braies
A11: Brennero | B11: 010 | C11: Brenner | D11: Brenner / Brennero
A12: Bressanone | B12: 011 | C12: Brixen | D12: Brixen / Bressanone
... A117: Vipiteno | B117: 115 | C117: Sterzing | D117: Sterzing / Vipiteno
A118: Comunità comprensoriale Wipptal | B118: CP_1 | C118: Bezirksgemeinschaft Wipptal

Sheet Parameters
A1: PAR_ID | B1: PAR_VALUE
A2: MinTarOrario | B2: 0.9
A3: MaxTarOra | B3: 3.65
A6: Originale | B6: Original | C6: Originale
A7: Corretto d'ufficio | B7: Von Amts wegen korrigiert | C7: Corretto d'ufficio
