Workbook
Name Betrag_der_in_der_vorliegenden_Abrechnung_abzurechnenden_Kosten: '4. Übersicht'!$D$5
Name Tabelle1: '4. Übersicht'!$D$5

Sheet Anleitungen
A1: ANLEITUNGEN ZUR AUSFÜLLUNG UND EINREICHUNG
A3: Diese Datei besteht aus 5 Blättern:
A4: 1. Liste der Ausgaben nack Kostenart 2. Details zu den Personalkosten 3. Details zu den Kosten für Instrumente 4. Übersicht 5. Erklärungen über Ausgaben und Voraussetzungen
A6: 1. Füllen Sie die Datei mit allen relevanten Angaben aus, damit die Art, das Datum und die Höhe der Ausgaben nachvollziehbar und auf die jeweiligen Belege und durchgeführten Tätigkeiten zurückführbar sind.
A8: Bitte, beachten Sie dass:
A9: im Blatt 1. Ausgaben nach Kostenart:
A11: -der Punkt 1. PERSONALKOSTEN sich auf den Lohn für die Forscherin/den Forscher in Mobilität bezieht.
A12: Details über das Personal müssen auch in Blatt 2 angegeben werden.
A13: Diese Ausgaben werden unter dem Anteil A berechnet.
A15: der Punkt 2. KOSTEN FÜR MOBILITÄT sich auf die Ausgaben für den Umzug der Forscherin / des Forschers in Mobilität bezieht, wie z.B. Hin- und Rückfahrt zur gastgebenden Einrichtung, die Kosten für die Miete oder für das Visum…
A16: Diese Ausgaben werden unter dem Anteil B berechnet.
A18: - der Punkt 3. KOSTEN FÜR MOBILITÄT der FAMILIE sich auf die Kosten für den Umzug der Familie (Reise und Unterkunftskosten, Visa…) bezieht.
... A39: Vielen Dank!

Sheet 1. Ausgaben nach Kostenarten
A1: AUFLISTUNG DER AUSGABEN FÜR DIE DURCHFÜHRUNG DES FORSCHUNGSPROJEKTES Führen Sie alle Ausgaben an, die in die vorliegende Abrechnung fallen. Ordnen Sie die entsprechenden Ausgaben den jeweiligen Kostenarten zu.
B2: Titel:
B3: CUP:
B4: Einrichtung:
B7: 1. PERSONALKOSTEN (Forscher /Forscherin In in Mobilität)
B8: Ausgabenbeleg | E8: Ausgestellt von | F8: Beschreibung (und Name der Mitarbeiterin/des Mitarbeiters) | G8: Event. zusätzliche informationen | H8: Betrag (in Euro) | I8: betreffende WP/Aktivitäten | J8: Abzurechnender Betrag
A9: n° | B9: Art des Belegs | C9: Nummer | D9: Datum | J9: zu Lasten der Projektmittel | K9: zu Lasten des Fördernehmers (Eigenmittel) oder anderer Fördermittel
A10: 1
A11: 2
A12: 3
A13: 4
A14: 5
A15: 6
A16: 7
A17: 8
A18: 9
A19: 10
A20: 11
A21: 12
... A24: 15
A26: …
B27: Zwischensumme Personalkosten | H27: =SUM(H10:H26) -> 0 | J27: =SUM(J10:J26) -> 0 | K27: =SUM(K10:K26) -> 0
B28: 2. KOSTEN FÜR MOBILITÄT DER FORSCHERIN/ DES FORSCHERS
B29: Ausgabenbeleg | E29: Ausgestellt von | F29: Beschreibung | G29: Event. zusätzliche informationen | H29: Betrag (in Euro) | I29: betreffende WP/Aktivitäten | J29: Abzurechnender Betrag
A30: n° | B30: Art des Belegs | C30: Nummer | D30: Datum | J30: zu Lasten der Projektmittel | K30: zu Lasten des Fördernehmers (Eigenmittel) oder anderer Fördermittel
A31: 1
A32: 2
A33: 3
A34: 4
A35: 5
A36: 6
A37: 7
A38: 8
A39: 9
A40: 10
A41: 11
A42: 12
... A45: 15
A46: …
B47: Zwischensumme Reisekosten und Mobilitaet der Forscherin / des Forschers | H47: =SUM(H31:H46) -> 0 | J47: =SUM(J31:J46) -> 0 | K47: =SUM(K31:K46) -> 0
...

Sheet 2. Personalkosten - Details
A1: Zu 1. ZUSÄTZLICHE INFORMATIONEN ZU DEN PERSONALKOSTEN Bitte geben Sie alle Mitglieder des Projektteams an, deren Personalkosten hiermit abgerechnet werden:
A3: n° | B3: Nachname | C3: Name | D3: Qualifikation und Einstufung | E3: Einrichtung/Universität | F3: Fakultät/Institut | G3: Zeit, die dem Projekt im betreffenden Zeitraum gewidmet wurde (insgesamt, in Arbeitsstunden) | H3: Zeitraum, in dem am Projekt gearbeitet wurde (MM/JJJJ-MM/JJJJ) | I3: Betreffende WP/Aktivitäten
A5: 1
A6: 2
A7: 3
A8: 4
A9: 5
A10: 6
A11: 7
A12: 8
A13: 9
A14: 10
A15: 11
A16: 12
... A19: 15
A20: …

Sheet 3. Kosten Instrumente - Details
A1: Zu 2.1 ZUSÄTZLICHE INFORMATIONEN ZU DEN KOSTEN FÜR INSTRUMENTE UND AUSRÜSTUNG ÜBER 1.500,00 EURO (OHNE MWST.)
B3: Ausgabenbeleg | E3: Lieferant/Ausgestellt von | F3: Beschreibung | G3: Anschaffungswert (ohne MwSt.) in Euro | H3: Dauer (Lebenszyklus) des Instrumentes oder der Ausrüstung in Monaten | I3: Monate der Nutzung für das Projekt
A4: n° | B4: Art des Belegs | C4: Nummer | D4: Datum
A5: 1 | B5: ='1. Ausgaben nach Kostenarten'!B72 -> 0 | C5: ='1. Ausgaben nach Kostenarten'!C72 -> 0 | D5: ='1. Ausgaben nach Kostenarten'!D72 -> 0 | E5: ='1. Ausgaben nach Kostenarten'!E72 -> 0 | F5: ='1. Ausgaben nach Kostenarten'!F72 -> 0 | G5: ='1. Ausgaben nach Kostenarten'!H72 -> 0
A6: 2 | B6: ='1. Ausgaben nach Kostenarten'!B73 -> 0 | C6: ='1. Ausgaben nach Kostenarten'!C73 -> 0 | D6: ='1. Ausgaben nach Kostenarten'!D73 -> 0 | E6: ='1. Ausgaben nach Kostenarten'!E73 -> 0 | F6: ='1. Ausgaben nach Kostenarten'!F73 -> 0 | G6: ='1. Ausgaben nach Kostenarten'!H73 -> 0
A7: 3 | B7: ='1. Ausgaben nach Kostenarten'!B74 -> 0 | C7: ='1. Ausgaben nach Kostenarten'!C74 -> 0 | D7: ='1. Ausgaben nach Kostenarten'!D74 -> 0 | E7: ='1. Ausgaben nach Kostenarten'!E74 -> 0 | F7: ='1. Ausgaben nach Kostenarten'!F74 -> 0 | G7: ='1. Ausgaben nach Kostenarten'!H74 -> 0
A8: 4 | B8: ='1. Ausgaben nach Kostenarten'!B75 -> 0 | C8: ='1. Ausgaben nach Kostenarten'!C75 -> 0 | D8: ='1. Ausgaben nach Kostenarten'!D75 -> 0 | E8: ='1. Ausgaben nach Kostenarten'!E75 -> 0 | F8: ='1. Ausgaben nach Kostenarten'!F75 -> 0 | G8: ='1. Ausgaben nach Kostenarten'!H75 -> 0
A9: 5 | B9: ='1. Ausgaben nach Kostenarten'!B76 -> 0 | C9: ='1. Ausgaben nach Kostenarten'!C76 -> 0 | D9: ='1. Ausgaben nach Kostenarten'!D76 -> 0 | E9: ='1. Ausgaben nach Kostenarten'!E76 -> 0 | F9: ='1. Ausgaben nach Kostenarten'!F76 -> 0 | G9: ='1. Ausgaben nach Kostenarten'!H76 -> 0
A10: 6 | B10: ='1. Ausgaben nach Kostenarten'!B77 -> 0 | C10: ='1. Ausgaben nach Kostenarten'!C77 -> 0 | D10: ='1. Ausgaben nach Kostenarten'!D77 -> 0 | E10: ='1. Ausgaben nach Kostenarten'!E77 -> 0 | F10: ='1. Ausgaben nach Kostenarten'!F77 -> 0 | G10: ='1. Ausgaben nach Kostenarten'!H77 -> 0
A11: 7 | B11: ='1. Ausgaben nach Kostenarten'!B78 -> 0 | C11: ='1. Ausgaben nach Kostenarten'!C78 -> 0 | D11: ='1. Ausgaben nach Kostenarten'!D78 -> 0 | E11: ='1. Ausgaben nach Kostenarten'!E78 -> 0 | F11: ='1. Ausgaben nach Kostenarten'!F78 -> 0 | G11: ='1. Ausgaben nach Kostenarten'!H78 -> 0
A12: 8 | B12: ='1. Ausgaben nach Kostenarten'!B79 -> 0 | C12: ='1. Ausgaben nach Kostenarten'!C79 -> 0 | D12: ='1. Ausgaben nach Kostenarten'!D79 -> 0 | E12: ='1. Ausgaben nach Kostenarten'!E79 -> 0 | F12: ='1. Ausgaben nach Kostenarten'!F79 -> 0 | G12: ='1. Ausgaben nach Kostenarten'!H79 -> 0
A13: 9 | B13: ='1. Ausgaben nach Kostenarten'!B80 -> 0 | C13: ='1. Ausgaben nach Kostenarten'!C80 -> 0 | D13: ='1. Ausgaben nach Kostenarten'!D80 -> 0 | E13: ='1. Ausgaben nach Kostenarten'!E80 -> 0 | F13: ='1. Ausgaben nach Kostenarten'!F80 -> 0 | G13: ='1. Ausgaben nach Kostenarten'!H80 -> 0
A14: 10 | B14: ='1. Ausgaben nach Kostenarten'!B81 -> 0 | C14: ='1. Ausgaben nach Kostenarten'!C81 -> 0 | D14: ='1. Ausgaben nach Kostenarten'!D81 -> 0 | E14: ='1. Ausgaben nach Kostenarten'!E81 -> 0 | F14: ='1. Ausgaben nach Kostenarten'!F81 -> 0 | G14: ='1. Ausgaben nach Kostenarten'!H81 -> 0
A15: 11 | B15: ='1. Ausgaben nach Kostenarten'!B82 -> 0 | C15: ='1. Ausgaben nach Kostenarten'!C82 -> 0 | D15: ='1. Ausgaben nach Kostenarten'!D82 -> 0 | E15: ='1. Ausgaben nach Kostenarten'!E82 -> 0 | F15: ='1. Ausgaben nach Kostenarten'!F82 -> 0 | G15: ='1. Ausgaben nach Kostenarten'!H82 -> 0
A16: 12 | B16: ='1. Ausgaben nach Kostenarten'!B83 -> 0 | C16: ='1. Ausgaben nach Kostenarten'!C83 -> 0 | D16: ='1. Ausgaben nach Kostenarten'!D83 -> 0 | E16: ='1. Ausgaben nach Kostenarten'!E83 -> 0 | F16: ='1. Ausgaben nach Kostenarten'!F83 -> 0 | G16: ='1. Ausgaben nach Kostenarten'!H83 -> 0
... A19: 15 | B19: ='1. Ausgaben nach Kostenarten'!B86 -> 0 | C19: ='1. Ausgaben nach Kostenarten'!C86 -> 0 | D19: ='1. Ausgaben nach Kostenarten'!D86 -> 0 | E19: ='1. Ausgaben nach Kostenarten'!E86 -> 0 | F19: ='1. Ausgaben nach Kostenarten'!F86 -> 0 | G19: ='1. Ausgaben nach Kostenarten'!H86 -> 0
A20: …

Sheet 4. Übersicht
A1: ZUSAMMENFASSENDE ÜBERSICHT
B3: A | C3: B | D3: C | E3: D=B+C | F3: E=A-D-G | G3: F | H3: G
A4: Art der Ausgabe | B4: Anerkannte Kosten (laut Fördervereinbarung bzw. vom Amt genehmigte Umschichtungen) | C4: Betrag der mit vorhergehenden Abrechnungen abgerechneten und zugelassenen Kosten | D4: Betrag der mit der vorliegenden Abrechnung abzurechnenden Kosten | E4: Summe der bisherigen Abrechnungen | F4: Offener Betrag/noch abzurechnender Betrag | G4: auf das folgende Jahr verschobener Betrag | H4: Betrag in Erhausung /nicht mehr verfügbar
A5: 1. PERSONALKOSTEN FORSCHERIN/FORSCHER | D5: ='1. Ausgaben nach Kostenarten'!J27 -> 0 | E5: =C5+D5 -> 0 | F5: =$B5-$E5-$H5 -> 0
A6: 2. KOSTEN FÜR MOBILITÄT | D6: ='1. Ausgaben nach Kostenarten'!J47 -> 0 | E6: =C6+D6 -> 0 | F6: =$B6-$E6-$H6 -> 0
A7: 3. KOSTEN FÜR MOBILITÄT FAMILIE | D7: ='1. Ausgaben nach Kostenarten'!J67 -> 0 | E7: =C7+D7 -> 0 | F7: =$B7-$E7-$H7 -> 0
A8: 4. PROJEKTSKOSTEN | D8: ='1. Ausgaben nach Kostenarten'!J130 -> 0 | E8: =C8+D8 -> 0 | F8: =$B8-$E8-$H8 -> 0
A9: 5. VERWALTUNGSKOSTEN | D9: ='1. Ausgaben nach Kostenarten'!J150 -> 0 | E9: =C9+D9 -> 0 | F9: =$B9-$E9-$H9 -> 0
A10: GESAMTKOSTEN | B10: =SUM(B5:B9) -> 0 | C10: =SUM(C5:C9) -> 0 | D10: =SUM(D5:D9) -> 0 | E10: =SUM(E5:E9) -> 0 | F10: =SUM(F5:F9) -> 0 | G10: =SUM(G5:G9) -> 0 | H10: =SUM(H5:H9) -> 0
A14: Eventuelle Anmerkungen:

Sheet 5. Erklärungen
A1: ='1. Ausgaben nach Kostenarten'!B2 -> Titel: | B1: {='1. Ausgaben nach Kostenarten'!C2:F2} -> 0 | C1: 0 | D1: 0 | E1: 0
A2: ='1. Ausgaben nach Kostenarten'!B3 -> CUP: | B2: ='1. Ausgaben nach Kostenarten'!C3 -> 0
B4: Der/die unterfertigte __________________________________ geboren in ___ am________ mit Wohnsitz in___________________ Steuernummer_____________
B6: in Kenntnis der strafrechtlichen Folgen von Falscherklärungen laut D.P.R. vom 28. Dezember 2000, Nr. 445, Art. 76, d
B8: ERKLÄRT UNTER EIGENER VERANTWORTUNG
B10: als gesetzliche/er VertreterIn der Einrichtung
B11: ='1. Ausgaben nach Kostenarten'!C4 -> 0
B12: dass:
B14: 1) die hier aufgelisteten Ausgaben effektiv bestritten wurden,
B16: 2) keine wirtschaftlichen Vergünstigungen für dieselben Ausgaben in Anspruch genommen wurden,
B18: 3) die entsprechenden Ausgabenbelege im Besitz der von mir vertretenen Einrichtung sind, die sich verpflichtet, sie 10 Jahre lang ab ihrer Ausstellung/Registrierung aufzubewahren
B20: 4) die gesetzlichen Voraussetzungen und Bedingungen für die von mir vertretene Einrichtung gegeben sind und fortbestehen
B22: 5) ich mir der Folgen bei nicht wahrheitsgemäßen Erklärungen oder Vorenthaltung notwendiger Informationen bewusst bin.
B25: Der/die gesetzliche Vertreter/in
B26: (Datum und Unterschrift)
